BEGIN:VCALENDAR
VERSION:2.0
PRODID:-//AFLabs urnik izvoz - fpp//aflabs.si//SI
DTSTAMP:20260422T045643Z
NAME:UL FPP Urnik
REFRESH-INTERVAL:PT1H
SOURCE:https://afurnik-fpp.dev.aflabs.org/en/teacher/12?day=2026-01-19&exp
 ort=1
URL:https://afurnik-fpp.dev.aflabs.org/en/teacher/12?day=2026-01-19&export
 =1
X-PUBLISHED-TTL:PT1H
X-WR-CALNAME:UL FPP Urnik
X-WR-TIMEZONE:Europe/Ljubljana
BEGIN:VTIMEZONE
TZID:Europe/Ljubljana
BEGIN:DAYLIGHT
DTSTART:20260329T020000
RDATE:20260329T020000
RDATE:20270328T020000
TZNAME:CEST
TZOFFSETFROM:+0100
TZOFFSETTO:+0200
END:DAYLIGHT
BEGIN:STANDARD
DTSTART:20261025T030000
RDATE:20261025T030000
RDATE:20271031T030000
TZNAME:CET
TZOFFSETFROM:+0200
TZOFFSETTO:+0100
END:STANDARD
END:VTIMEZONE
BEGIN:VEVENT
SUMMARY:Digitalizacija v prometu (PROM2) (DP)\, Predavanje (P)
DTSTART;TZID=Europe/Ljubljana:20251217T162000
DTEND;TZID=Europe/Ljubljana:20251217T184500
DTSTAMP:20260422T045643Z
UID:fpp-AFLABS-URNIK:premaknjeno-srecanje:17652
ATTENDEE:2. letnik (PROM2)
CATEGORIES:Entry,Standard
COLOR:darkgreen
DESCRIPTION:Predmet: Digitalizacija v prometu (PROM2) (DP)\, Predavanje (P
 )\nLetniki: 2. letnik (PROM2)\nIzvajalci: Franc Dimc\, Blaž Luin\nProstor
 : 203
LOCATION:203
ORGANIZER:Franc Dimc, Blaž Luin
RELATED-TO:fpp-AFLABS-URNIK:srecanje:526
X-WR-TIMEZONE:Europe/Ljubljana
END:VEVENT
BEGIN:VEVENT
SUMMARY:Digitalizacija v prometu (PROM2) (DP)\, Predavanje (P)
DTSTART;TZID=Europe/Ljubljana:20251224T162000
DTEND;TZID=Europe/Ljubljana:20251224T184500
DTSTAMP:20260422T045643Z
UID:fpp-AFLABS-URNIK:premaknjeno-srecanje:17653
ATTENDEE:2. letnik (PROM2)
CATEGORIES:Entry,Standard
COLOR:darkgreen
DESCRIPTION:Predmet: Digitalizacija v prometu (PROM2) (DP)\, Predavanje (P
 )\nLetniki: 2. letnik (PROM2)\nIzvajalci: Franc Dimc\, Blaž Luin\nProstor
 : 203
LOCATION:203
ORGANIZER:Franc Dimc, Blaž Luin
RELATED-TO:fpp-AFLABS-URNIK:srecanje:526
X-WR-TIMEZONE:Europe/Ljubljana
END:VEVENT
BEGIN:VEVENT
SUMMARY:Digitalizacija v prometu (PROM2) (DP)\, Predavanje (P)
DTSTART;TZID=Europe/Ljubljana:20251231T162000
DTEND;TZID=Europe/Ljubljana:20251231T184500
DTSTAMP:20260422T045643Z
UID:fpp-AFLABS-URNIK:premaknjeno-srecanje:17654
ATTENDEE:2. letnik (PROM2)
CATEGORIES:Entry,Standard
COLOR:darkgreen
DESCRIPTION:Predmet: Digitalizacija v prometu (PROM2) (DP)\, Predavanje (P
 )\nLetniki: 2. letnik (PROM2)\nIzvajalci: Franc Dimc\, Blaž Luin\nProstor
 : 203
LOCATION:203
ORGANIZER:Franc Dimc, Blaž Luin
RELATED-TO:fpp-AFLABS-URNIK:srecanje:526
X-WR-TIMEZONE:Europe/Ljubljana
END:VEVENT
BEGIN:VEVENT
SUMMARY:Digitalizacija v prometu (PROM2) (DP)\, Predavanje (P)
DTSTART;TZID=Europe/Ljubljana:20260107T162000
DTEND;TZID=Europe/Ljubljana:20260107T184500
DTSTAMP:20260422T045643Z
UID:fpp-AFLABS-URNIK:premaknjeno-srecanje:17655
ATTENDEE:2. letnik (PROM2)
CATEGORIES:Entry,Standard
COLOR:darkgreen
DESCRIPTION:Predmet: Digitalizacija v prometu (PROM2) (DP)\, Predavanje (P
 )\nLetniki: 2. letnik (PROM2)\nIzvajalci: Franc Dimc\, Blaž Luin\nProstor
 : 203
LOCATION:203
ORGANIZER:Franc Dimc, Blaž Luin
RELATED-TO:fpp-AFLABS-URNIK:srecanje:526
X-WR-TIMEZONE:Europe/Ljubljana
END:VEVENT
BEGIN:VEVENT
SUMMARY:Digitalizacija v prometu (PROM2) (DP)\, Predavanje (P)
DTSTART;TZID=Europe/Ljubljana:20260114T162000
DTEND;TZID=Europe/Ljubljana:20260114T184500
DTSTAMP:20260422T045643Z
UID:fpp-AFLABS-URNIK:premaknjeno-srecanje:17656
ATTENDEE:2. letnik (PROM2)
CATEGORIES:Entry,Standard
COLOR:darkgreen
DESCRIPTION:Predmet: Digitalizacija v prometu (PROM2) (DP)\, Predavanje (P
 )\nLetniki: 2. letnik (PROM2)\nIzvajalci: Franc Dimc\, Blaž Luin\nProstor
 : 203
LOCATION:203
ORGANIZER:Franc Dimc, Blaž Luin
RELATED-TO:fpp-AFLABS-URNIK:srecanje:526
X-WR-TIMEZONE:Europe/Ljubljana
END:VEVENT
BEGIN:VEVENT
SUMMARY:Digitalizacija v prometu (PROM2) (DP)\, Seminar (S)
DTSTART;TZID=Europe/Ljubljana:20251217T185000
DTEND;TZID=Europe/Ljubljana:20251217T193500
DTSTAMP:20260422T045643Z
UID:fpp-AFLABS-URNIK:premaknjeno-srecanje:17684
ATTENDEE:2. letnik (PROM2)
CATEGORIES:Entry,Standard
COLOR:darkgreen
DESCRIPTION:Predmet: Digitalizacija v prometu (PROM2) (DP)\, Seminar (S)\n
 Letniki: 2. letnik (PROM2)\nIzvajalci: Franc Dimc\nProstor: R1
LOCATION:R1
ORGANIZER:Franc Dimc
RELATED-TO:fpp-AFLABS-URNIK:srecanje:527
X-WR-TIMEZONE:Europe/Ljubljana
END:VEVENT
BEGIN:VEVENT
SUMMARY:Digitalizacija v prometu (PROM2) (DP)\, Seminar (S)
DTSTART;TZID=Europe/Ljubljana:20251224T185000
DTEND;TZID=Europe/Ljubljana:20251224T193500
DTSTAMP:20260422T045643Z
UID:fpp-AFLABS-URNIK:premaknjeno-srecanje:17685
ATTENDEE:2. letnik (PROM2)
CATEGORIES:Entry,Standard
COLOR:darkgreen
DESCRIPTION:Predmet: Digitalizacija v prometu (PROM2) (DP)\, Seminar (S)\n
 Letniki: 2. letnik (PROM2)\nIzvajalci: Franc Dimc\nProstor: R1
LOCATION:R1
ORGANIZER:Franc Dimc
RELATED-TO:fpp-AFLABS-URNIK:srecanje:527
X-WR-TIMEZONE:Europe/Ljubljana
END:VEVENT
BEGIN:VEVENT
SUMMARY:Digitalizacija v prometu (PROM2) (DP)\, Seminar (S)
DTSTART;TZID=Europe/Ljubljana:20251231T185000
DTEND;TZID=Europe/Ljubljana:20251231T193500
DTSTAMP:20260422T045643Z
UID:fpp-AFLABS-URNIK:premaknjeno-srecanje:17686
ATTENDEE:2. letnik (PROM2)
CATEGORIES:Entry,Standard
COLOR:darkgreen
DESCRIPTION:Predmet: Digitalizacija v prometu (PROM2) (DP)\, Seminar (S)\n
 Letniki: 2. letnik (PROM2)\nIzvajalci: Franc Dimc\nProstor: R1
LOCATION:R1
ORGANIZER:Franc Dimc
RELATED-TO:fpp-AFLABS-URNIK:srecanje:527
X-WR-TIMEZONE:Europe/Ljubljana
END:VEVENT
BEGIN:VEVENT
SUMMARY:Digitalizacija v prometu (PROM2) (DP)\, Seminar (S)
DTSTART;TZID=Europe/Ljubljana:20260107T185000
DTEND;TZID=Europe/Ljubljana:20260107T193500
DTSTAMP:20260422T045643Z
UID:fpp-AFLABS-URNIK:premaknjeno-srecanje:17687
ATTENDEE:2. letnik (PROM2)
CATEGORIES:Entry,Standard
COLOR:darkgreen
DESCRIPTION:Predmet: Digitalizacija v prometu (PROM2) (DP)\, Seminar (S)\n
 Letniki: 2. letnik (PROM2)\nIzvajalci: Franc Dimc\nProstor: R1
LOCATION:R1
ORGANIZER:Franc Dimc
RELATED-TO:fpp-AFLABS-URNIK:srecanje:527
X-WR-TIMEZONE:Europe/Ljubljana
END:VEVENT
BEGIN:VEVENT
SUMMARY:Digitalizacija v prometu (PROM2) (DP)\, Seminar (S)
DTSTART;TZID=Europe/Ljubljana:20260114T185000
DTEND;TZID=Europe/Ljubljana:20260114T193500
DTSTAMP:20260422T045643Z
UID:fpp-AFLABS-URNIK:premaknjeno-srecanje:17688
ATTENDEE:2. letnik (PROM2)
CATEGORIES:Entry,Standard
COLOR:darkgreen
DESCRIPTION:Predmet: Digitalizacija v prometu (PROM2) (DP)\, Seminar (S)\n
 Letniki: 2. letnik (PROM2)\nIzvajalci: Franc Dimc\nProstor: R1
LOCATION:R1
ORGANIZER:Franc Dimc
RELATED-TO:fpp-AFLABS-URNIK:srecanje:527
X-WR-TIMEZONE:Europe/Ljubljana
END:VEVENT
BEGIN:VEVENT
SUMMARY:Ladijske elektronske naprave (N) (LEN)\, Predavanje (P)
DTSTART;TZID=Europe/Ljubljana:20251218T085000
DTEND;TZID=Europe/Ljubljana:20251218T102500
DTSTAMP:20260422T045643Z
UID:fpp-AFLABS-URNIK:premaknjeno-srecanje:30267
ATTENDEE:2. letnik (N, SS)
ATTENDEE:2. letnik (N, VS)
CATEGORIES:Entry,Standard
COLOR:darkgreen
DESCRIPTION:Predmet: Ladijske elektronske naprave (N) (LEN)\, Predavanje (
 P)\nLetniki: 2. letnik (N\, SS)\, 2. letnik (N\, VS)\nIzvajalci: Franc Dim
 c\nProstor: POSEIDON (PO1+PO2)
LOCATION:POSEIDON (PO1+PO2)
ORGANIZER:Franc Dimc
RELATED-TO:fpp-AFLABS-URNIK:srecanje:581
X-WR-TIMEZONE:Europe/Ljubljana
END:VEVENT
BEGIN:VEVENT
SUMMARY:Ladijske elektronske naprave (N) (LEN)\, Predavanje (P)
DTSTART;TZID=Europe/Ljubljana:20260108T085000
DTEND;TZID=Europe/Ljubljana:20260108T102500
DTSTAMP:20260422T045643Z
UID:fpp-AFLABS-URNIK:premaknjeno-srecanje:30268
ATTENDEE:2. letnik (N, SS)
ATTENDEE:2. letnik (N, VS)
CATEGORIES:Entry,Standard
COLOR:darkgreen
DESCRIPTION:Predmet: Ladijske elektronske naprave (N) (LEN)\, Predavanje (
 P)\nLetniki: 2. letnik (N\, SS)\, 2. letnik (N\, VS)\nIzvajalci: Franc Dim
 c\nProstor: POSEIDON (PO1+PO2)
LOCATION:POSEIDON (PO1+PO2)
ORGANIZER:Franc Dimc
RELATED-TO:fpp-AFLABS-URNIK:srecanje:581
X-WR-TIMEZONE:Europe/Ljubljana
END:VEVENT
BEGIN:VEVENT
SUMMARY:Ladijske elektronske naprave (N) (LEN)\, Predavanje (P)
DTSTART;TZID=Europe/Ljubljana:20260115T085000
DTEND;TZID=Europe/Ljubljana:20260115T102500
DTSTAMP:20260422T045643Z
UID:fpp-AFLABS-URNIK:premaknjeno-srecanje:30269
ATTENDEE:2. letnik (N, SS)
ATTENDEE:2. letnik (N, VS)
CATEGORIES:Entry,Standard
COLOR:darkgreen
DESCRIPTION:Predmet: Ladijske elektronske naprave (N) (LEN)\, Predavanje (
 P)\nLetniki: 2. letnik (N\, SS)\, 2. letnik (N\, VS)\nIzvajalci: Franc Dim
 c\nProstor: POSEIDON (PO1+PO2)
LOCATION:POSEIDON (PO1+PO2)
ORGANIZER:Franc Dimc
RELATED-TO:fpp-AFLABS-URNIK:srecanje:581
X-WR-TIMEZONE:Europe/Ljubljana
END:VEVENT
BEGIN:VEVENT
SUMMARY:Regulacija in avtomatika (PS) (RA)\, Predavanje (P)
DTSTART;TZID=Europe/Ljubljana:20251218T135000
DTEND;TZID=Europe/Ljubljana:20251218T161500
DTSTAMP:20260422T045643Z
UID:fpp-AFLABS-URNIK:premaknjeno-srecanje:31620
ATTENDEE:2. letnik (PS, SS)
ATTENDEE:2. letnik (PS, VS)
CATEGORIES:Entry,Standard
COLOR:darkgreen
DESCRIPTION:Predmet: Regulacija in avtomatika (PS) (RA)\, Predavanje (P)\n
 Letniki: 2. letnik (PS\, SS)\, 2. letnik (PS\, VS)\nIzvajalci: Franc Dimc\
 nProstor: LPI
LOCATION:LPI
ORGANIZER:Franc Dimc
RELATED-TO:fpp-AFLABS-URNIK:srecanje:740
X-WR-TIMEZONE:Europe/Ljubljana
END:VEVENT
BEGIN:VEVENT
SUMMARY:Regulacija in avtomatika (PS) (RA)\, Predavanje (P)
DTSTART;TZID=Europe/Ljubljana:20260108T135000
DTEND;TZID=Europe/Ljubljana:20260108T161500
DTSTAMP:20260422T045643Z
UID:fpp-AFLABS-URNIK:premaknjeno-srecanje:31621
ATTENDEE:2. letnik (PS, SS)
ATTENDEE:2. letnik (PS, VS)
CATEGORIES:Entry,Standard
COLOR:darkgreen
DESCRIPTION:Predmet: Regulacija in avtomatika (PS) (RA)\, Predavanje (P)\n
 Letniki: 2. letnik (PS\, SS)\, 2. letnik (PS\, VS)\nIzvajalci: Franc Dimc\
 nProstor: LPI
LOCATION:LPI
ORGANIZER:Franc Dimc
RELATED-TO:fpp-AFLABS-URNIK:srecanje:740
X-WR-TIMEZONE:Europe/Ljubljana
END:VEVENT
BEGIN:VEVENT
SUMMARY:Regulacija in avtomatika (PS) (RA)\, Predavanje (P)
DTSTART;TZID=Europe/Ljubljana:20260115T135000
DTEND;TZID=Europe/Ljubljana:20260115T161500
DTSTAMP:20260422T045643Z
UID:fpp-AFLABS-URNIK:premaknjeno-srecanje:31622
ATTENDEE:2. letnik (PS, SS)
ATTENDEE:2. letnik (PS, VS)
CATEGORIES:Entry,Standard
COLOR:darkgreen
DESCRIPTION:Predmet: Regulacija in avtomatika (PS) (RA)\, Predavanje (P)\n
 Letniki: 2. letnik (PS\, SS)\, 2. letnik (PS\, VS)\nIzvajalci: Franc Dimc\
 nProstor: LPI
LOCATION:LPI
ORGANIZER:Franc Dimc
RELATED-TO:fpp-AFLABS-URNIK:srecanje:740
X-WR-TIMEZONE:Europe/Ljubljana
END:VEVENT
BEGIN:VEVENT
SUMMARY:Avtomatizacija v prometu (PTTL) (AP)\, Predavanje (P)
DTSTART;TZID=Europe/Ljubljana:20260216T085000
DTEND;TZID=Europe/Ljubljana:20260216T102500
DTSTAMP:20260422T045643Z
UID:fpp-AFLABS-URNIK:premaknjeno-srecanje:31152
ATTENDEE:1. letnik (PTTL, SS)
ATTENDEE:1. letnik (PTTL, VS)
CATEGORIES:Entry,Standard
COLOR:darkgreen
DESCRIPTION:Predmet: Avtomatizacija v prometu (PTTL) (AP)\, Predavanje (P)
 \nLetniki: 1. letnik (PTTL\, SS)\, 1. letnik (PTTL\, VS)\nIzvajalci: Franc
  Dimc\nProstor: amfiteater
LOCATION:amfiteater
ORGANIZER:Franc Dimc
RELATED-TO:fpp-AFLABS-URNIK:srecanje:903
X-WR-TIMEZONE:Europe/Ljubljana
END:VEVENT
BEGIN:VEVENT
SUMMARY:Avtomatizacija v prometu (PTTL) (AP)\, Predavanje (P)
DTSTART;TZID=Europe/Ljubljana:20260223T085000
DTEND;TZID=Europe/Ljubljana:20260223T102500
DTSTAMP:20260422T045643Z
UID:fpp-AFLABS-URNIK:premaknjeno-srecanje:31153
ATTENDEE:1. letnik (PTTL, SS)
ATTENDEE:1. letnik (PTTL, VS)
CATEGORIES:Entry,Standard
COLOR:darkgreen
DESCRIPTION:Predmet: Avtomatizacija v prometu (PTTL) (AP)\, Predavanje (P)
 \nLetniki: 1. letnik (PTTL\, SS)\, 1. letnik (PTTL\, VS)\nIzvajalci: Franc
  Dimc\nProstor: amfiteater
LOCATION:amfiteater
ORGANIZER:Franc Dimc
RELATED-TO:fpp-AFLABS-URNIK:srecanje:903
X-WR-TIMEZONE:Europe/Ljubljana
END:VEVENT
BEGIN:VEVENT
SUMMARY:Tehniške meritve (PS) (TeM)\, Predavanje (P)
DTSTART;TZID=Europe/Ljubljana:20260217T085000
DTEND;TZID=Europe/Ljubljana:20260217T102500
DTSTAMP:20260422T045643Z
UID:fpp-AFLABS-URNIK:premaknjeno-srecanje:23421
ATTENDEE:3. letnik (PS, SS)
CATEGORIES:Entry,Standard
COLOR:darkgreen
DESCRIPTION:Predmet: Tehniške meritve (PS) (TeM)\, Predavanje (P)\nLetnik
 i: 3. letnik (PS\, SS)\nIzvajalci: Franc Dimc\nProstor: LPI
LOCATION:LPI
ORGANIZER:Franc Dimc
RELATED-TO:fpp-AFLABS-URNIK:srecanje:1041
X-WR-TIMEZONE:Europe/Ljubljana
END:VEVENT
BEGIN:VEVENT
SUMMARY:Ladijski elektro sistemi (N) (LES)\, Predavanje (P)
DTSTART;TZID=Europe/Ljubljana:20260219T085000
DTEND;TZID=Europe/Ljubljana:20260219T111500
DTSTAMP:20260422T045643Z
UID:fpp-AFLABS-URNIK:premaknjeno-srecanje:21756
ATTENDEE:1. letnik (N, SS)
ATTENDEE:1. letnik (N, VS)
CATEGORIES:Entry,Standard
COLOR:darkgreen
DESCRIPTION:Predmet: Ladijski elektro sistemi (N) (LES)\, Predavanje (P)\n
 Letniki: 1. letnik (N\, SS)\, 1. letnik (N\, VS)\nIzvajalci: Franc Dimc\nP
 rostor: NEPTUN (NE1+NE2)
LOCATION:NEPTUN (NE1+NE2)
ORGANIZER:Franc Dimc
RELATED-TO:fpp-AFLABS-URNIK:srecanje:934
X-WR-TIMEZONE:Europe/Ljubljana
END:VEVENT
BEGIN:VEVENT
SUMMARY:Ladijski elektro sistemi (PS) (LES)\, Predavanje (P)
DTSTART;TZID=Europe/Ljubljana:20260219T085000
DTEND;TZID=Europe/Ljubljana:20260219T111500
DTSTAMP:20260422T045643Z
UID:fpp-AFLABS-URNIK:premaknjeno-srecanje:21787
ATTENDEE:1. letnik (PS, SS)
ATTENDEE:1. letnik (PS, VS)
CATEGORIES:Entry,Standard
COLOR:darkgreen
DESCRIPTION:Predmet: Ladijski elektro sistemi (PS) (LES)\, Predavanje (P)\
 nLetniki: 1. letnik (PS\, SS)\, 1. letnik (PS\, VS)\nIzvajalci: Franc Dimc
 \nProstor: NEPTUN (NE1+NE2)
LOCATION:NEPTUN (NE1+NE2)
ORGANIZER:Franc Dimc
RELATED-TO:fpp-AFLABS-URNIK:srecanje:936
X-WR-TIMEZONE:Europe/Ljubljana
END:VEVENT
BEGIN:VEVENT
SUMMARY:Elektrotehnika v prometu (TPL-U) (EL)\, Predavanje (P)
DTSTART;TZID=Europe/Ljubljana:20260220T085000
DTEND;TZID=Europe/Ljubljana:20260220T111500
DTSTAMP:20260422T045643Z
UID:fpp-AFLABS-URNIK:premaknjeno-srecanje:25104
ATTENDEE:1. letnik (TPL-U)
CATEGORIES:Entry,Standard
COLOR:darkgreen
DESCRIPTION:Predmet: Elektrotehnika v prometu (TPL-U) (EL)\, Predavanje (P
 )\nLetniki: 1. letnik (TPL-U)\nIzvajalci: Franc Dimc\nProstor: 202
LOCATION:202
ORGANIZER:Franc Dimc
RELATED-TO:fpp-AFLABS-URNIK:srecanje:917
X-WR-TIMEZONE:Europe/Ljubljana
END:VEVENT
BEGIN:VEVENT
SUMMARY:Vabilo na Pomlad na Japonskem
DTSTART;TZID=Europe/Ljubljana:20260204T120000
DTEND;TZID=Europe/Ljubljana:20260204T133000
DTSTAMP:20260422T045643Z
UID:fpp-AFLABS-URNIK:rezervacija:112
CATEGORIES:Reservation
COLOR:royalblue
DESCRIPTION:Predmeti: \nLetniki: \nIzvajalci: Franc Dimc\, Urban Pegan\nPr
 ostori: 204
LOCATION:204
ORGANIZER:Franc Dimc, Urban Pegan
X-WR-TIMEZONE:Europe/Ljubljana
END:VEVENT
END:VCALENDAR
