BEGIN:VCALENDAR
VERSION:2.0
PRODID:-//AFLabs urnik izvoz - fpp//aflabs.si//SI
DTSTAMP:20260423T142234Z
NAME:UL FPP Urnik
REFRESH-INTERVAL:PT1H
SOURCE:https://afurnik-fpp.dev.aflabs.org/en/teacher/16?day=2025-08-27&exp
 ort=1
URL:https://afurnik-fpp.dev.aflabs.org/en/teacher/16?day=2025-08-27&export
 =1
X-PUBLISHED-TTL:PT1H
X-WR-CALNAME:UL FPP Urnik
X-WR-TIMEZONE:Europe/Ljubljana
BEGIN:VTIMEZONE
TZID:Europe/Ljubljana
BEGIN:DAYLIGHT
DTSTART:20260329T020000
RDATE:20260329T020000
RDATE:20270328T020000
TZNAME:CEST
TZOFFSETFROM:+0100
TZOFFSETTO:+0200
END:DAYLIGHT
BEGIN:STANDARD
DTSTART:20261025T030000
RDATE:20261025T030000
RDATE:20271031T030000
TZNAME:CET
TZOFFSETFROM:+0200
TZOFFSETTO:+0100
END:STANDARD
END:VTIMEZONE
BEGIN:VEVENT
SUMMARY:Prometno logistična infrastruktura (PTTL) (PLI)\, Avditorne vaje 
 (AV)
DTSTART;TZID=Europe/Ljubljana:20251001T112000
DTEND;TZID=Europe/Ljubljana:20251001T120500
DTSTAMP:20260423T142234Z
UID:fpp-AFLABS-URNIK:premaknjeno-srecanje:11474
ATTENDEE:2. letnik (PTTL, SS)
ATTENDEE:2. letnik (PTTL, VS)
CATEGORIES:Entry,Standard
COLOR:darkgreen
DESCRIPTION:Predmet: Prometno logistična infrastruktura (PTTL) (PLI)\, Av
 ditorne vaje (AV)\nLetniki: 2. letnik (PTTL\, SS)\, 2. letnik (PTTL\, VS)\
 nIzvajalci: Marko Golnar\nProstor: 205
LOCATION:205
ORGANIZER:Marko Golnar
RELATED-TO:fpp-AFLABS-URNIK:srecanje:720
X-WR-TIMEZONE:Europe/Ljubljana
END:VEVENT
BEGIN:VEVENT
SUMMARY:Načrtovanje sistemov transporta (TPL-U) (NST)\, Laboratorijske va
 je (LV)
DTSTART;TZID=Europe/Ljubljana:20251001T094000
DTEND;TZID=Europe/Ljubljana:20251001T102500
DTSTAMP:20260423T142234Z
UID:fpp-AFLABS-URNIK:premaknjeno-srecanje:14517
ATTENDEE:3. letnik (TPL-U)
CATEGORIES:Entry,Standard
COLOR:darkgreen
DESCRIPTION:Predmet: Načrtovanje sistemov transporta (TPL-U) (NST)\, Labo
 ratorijske vaje (LV)\nLetniki: 3. letnik (TPL-U)\nIzvajalci: Marko Golnar\
 nProstor: R1
LOCATION:R1
ORGANIZER:Marko Golnar
RELATED-TO:fpp-AFLABS-URNIK:srecanje:627
X-WR-TIMEZONE:Europe/Ljubljana
END:VEVENT
BEGIN:VEVENT
SUMMARY:Sodobne tehnologije v zračnem prometu (PTTL) (STZP)\, Avditorne v
 aje (AV)
DTSTART;TZID=Europe/Ljubljana:20251001T185000
DTEND;TZID=Europe/Ljubljana:20251001T202500
DTSTAMP:20260423T142234Z
UID:fpp-AFLABS-URNIK:premaknjeno-srecanje:16615
ATTENDEE:3. letnik (PTTL, SS)
ATTENDEE:3. letnik (PTTL, VS)
CATEGORIES:Entry,Standard
COLOR:darkgreen
DESCRIPTION:Predmet: Sodobne tehnologije v zračnem prometu (PTTL) (STZP)\
 , Avditorne vaje (AV)\nLetniki: 3. letnik (PTTL\, SS)\, 3. letnik (PTTL\, 
 VS)\nIzvajalci: Marko Golnar\nProstor: 204
LOCATION:204
ORGANIZER:Marko Golnar
RELATED-TO:fpp-AFLABS-URNIK:srecanje:757
X-WR-TIMEZONE:Europe/Ljubljana
END:VEVENT
END:VCALENDAR
