BEGIN:VCALENDAR
VERSION:2.0
PRODID:-//AFLabs urnik izvoz - fpp//aflabs.si//SI
DTSTAMP:20260423T032010Z
NAME:UL FPP Urnik
REFRESH-INTERVAL:PT1H
SOURCE:https://afurnik-fpp.dev.aflabs.org/en/teacher/18?day=2025-08-27&exp
 ort=1
URL:https://afurnik-fpp.dev.aflabs.org/en/teacher/18?day=2025-08-27&export
 =1
X-PUBLISHED-TTL:PT1H
X-WR-CALNAME:UL FPP Urnik
X-WR-TIMEZONE:Europe/Ljubljana
BEGIN:VTIMEZONE
TZID:Europe/Ljubljana
BEGIN:DAYLIGHT
DTSTART:20260329T020000
RDATE:20260329T020000
RDATE:20270328T020000
TZNAME:CEST
TZOFFSETFROM:+0100
TZOFFSETTO:+0200
END:DAYLIGHT
BEGIN:STANDARD
DTSTART:20261025T030000
RDATE:20261025T030000
RDATE:20271031T030000
TZNAME:CET
TZOFFSETFROM:+0200
TZOFFSETTO:+0100
END:STANDARD
END:VTIMEZONE
BEGIN:VEVENT
SUMMARY:Propulzija in manevriranje (N) (PM)\, Predavanje (P)
DTSTART;TZID=Europe/Ljubljana:20251001T135000
DTEND;TZID=Europe/Ljubljana:20251001T152500
DTSTAMP:20260423T032010Z
UID:fpp-AFLABS-URNIK:premaknjeno-srecanje:33083
ATTENDEE:3. letnik (N, SS)
ATTENDEE:3. letnik (N, VS)
CATEGORIES:Entry,Standard
COLOR:darkgreen
DESCRIPTION:Predmet: Propulzija in manevriranje (N) (PM)\, Predavanje (P)\
 nLetniki: 3. letnik (N\, SS)\, 3. letnik (N\, VS)\nIzvajalci: Aleksander G
 rm\nProstor: NE2
LOCATION:NE2
ORGANIZER:Aleksander Grm
RELATED-TO:fpp-AFLABS-URNIK:srecanje:730
X-WR-TIMEZONE:Europe/Ljubljana
END:VEVENT
BEGIN:VEVENT
SUMMARY:Propulzija in manevriranje (PS) (PM)\, Predavanje (P)
DTSTART;TZID=Europe/Ljubljana:20251001T135000
DTEND;TZID=Europe/Ljubljana:20251001T152500
DTSTAMP:20260423T032010Z
UID:fpp-AFLABS-URNIK:premaknjeno-srecanje:33091
ATTENDEE:3. letnik (PS, SS)
ATTENDEE:3. letnik (PS, VS)
CATEGORIES:Entry,Standard
COLOR:darkgreen
DESCRIPTION:Predmet: Propulzija in manevriranje (PS) (PM)\, Predavanje (P)
 \nLetniki: 3. letnik (PS\, SS)\, 3. letnik (PS\, VS)\nIzvajalci: Aleksande
 r Grm\nProstor: NE2
LOCATION:NE2
ORGANIZER:Aleksander Grm
RELATED-TO:fpp-AFLABS-URNIK:srecanje:734
X-WR-TIMEZONE:Europe/Ljubljana
END:VEVENT
BEGIN:VEVENT
SUMMARY:Propulzija in manevriranje (N) (PM)\, Seminar (S)
DTSTART;TZID=Europe/Ljubljana:20251001T153000
DTEND;TZID=Europe/Ljubljana:20251001T161500
DTSTAMP:20260423T032010Z
UID:fpp-AFLABS-URNIK:premaknjeno-srecanje:33099
ATTENDEE:3. letnik (N, SS)
ATTENDEE:3. letnik (N, VS)
CATEGORIES:Entry,Standard
COLOR:darkgreen
DESCRIPTION:Predmet: Propulzija in manevriranje (N) (PM)\, Seminar (S)\nLe
 tniki: 3. letnik (N\, SS)\, 3. letnik (N\, VS)\nIzvajalci: Aleksander Grm\
 nProstor: NE2
LOCATION:NE2
ORGANIZER:Aleksander Grm
RELATED-TO:fpp-AFLABS-URNIK:srecanje:731
X-WR-TIMEZONE:Europe/Ljubljana
END:VEVENT
BEGIN:VEVENT
SUMMARY:Propulzija in manevriranje (PS) (PM)\, Seminar (S)
DTSTART;TZID=Europe/Ljubljana:20251001T153000
DTEND;TZID=Europe/Ljubljana:20251001T161500
DTSTAMP:20260423T032010Z
UID:fpp-AFLABS-URNIK:premaknjeno-srecanje:33107
ATTENDEE:3. letnik (PS, SS)
ATTENDEE:3. letnik (PS, VS)
CATEGORIES:Entry,Standard
COLOR:darkgreen
DESCRIPTION:Predmet: Propulzija in manevriranje (PS) (PM)\, Seminar (S)\nL
 etniki: 3. letnik (PS\, SS)\, 3. letnik (PS\, VS)\nIzvajalci: Aleksander G
 rm\nProstor: NE2
LOCATION:NE2
ORGANIZER:Aleksander Grm
RELATED-TO:fpp-AFLABS-URNIK:srecanje:735
X-WR-TIMEZONE:Europe/Ljubljana
END:VEVENT
END:VCALENDAR
