BEGIN:VCALENDAR
VERSION:2.0
PRODID:-//AFLabs urnik izvoz - fpp//aflabs.si//SI
DTSTAMP:20260422T031357Z
NAME:UL FPP Urnik
REFRESH-INTERVAL:PT1H
SOURCE:https://afurnik-fpp.dev.aflabs.org/en/teacher/22?day=2025-09-01&exp
 ort=1
URL:https://afurnik-fpp.dev.aflabs.org/en/teacher/22?day=2025-09-01&export
 =1
X-PUBLISHED-TTL:PT1H
X-WR-CALNAME:UL FPP Urnik
X-WR-TIMEZONE:Europe/Ljubljana
BEGIN:VTIMEZONE
TZID:Europe/Ljubljana
BEGIN:DAYLIGHT
DTSTART:20260329T020000
RDATE:20260329T020000
RDATE:20270328T020000
TZNAME:CEST
TZOFFSETFROM:+0100
TZOFFSETTO:+0200
END:DAYLIGHT
BEGIN:STANDARD
DTSTART:20261025T030000
RDATE:20261025T030000
RDATE:20271031T030000
TZNAME:CET
TZOFFSETFROM:+0200
TZOFFSETTO:+0100
END:STANDARD
END:VTIMEZONE
BEGIN:VEVENT
SUMMARY:Prometno logistična infrastruktura (PTTL) (PLI)\, Seminar (S)
DTSTART;TZID=Europe/Ljubljana:20251001T103000
DTEND;TZID=Europe/Ljubljana:20251001T111500
DTSTAMP:20260422T031357Z
UID:fpp-AFLABS-URNIK:premaknjeno-srecanje:11551
ATTENDEE:2. letnik (PTTL, SS)
ATTENDEE:2. letnik (PTTL, VS)
CATEGORIES:Entry,Standard
COLOR:darkgreen
DESCRIPTION:Predmet: Prometno logistična infrastruktura (PTTL) (PLI)\, Se
 minar (S)\nLetniki: 2. letnik (PTTL\, SS)\, 2. letnik (PTTL\, VS)\nIzvajal
 ci: Peter Jenček\nProstor: 205
LOCATION:205
ORGANIZER:Peter Jenček
RELATED-TO:fpp-AFLABS-URNIK:srecanje:725
X-WR-TIMEZONE:Europe/Ljubljana
END:VEVENT
BEGIN:VEVENT
SUMMARY:Prometno logistična infrastruktura (PTTL) (PLI)\, Predavanje (P)
DTSTART;TZID=Europe/Ljubljana:20251001T085000
DTEND;TZID=Europe/Ljubljana:20251001T102500
DTSTAMP:20260422T031357Z
UID:fpp-AFLABS-URNIK:premaknjeno-srecanje:15319
ATTENDEE:2. letnik (PTTL, SS)
ATTENDEE:2. letnik (PTTL, VS)
CATEGORIES:Entry,Standard
COLOR:darkgreen
DESCRIPTION:Predmet: Prometno logistična infrastruktura (PTTL) (PLI)\, Pr
 edavanje (P)\nLetniki: 2. letnik (PTTL\, SS)\, 2. letnik (PTTL\, VS)\nIzva
 jalci: Peter Jenček\nProstor: 205
LOCATION:205
ORGANIZER:Peter Jenček
RELATED-TO:fpp-AFLABS-URNIK:srecanje:724
X-WR-TIMEZONE:Europe/Ljubljana
END:VEVENT
BEGIN:VEVENT
SUMMARY:Sodobne prometne tehnologije (PROM2) (SPT)\, Seminar (S)
DTSTART;TZID=Europe/Ljubljana:20251002T185000
DTEND;TZID=Europe/Ljubljana:20251002T211500
DTSTAMP:20260422T031357Z
UID:fpp-AFLABS-URNIK:premaknjeno-srecanje:30186
ATTENDEE:1. letnik (PROM2)
CATEGORIES:Entry,Standard
COLOR:darkgreen
DESCRIPTION:Predmet: Sodobne prometne tehnologije (PROM2) (SPT)\, Seminar 
 (S)\nLetniki: 1. letnik (PROM2)\nIzvajalci: Peter Jenček\nProstor: 205
LOCATION:205
ORGANIZER:Peter Jenček
RELATED-TO:fpp-AFLABS-URNIK:srecanje:756
X-WR-TIMEZONE:Europe/Ljubljana
END:VEVENT
BEGIN:VEVENT
SUMMARY:Osnove prometnega sistema (PTTL) (OPS)\, Predavanje (P)
DTSTART;TZID=Europe/Ljubljana:20251006T085000
DTEND;TZID=Europe/Ljubljana:20251006T102500
DTSTAMP:20260422T031357Z
UID:fpp-AFLABS-URNIK:premaknjeno-srecanje:14772
ATTENDEE:1. letnik (PTTL, SS)
ATTENDEE:1. letnik (PTTL, VS)
CATEGORIES:Entry,Standard
COLOR:darkgreen
DESCRIPTION:Predmet: Osnove prometnega sistema (PTTL) (OPS)\, Predavanje (
 P)\nLetniki: 1. letnik (PTTL\, SS)\, 1. letnik (PTTL\, VS)\nIzvajalci: Pet
 er Jenček\nProstor: amfiteater
LOCATION:amfiteater
ORGANIZER:Peter Jenček
RELATED-TO:fpp-AFLABS-URNIK:srecanje:667
X-WR-TIMEZONE:Europe/Ljubljana
END:VEVENT
END:VCALENDAR
