BEGIN:VCALENDAR
VERSION:2.0
PRODID:-//AFLabs urnik izvoz - fpp//aflabs.si//SI
DTSTAMP:20260422T053139Z
NAME:UL FPP Urnik
REFRESH-INTERVAL:PT1H
SOURCE:https://afurnik-fpp.dev.aflabs.org/en/teacher/2?day=2026-01-26&expo
 rt=1
URL:https://afurnik-fpp.dev.aflabs.org/en/teacher/2?day=2026-01-26&export=
 1
X-PUBLISHED-TTL:PT1H
X-WR-CALNAME:UL FPP Urnik
X-WR-TIMEZONE:Europe/Ljubljana
BEGIN:VTIMEZONE
TZID:Europe/Ljubljana
BEGIN:DAYLIGHT
DTSTART:20260329T020000
RDATE:20260329T020000
RDATE:20270328T020000
TZNAME:CEST
TZOFFSETFROM:+0100
TZOFFSETTO:+0200
END:DAYLIGHT
BEGIN:STANDARD
DTSTART:20261025T030000
RDATE:20261025T030000
RDATE:20271031T030000
TZNAME:CET
TZOFFSETFROM:+0200
TZOFFSETTO:+0100
END:STANDARD
END:VTIMEZONE
BEGIN:VEVENT
SUMMARY:Temelji poslovanja špedicije (TPL-U) (TPŠ)\, Predavanje (P)
DTSTART;TZID=Europe/Ljubljana:20251222T085000
DTEND;TZID=Europe/Ljubljana:20251222T102500
DTSTAMP:20260422T053139Z
UID:fpp-AFLABS-URNIK:premaknjeno-srecanje:14422
ATTENDEE:3. letnik (TPL-U)
CATEGORIES:Entry,Standard
COLOR:darkgreen
DESCRIPTION:Predmet: Temelji poslovanja špedicije (TPL-U) (TPŠ)\, Predav
 anje (P)\nLetniki: 3. letnik (TPL-U)\nIzvajalci: Patricija Bajec\nProstor:
  R4
LOCATION:R4
ORGANIZER:Patricija Bajec
RELATED-TO:fpp-AFLABS-URNIK:srecanje:791
X-WR-TIMEZONE:Europe/Ljubljana
END:VEVENT
BEGIN:VEVENT
SUMMARY:Temelji poslovanja špedicije (TPL-U) (TPŠ)\, Predavanje (P)
DTSTART;TZID=Europe/Ljubljana:20260105T085000
DTEND;TZID=Europe/Ljubljana:20260105T102500
DTSTAMP:20260422T053139Z
UID:fpp-AFLABS-URNIK:premaknjeno-srecanje:14424
ATTENDEE:3. letnik (TPL-U)
CATEGORIES:Entry,Standard
COLOR:darkgreen
DESCRIPTION:Predmet: Temelji poslovanja špedicije (TPL-U) (TPŠ)\, Predav
 anje (P)\nLetniki: 3. letnik (TPL-U)\nIzvajalci: Patricija Bajec\nProstor:
  R4
LOCATION:R4
ORGANIZER:Patricija Bajec
RELATED-TO:fpp-AFLABS-URNIK:srecanje:791
X-WR-TIMEZONE:Europe/Ljubljana
END:VEVENT
BEGIN:VEVENT
SUMMARY:Temelji poslovanja špedicije (TPL-U) (TPŠ)\, Predavanje (P)
DTSTART;TZID=Europe/Ljubljana:20260112T085000
DTEND;TZID=Europe/Ljubljana:20260112T102500
DTSTAMP:20260422T053139Z
UID:fpp-AFLABS-URNIK:premaknjeno-srecanje:14425
ATTENDEE:3. letnik (TPL-U)
CATEGORIES:Entry,Standard
COLOR:darkgreen
DESCRIPTION:Predmet: Temelji poslovanja špedicije (TPL-U) (TPŠ)\, Predav
 anje (P)\nLetniki: 3. letnik (TPL-U)\nIzvajalci: Patricija Bajec\nProstor:
  R4
LOCATION:R4
ORGANIZER:Patricija Bajec
RELATED-TO:fpp-AFLABS-URNIK:srecanje:791
X-WR-TIMEZONE:Europe/Ljubljana
END:VEVENT
BEGIN:VEVENT
SUMMARY:Optimizacija procesov v logistično distribucijskem centru (PROM2)
  (OPLDC)\, Predavanje (P)
DTSTART;TZID=Europe/Ljubljana:20251222T162000
DTEND;TZID=Europe/Ljubljana:20251222T184500
DTSTAMP:20260422T053139Z
UID:fpp-AFLABS-URNIK:premaknjeno-srecanje:17547
ATTENDEE:2. letnik (PROM2)
CATEGORIES:Entry,Standard
COLOR:darkgreen
DESCRIPTION:Predmet: Optimizacija procesov v logistično distribucijskem c
 entru (PROM2) (OPLDC)\, Predavanje (P)\nLetniki: 2. letnik (PROM2)\nIzvaja
 lci: Patricija Bajec\nProstor: R1
LOCATION:R1
ORGANIZER:Patricija Bajec
RELATED-TO:fpp-AFLABS-URNIK:srecanje:652
X-WR-TIMEZONE:Europe/Ljubljana
END:VEVENT
BEGIN:VEVENT
SUMMARY:Optimizacija procesov v logistično distribucijskem centru (PROM2)
  (OPLDC)\, Predavanje (P)
DTSTART;TZID=Europe/Ljubljana:20260105T162000
DTEND;TZID=Europe/Ljubljana:20260105T184500
DTSTAMP:20260422T053139Z
UID:fpp-AFLABS-URNIK:premaknjeno-srecanje:17549
ATTENDEE:2. letnik (PROM2)
CATEGORIES:Entry,Standard
COLOR:darkgreen
DESCRIPTION:Predmet: Optimizacija procesov v logistično distribucijskem c
 entru (PROM2) (OPLDC)\, Predavanje (P)\nLetniki: 2. letnik (PROM2)\nIzvaja
 lci: Patricija Bajec\nProstor: R1
LOCATION:R1
ORGANIZER:Patricija Bajec
RELATED-TO:fpp-AFLABS-URNIK:srecanje:652
X-WR-TIMEZONE:Europe/Ljubljana
END:VEVENT
BEGIN:VEVENT
SUMMARY:Optimizacija procesov v logistično distribucijskem centru (PROM2)
  (OPLDC)\, Predavanje (P)
DTSTART;TZID=Europe/Ljubljana:20260112T162000
DTEND;TZID=Europe/Ljubljana:20260112T184500
DTSTAMP:20260422T053139Z
UID:fpp-AFLABS-URNIK:premaknjeno-srecanje:17550
ATTENDEE:2. letnik (PROM2)
CATEGORIES:Entry,Standard
COLOR:darkgreen
DESCRIPTION:Predmet: Optimizacija procesov v logistično distribucijskem c
 entru (PROM2) (OPLDC)\, Predavanje (P)\nLetniki: 2. letnik (PROM2)\nIzvaja
 lci: Patricija Bajec\nProstor: R1
LOCATION:R1
ORGANIZER:Patricija Bajec
RELATED-TO:fpp-AFLABS-URNIK:srecanje:652
X-WR-TIMEZONE:Europe/Ljubljana
END:VEVENT
BEGIN:VEVENT
SUMMARY:Temelji poslovanja špedicije (TPL-U) (TPŠ)\, Seminar (S)
DTSTART;TZID=Europe/Ljubljana:20251222T080000
DTEND;TZID=Europe/Ljubljana:20251222T085000
DTSTAMP:20260422T053139Z
UID:fpp-AFLABS-URNIK:premaknjeno-srecanje:33606
ATTENDEE:3. letnik (TPL-U)
CATEGORIES:Entry,Standard
COLOR:darkgreen
DESCRIPTION:Predmet: Temelji poslovanja špedicije (TPL-U) (TPŠ)\, Semina
 r (S)\nLetniki: 3. letnik (TPL-U)\nIzvajalci: Patricija Bajec\nProstor: R4
LOCATION:R4
ORGANIZER:Patricija Bajec
RELATED-TO:fpp-AFLABS-URNIK:srecanje:879
X-WR-TIMEZONE:Europe/Ljubljana
END:VEVENT
BEGIN:VEVENT
SUMMARY:Temelji poslovanja špedicije (TPL-U) (TPŠ)\, Seminar (S)
DTSTART;TZID=Europe/Ljubljana:20260105T080000
DTEND;TZID=Europe/Ljubljana:20260105T085000
DTSTAMP:20260422T053139Z
UID:fpp-AFLABS-URNIK:premaknjeno-srecanje:33607
ATTENDEE:3. letnik (TPL-U)
CATEGORIES:Entry,Standard
COLOR:darkgreen
DESCRIPTION:Predmet: Temelji poslovanja špedicije (TPL-U) (TPŠ)\, Semina
 r (S)\nLetniki: 3. letnik (TPL-U)\nIzvajalci: Patricija Bajec\nProstor: R4
LOCATION:R4
ORGANIZER:Patricija Bajec
RELATED-TO:fpp-AFLABS-URNIK:srecanje:879
X-WR-TIMEZONE:Europe/Ljubljana
END:VEVENT
BEGIN:VEVENT
SUMMARY:Temelji poslovanja špedicije (TPL-U) (TPŠ)\, Seminar (S)
DTSTART;TZID=Europe/Ljubljana:20260112T080000
DTEND;TZID=Europe/Ljubljana:20260112T085000
DTSTAMP:20260422T053139Z
UID:fpp-AFLABS-URNIK:premaknjeno-srecanje:33608
ATTENDEE:3. letnik (TPL-U)
CATEGORIES:Entry,Standard
COLOR:darkgreen
DESCRIPTION:Predmet: Temelji poslovanja špedicije (TPL-U) (TPŠ)\, Semina
 r (S)\nLetniki: 3. letnik (TPL-U)\nIzvajalci: Patricija Bajec\nProstor: R4
LOCATION:R4
ORGANIZER:Patricija Bajec
RELATED-TO:fpp-AFLABS-URNIK:srecanje:879
X-WR-TIMEZONE:Europe/Ljubljana
END:VEVENT
BEGIN:VEVENT
SUMMARY:Upravljanje oskrbovalnih verig (PTTL) (UOV)\, Predavanje (P)
DTSTART;TZID=Europe/Ljubljana:20251223T085000
DTEND;TZID=Europe/Ljubljana:20251223T102500
DTSTAMP:20260422T053139Z
UID:fpp-AFLABS-URNIK:premaknjeno-srecanje:16184
ATTENDEE:3. letnik (PTTL, SS)
ATTENDEE:3. letnik (PTTL, VS)
CATEGORIES:Entry,Standard
COLOR:darkgreen
DESCRIPTION:Predmet: Upravljanje oskrbovalnih verig (PTTL) (UOV)\, Predava
 nje (P)\nLetniki: 3. letnik (PTTL\, SS)\, 3. letnik (PTTL\, VS)\nIzvajalci
 : Patricija Bajec\nProstor: OnLine
LOCATION:OnLine
ORGANIZER:Patricija Bajec
RELATED-TO:fpp-AFLABS-URNIK:srecanje:1765
X-WR-TIMEZONE:Europe/Ljubljana
END:VEVENT
BEGIN:VEVENT
SUMMARY:Upravljanje oskrbovalnih verig (PTTL) (UOV)\, Seminar (S)
DTSTART;TZID=Europe/Ljubljana:20251223T103000
DTEND;TZID=Europe/Ljubljana:20251223T111500
DTSTAMP:20260422T053139Z
UID:fpp-AFLABS-URNIK:premaknjeno-srecanje:33936
ATTENDEE:3. letnik (PTTL, SS)
ATTENDEE:3. letnik (PTTL, VS)
CATEGORIES:Entry,Standard
COLOR:darkgreen
DESCRIPTION:Predmet: Upravljanje oskrbovalnih verig (PTTL) (UOV)\, Seminar
  (S)\nLetniki: 3. letnik (PTTL\, SS)\, 3. letnik (PTTL\, VS)\nIzvajalci: P
 atricija Bajec\nProstor: OnLine
LOCATION:OnLine
ORGANIZER:Patricija Bajec
RELATED-TO:fpp-AFLABS-URNIK:srecanje:1764
X-WR-TIMEZONE:Europe/Ljubljana
END:VEVENT
BEGIN:VEVENT
SUMMARY:Distribucijska logistika (PTTL) (DLO)\, Predavanje (P)
DTSTART;TZID=Europe/Ljubljana:20251224T080000
DTEND;TZID=Europe/Ljubljana:20251224T093500
DTSTAMP:20260422T053139Z
UID:fpp-AFLABS-URNIK:premaknjeno-srecanje:16275
ATTENDEE:3. letnik (PTTL, SS)
ATTENDEE:3. letnik (PTTL, VS)
CATEGORIES:Entry,Standard
COLOR:darkgreen
DESCRIPTION:Predmet: Distribucijska logistika (PTTL) (DLO)\, Predavanje (P
 )\nLetniki: 3. letnik (PTTL\, SS)\, 3. letnik (PTTL\, VS)\nIzvajalci: Patr
 icija Bajec\nProstor: OnLine
LOCATION:OnLine
ORGANIZER:Patricija Bajec
RELATED-TO:fpp-AFLABS-URNIK:srecanje:1766
X-WR-TIMEZONE:Europe/Ljubljana
END:VEVENT
BEGIN:VEVENT
SUMMARY:Temelji poslovanja špedicije (TPL-U) (TPŠ)\, Predavanje (P)
DTSTART;TZID=Europe/Ljubljana:20251229T085000
DTEND;TZID=Europe/Ljubljana:20251229T102500
DTSTAMP:20260422T053139Z
UID:fpp-AFLABS-URNIK:premaknjeno-srecanje:33937
ATTENDEE:3. letnik (TPL-U)
CATEGORIES:Entry,Standard
COLOR:darkgreen
DESCRIPTION:Predmet: Temelji poslovanja špedicije (TPL-U) (TPŠ)\, Predav
 anje (P)\nLetniki: 3. letnik (TPL-U)\nIzvajalci: Patricija Bajec\nProstor:
  Posneta predavanja v eUčilnici
LOCATION:Posneta predavanja v eUčilnici
ORGANIZER:Patricija Bajec
RELATED-TO:fpp-AFLABS-URNIK:srecanje:1770
X-WR-TIMEZONE:Europe/Ljubljana
END:VEVENT
BEGIN:VEVENT
SUMMARY:Optimizacija procesov v logistično distribucijskem centru (PROM2)
  (OPLDC)\, Predavanje (P)
DTSTART;TZID=Europe/Ljubljana:20251229T162000
DTEND;TZID=Europe/Ljubljana:20251229T184500
DTSTAMP:20260422T053139Z
UID:fpp-AFLABS-URNIK:premaknjeno-srecanje:33938
ATTENDEE:2. letnik (PROM2)
CATEGORIES:Entry,Standard
COLOR:darkgreen
DESCRIPTION:Predmet: Optimizacija procesov v logistično distribucijskem c
 entru (PROM2) (OPLDC)\, Predavanje (P)\nLetniki: 2. letnik (PROM2)\nIzvaja
 lci: Patricija Bajec\nProstor: Posneta predavanja v eUčilnici
LOCATION:Posneta predavanja v eUčilnici
ORGANIZER:Patricija Bajec
RELATED-TO:fpp-AFLABS-URNIK:srecanje:1773
X-WR-TIMEZONE:Europe/Ljubljana
END:VEVENT
BEGIN:VEVENT
SUMMARY:Upravljanje oskrbovalnih verig (PTTL) (UOV)\, Predavanje (P)
DTSTART;TZID=Europe/Ljubljana:20251230T085000
DTEND;TZID=Europe/Ljubljana:20251230T102500
DTSTAMP:20260422T053139Z
UID:fpp-AFLABS-URNIK:premaknjeno-srecanje:33940
ATTENDEE:3. letnik (PTTL, SS)
ATTENDEE:3. letnik (PTTL, VS)
CATEGORIES:Entry,Standard
COLOR:darkgreen
DESCRIPTION:Predmet: Upravljanje oskrbovalnih verig (PTTL) (UOV)\, Predava
 nje (P)\nLetniki: 3. letnik (PTTL\, SS)\, 3. letnik (PTTL\, VS)\nIzvajalci
 : Patricija Bajec\nProstor: Posneta predavanja v eUčilnici
LOCATION:Posneta predavanja v eUčilnici
ORGANIZER:Patricija Bajec
RELATED-TO:fpp-AFLABS-URNIK:srecanje:1777
X-WR-TIMEZONE:Europe/Ljubljana
END:VEVENT
BEGIN:VEVENT
SUMMARY:Distribucijska logistika (PTTL) (DLO)\, Predavanje (P)
DTSTART;TZID=Europe/Ljubljana:20251231T080000
DTEND;TZID=Europe/Ljubljana:20251231T093500
DTSTAMP:20260422T053139Z
UID:fpp-AFLABS-URNIK:premaknjeno-srecanje:33941
ATTENDEE:3. letnik (PTTL, SS)
ATTENDEE:3. letnik (PTTL, VS)
CATEGORIES:Entry,Standard
COLOR:darkgreen
DESCRIPTION:Predmet: Distribucijska logistika (PTTL) (DLO)\, Predavanje (P
 )\nLetniki: 3. letnik (PTTL\, SS)\, 3. letnik (PTTL\, VS)\nIzvajalci: Patr
 icija Bajec\nProstor: Posneta predavanja v eUčilnici
LOCATION:Posneta predavanja v eUčilnici
ORGANIZER:Patricija Bajec
RELATED-TO:fpp-AFLABS-URNIK:srecanje:1778
X-WR-TIMEZONE:Europe/Ljubljana
END:VEVENT
BEGIN:VEVENT
SUMMARY:Optimizacija procesov v logistično distribucijskem centru (PROM2)
  (OPLDC)\, Seminar (S)
DTSTART;TZID=Europe/Ljubljana:20260105T185000
DTEND;TZID=Europe/Ljubljana:20260105T193500
DTSTAMP:20260422T053139Z
UID:fpp-AFLABS-URNIK:premaknjeno-srecanje:17579
ATTENDEE:2. letnik (PROM2)
CATEGORIES:Entry,Standard
COLOR:darkgreen
DESCRIPTION:Predmet: Optimizacija procesov v logistično distribucijskem c
 entru (PROM2) (OPLDC)\, Seminar (S)\nLetniki: 2. letnik (PROM2)\nIzvajalci
 : Patricija Bajec\nProstor: R1
LOCATION:R1
ORGANIZER:Patricija Bajec
RELATED-TO:fpp-AFLABS-URNIK:srecanje:653
X-WR-TIMEZONE:Europe/Ljubljana
END:VEVENT
BEGIN:VEVENT
SUMMARY:Optimizacija procesov v logistično distribucijskem centru (PROM2)
  (OPLDC)\, Seminar (S)
DTSTART;TZID=Europe/Ljubljana:20260112T185000
DTEND;TZID=Europe/Ljubljana:20260112T193500
DTSTAMP:20260422T053139Z
UID:fpp-AFLABS-URNIK:premaknjeno-srecanje:17580
ATTENDEE:2. letnik (PROM2)
CATEGORIES:Entry,Standard
COLOR:darkgreen
DESCRIPTION:Predmet: Optimizacija procesov v logistično distribucijskem c
 entru (PROM2) (OPLDC)\, Seminar (S)\nLetniki: 2. letnik (PROM2)\nIzvajalci
 : Patricija Bajec\nProstor: R1
LOCATION:R1
ORGANIZER:Patricija Bajec
RELATED-TO:fpp-AFLABS-URNIK:srecanje:653
X-WR-TIMEZONE:Europe/Ljubljana
END:VEVENT
BEGIN:VEVENT
SUMMARY:Upravljanje oskrbovalnih verig (PTTL) (UOV)\, Predavanje (P)
DTSTART;TZID=Europe/Ljubljana:20260106T085000
DTEND;TZID=Europe/Ljubljana:20260106T102500
DTSTAMP:20260422T053139Z
UID:fpp-AFLABS-URNIK:premaknjeno-srecanje:16186
ATTENDEE:3. letnik (PTTL, SS)
ATTENDEE:3. letnik (PTTL, VS)
CATEGORIES:Entry,Standard
COLOR:darkgreen
DESCRIPTION:Predmet: Upravljanje oskrbovalnih verig (PTTL) (UOV)\, Predava
 nje (P)\nLetniki: 3. letnik (PTTL\, SS)\, 3. letnik (PTTL\, VS)\nIzvajalci
 : Patricija Bajec\nProstor: R1
LOCATION:R1
ORGANIZER:Patricija Bajec
RELATED-TO:fpp-AFLABS-URNIK:srecanje:816
X-WR-TIMEZONE:Europe/Ljubljana
END:VEVENT
BEGIN:VEVENT
SUMMARY:Upravljanje oskrbovalnih verig (PTTL) (UOV)\, Predavanje (P)
DTSTART;TZID=Europe/Ljubljana:20260113T085000
DTEND;TZID=Europe/Ljubljana:20260113T102500
DTSTAMP:20260422T053139Z
UID:fpp-AFLABS-URNIK:premaknjeno-srecanje:16187
ATTENDEE:3. letnik (PTTL, SS)
ATTENDEE:3. letnik (PTTL, VS)
CATEGORIES:Entry,Standard
COLOR:darkgreen
DESCRIPTION:Predmet: Upravljanje oskrbovalnih verig (PTTL) (UOV)\, Predava
 nje (P)\nLetniki: 3. letnik (PTTL\, SS)\, 3. letnik (PTTL\, VS)\nIzvajalci
 : Patricija Bajec\nProstor: R1
LOCATION:R1
ORGANIZER:Patricija Bajec
RELATED-TO:fpp-AFLABS-URNIK:srecanje:816
X-WR-TIMEZONE:Europe/Ljubljana
END:VEVENT
BEGIN:VEVENT
SUMMARY:Upravljanje oskrbovalnih verig (PTTL) (UOV)\, Seminar (S)
DTSTART;TZID=Europe/Ljubljana:20260106T103000
DTEND;TZID=Europe/Ljubljana:20260106T111500
DTSTAMP:20260422T053139Z
UID:fpp-AFLABS-URNIK:premaknjeno-srecanje:33614
ATTENDEE:3. letnik (PTTL, SS)
ATTENDEE:3. letnik (PTTL, VS)
CATEGORIES:Entry,Standard
COLOR:darkgreen
DESCRIPTION:Predmet: Upravljanje oskrbovalnih verig (PTTL) (UOV)\, Seminar
  (S)\nLetniki: 3. letnik (PTTL\, SS)\, 3. letnik (PTTL\, VS)\nIzvajalci: P
 atricija Bajec\nProstor: R1
LOCATION:R1
ORGANIZER:Patricija Bajec
RELATED-TO:fpp-AFLABS-URNIK:srecanje:817
X-WR-TIMEZONE:Europe/Ljubljana
END:VEVENT
BEGIN:VEVENT
SUMMARY:Distribucijska logistika (PTTL) (DLO)\, Predavanje (P)
DTSTART;TZID=Europe/Ljubljana:20260107T080000
DTEND;TZID=Europe/Ljubljana:20260107T093500
DTSTAMP:20260422T053139Z
UID:fpp-AFLABS-URNIK:premaknjeno-srecanje:16277
ATTENDEE:3. letnik (PTTL, SS)
ATTENDEE:3. letnik (PTTL, VS)
CATEGORIES:Entry,Standard
COLOR:darkgreen
DESCRIPTION:Predmet: Distribucijska logistika (PTTL) (DLO)\, Predavanje (P
 )\nLetniki: 3. letnik (PTTL\, SS)\, 3. letnik (PTTL\, VS)\nIzvajalci: Patr
 icija Bajec\nProstor: R4
LOCATION:R4
ORGANIZER:Patricija Bajec
RELATED-TO:fpp-AFLABS-URNIK:srecanje:530
X-WR-TIMEZONE:Europe/Ljubljana
END:VEVENT
BEGIN:VEVENT
SUMMARY:Distribucijska logistika (PTTL) (DLO)\, Predavanje (P)
DTSTART;TZID=Europe/Ljubljana:20260114T080000
DTEND;TZID=Europe/Ljubljana:20260114T093500
DTSTAMP:20260422T053139Z
UID:fpp-AFLABS-URNIK:premaknjeno-srecanje:16278
ATTENDEE:3. letnik (PTTL, SS)
ATTENDEE:3. letnik (PTTL, VS)
CATEGORIES:Entry,Standard
COLOR:darkgreen
DESCRIPTION:Predmet: Distribucijska logistika (PTTL) (DLO)\, Predavanje (P
 )\nLetniki: 3. letnik (PTTL\, SS)\, 3. letnik (PTTL\, VS)\nIzvajalci: Patr
 icija Bajec\nProstor: R4
LOCATION:R4
ORGANIZER:Patricija Bajec
RELATED-TO:fpp-AFLABS-URNIK:srecanje:530
X-WR-TIMEZONE:Europe/Ljubljana
END:VEVENT
BEGIN:VEVENT
SUMMARY:Upravljanje oskrbovalnih verig in distribucije (TPL-U) (UOVD)\, Pr
 edavanje (P)
DTSTART;TZID=Europe/Ljubljana:20260108T080000
DTEND;TZID=Europe/Ljubljana:20260108T093500
DTSTAMP:20260422T053139Z
UID:fpp-AFLABS-URNIK:premaknjeno-srecanje:33726
ATTENDEE:3. letnik (TPL-U)
CATEGORIES:Entry,Standard
COLOR:darkgreen
DESCRIPTION:Predmet: Upravljanje oskrbovalnih verig in distribucije (TPL-U
 ) (UOVD)\, Predavanje (P)\nLetniki: 3. letnik (TPL-U)\nIzvajalci: Patricij
 a Bajec\nProstor: R1
LOCATION:R1
ORGANIZER:Patricija Bajec
RELATED-TO:fpp-AFLABS-URNIK:srecanje:1664
X-WR-TIMEZONE:Europe/Ljubljana
END:VEVENT
BEGIN:VEVENT
SUMMARY:Upravljanje oskrbovalnih verig in distribucije (TPL-U) (UOVD)\, Se
 minar (S)
DTSTART;TZID=Europe/Ljubljana:20260108T094000
DTEND;TZID=Europe/Ljubljana:20260108T102500
DTSTAMP:20260422T053139Z
UID:fpp-AFLABS-URNIK:premaknjeno-srecanje:33727
ATTENDEE:3. letnik (TPL-U)
CATEGORIES:Entry,Standard
COLOR:darkgreen
DESCRIPTION:Predmet: Upravljanje oskrbovalnih verig in distribucije (TPL-U
 ) (UOVD)\, Seminar (S)\nLetniki: 3. letnik (TPL-U)\nIzvajalci: Patricija B
 ajec\nProstor: R1
LOCATION:R1
ORGANIZER:Patricija Bajec
RELATED-TO:fpp-AFLABS-URNIK:srecanje:1665
X-WR-TIMEZONE:Europe/Ljubljana
END:VEVENT
BEGIN:VEVENT
SUMMARY:Distribucijska logistika (PTTL) - izredni (DLO-i)\, Predavanje (P)
DTSTART;TZID=Europe/Ljubljana:20260109T160000
DTEND;TZID=Europe/Ljubljana:20260109T200500
DTSTAMP:20260422T053139Z
UID:fpp-AFLABS-URNIK:premaknjeno-srecanje:32488
ATTENDEE:3. letnik - izredni (PTTL, SS)
CATEGORIES:Entry,Standard
COLOR:darkgreen
DESCRIPTION:Predmet: Distribucijska logistika (PTTL) - izredni (DLO-i)\, P
 redavanje (P)\nLetniki: 3. letnik - izredni (PTTL\, SS)\nIzvajalci: Patric
 ija Bajec\nProstor: OnLine
LOCATION:OnLine
ORGANIZER:Patricija Bajec
RELATED-TO:fpp-AFLABS-URNIK:srecanje:1338
X-WR-TIMEZONE:Europe/Ljubljana
END:VEVENT
BEGIN:VEVENT
SUMMARY:Distribucijska logistika (PTTL) - izredni (DLO-i)\, Predavanje (P)
DTSTART;TZID=Europe/Ljubljana:20260116T160000
DTEND;TZID=Europe/Ljubljana:20260116T200500
DTSTAMP:20260422T053139Z
UID:fpp-AFLABS-URNIK:premaknjeno-srecanje:32489
ATTENDEE:3. letnik - izredni (PTTL, SS)
CATEGORIES:Entry,Standard
COLOR:darkgreen
DESCRIPTION:Predmet: Distribucijska logistika (PTTL) - izredni (DLO-i)\, P
 redavanje (P)\nLetniki: 3. letnik - izredni (PTTL\, SS)\nIzvajalci: Patric
 ija Bajec\nProstor: OnLine
LOCATION:OnLine
ORGANIZER:Patricija Bajec
RELATED-TO:fpp-AFLABS-URNIK:srecanje:1338
X-WR-TIMEZONE:Europe/Ljubljana
END:VEVENT
BEGIN:VEVENT
SUMMARY:Distribucijska logistika (PTTL) - izredni (DLO-i)\, Predavanje (P)
DTSTART;TZID=Europe/Ljubljana:20260110T090000
DTEND;TZID=Europe/Ljubljana:20260110T121500
DTSTAMP:20260422T053139Z
UID:fpp-AFLABS-URNIK:premaknjeno-srecanje:32490
ATTENDEE:3. letnik - izredni (PTTL, SS)
CATEGORIES:Entry,Standard
COLOR:darkgreen
DESCRIPTION:Predmet: Distribucijska logistika (PTTL) - izredni (DLO-i)\, P
 redavanje (P)\nLetniki: 3. letnik - izredni (PTTL\, SS)\nIzvajalci: Patric
 ija Bajec\nProstor: OnLine
LOCATION:OnLine
ORGANIZER:Patricija Bajec
RELATED-TO:fpp-AFLABS-URNIK:srecanje:1339
X-WR-TIMEZONE:Europe/Ljubljana
END:VEVENT
BEGIN:VEVENT
SUMMARY:Distribucijska logistika (PTTL) - izredni (DLO-i)\, Predavanje (P)
DTSTART;TZID=Europe/Ljubljana:20260117T090000
DTEND;TZID=Europe/Ljubljana:20260117T121500
DTSTAMP:20260422T053139Z
UID:fpp-AFLABS-URNIK:premaknjeno-srecanje:32491
ATTENDEE:3. letnik - izredni (PTTL, SS)
CATEGORIES:Entry,Standard
COLOR:darkgreen
DESCRIPTION:Predmet: Distribucijska logistika (PTTL) - izredni (DLO-i)\, P
 redavanje (P)\nLetniki: 3. letnik - izredni (PTTL\, SS)\nIzvajalci: Patric
 ija Bajec\nProstor: OnLine
LOCATION:OnLine
ORGANIZER:Patricija Bajec
RELATED-TO:fpp-AFLABS-URNIK:srecanje:1339
X-WR-TIMEZONE:Europe/Ljubljana
END:VEVENT
BEGIN:VEVENT
SUMMARY:Upravljanje oskrbovalnih verig in distribucije (TPL-U) (UOVD)\, Se
 minar (S)
DTSTART;TZID=Europe/Ljubljana:20260115T094000
DTEND;TZID=Europe/Ljubljana:20260115T102500
DTSTAMP:20260422T053139Z
UID:fpp-AFLABS-URNIK:premaknjeno-srecanje:30801
ATTENDEE:3. letnik (TPL-U)
CATEGORIES:Entry,Standard
COLOR:darkgreen
DESCRIPTION:Predmet: Upravljanje oskrbovalnih verig in distribucije (TPL-U
 ) (UOVD)\, Seminar (S)\nLetniki: 3. letnik (TPL-U)\nIzvajalci: Patricija B
 ajec\nProstor: R4
LOCATION:R4
ORGANIZER:Patricija Bajec
RELATED-TO:fpp-AFLABS-URNIK:srecanje:814
X-WR-TIMEZONE:Europe/Ljubljana
END:VEVENT
BEGIN:VEVENT
SUMMARY:Upravljanje oskrbovalnih verig in distribucije (TPL-U) (UOVD)\, Pr
 edavanje (P)
DTSTART;TZID=Europe/Ljubljana:20260115T080000
DTEND;TZID=Europe/Ljubljana:20260115T093500
DTSTAMP:20260422T053139Z
UID:fpp-AFLABS-URNIK:premaknjeno-srecanje:33332
ATTENDEE:3. letnik (TPL-U)
CATEGORIES:Entry,Standard
COLOR:darkgreen
DESCRIPTION:Predmet: Upravljanje oskrbovalnih verig in distribucije (TPL-U
 ) (UOVD)\, Predavanje (P)\nLetniki: 3. letnik (TPL-U)\nIzvajalci: Patricij
 a Bajec\nProstor: R4
LOCATION:R4
ORGANIZER:Patricija Bajec
RELATED-TO:fpp-AFLABS-URNIK:srecanje:1540
X-WR-TIMEZONE:Europe/Ljubljana
END:VEVENT
BEGIN:VEVENT
SUMMARY:Logistični inženiring (PROM2) (LI)\, Predavanje (P)
DTSTART;TZID=Europe/Ljubljana:20260218T162000
DTEND;TZID=Europe/Ljubljana:20260218T184500
DTSTAMP:20260422T053139Z
UID:fpp-AFLABS-URNIK:premaknjeno-srecanje:28748
ATTENDEE:1. letnik (PROM2)
CATEGORIES:Entry,Standard
COLOR:darkgreen
DESCRIPTION:Predmet: Logistični inženiring (PROM2) (LI)\, Predavanje (P)
 \nLetniki: 1. letnik (PROM2)\nIzvajalci: Patricija Bajec\nProstor: R1
LOCATION:R1
ORGANIZER:Patricija Bajec
RELATED-TO:fpp-AFLABS-URNIK:srecanje:944
X-WR-TIMEZONE:Europe/Ljubljana
END:VEVENT
BEGIN:VEVENT
SUMMARY:Logistični inženiring (PROM2) (LI)\, Predavanje (P)
DTSTART;TZID=Europe/Ljubljana:20260225T162000
DTEND;TZID=Europe/Ljubljana:20260225T184500
DTSTAMP:20260422T053139Z
UID:fpp-AFLABS-URNIK:premaknjeno-srecanje:28749
ATTENDEE:1. letnik (PROM2)
CATEGORIES:Entry,Standard
COLOR:darkgreen
DESCRIPTION:Predmet: Logistični inženiring (PROM2) (LI)\, Predavanje (P)
 \nLetniki: 1. letnik (PROM2)\nIzvajalci: Patricija Bajec\nProstor: R1
LOCATION:R1
ORGANIZER:Patricija Bajec
RELATED-TO:fpp-AFLABS-URNIK:srecanje:944
X-WR-TIMEZONE:Europe/Ljubljana
END:VEVENT
BEGIN:VEVENT
SUMMARY:Logistični inženiring (PROM2) (LI)\, Seminar (S)
DTSTART;TZID=Europe/Ljubljana:20260218T162000
DTEND;TZID=Europe/Ljubljana:20260218T184500
DTSTAMP:20260422T053139Z
UID:fpp-AFLABS-URNIK:premaknjeno-srecanje:28764
ATTENDEE:1. letnik (PROM2)
CATEGORIES:Entry,Standard
COLOR:darkgreen
DESCRIPTION:Predmet: Logistični inženiring (PROM2) (LI)\, Seminar (S)\nL
 etniki: 1. letnik (PROM2)\nIzvajalci: Patricija Bajec\nProstor: R1
LOCATION:R1
ORGANIZER:Patricija Bajec
RELATED-TO:fpp-AFLABS-URNIK:srecanje:1119
X-WR-TIMEZONE:Europe/Ljubljana
END:VEVENT
BEGIN:VEVENT
SUMMARY:Logistični inženiring (PROM2) (LI)\, Seminar (S)
DTSTART;TZID=Europe/Ljubljana:20260225T162000
DTEND;TZID=Europe/Ljubljana:20260225T184500
DTSTAMP:20260422T053139Z
UID:fpp-AFLABS-URNIK:premaknjeno-srecanje:28765
ATTENDEE:1. letnik (PROM2)
CATEGORIES:Entry,Standard
COLOR:darkgreen
DESCRIPTION:Predmet: Logistični inženiring (PROM2) (LI)\, Seminar (S)\nL
 etniki: 1. letnik (PROM2)\nIzvajalci: Patricija Bajec\nProstor: R1
LOCATION:R1
ORGANIZER:Patricija Bajec
RELATED-TO:fpp-AFLABS-URNIK:srecanje:1119
X-WR-TIMEZONE:Europe/Ljubljana
END:VEVENT
BEGIN:VEVENT
SUMMARY:Logistični inženiring (PROM2) (LI)\, Seminar (S)
DTSTART;TZID=Europe/Ljubljana:20260218T185000
DTEND;TZID=Europe/Ljubljana:20260218T202500
DTSTAMP:20260422T053139Z
UID:fpp-AFLABS-URNIK:premaknjeno-srecanje:28841
ATTENDEE:1. letnik (PROM2)
CATEGORIES:Entry,Standard
COLOR:darkgreen
DESCRIPTION:Predmet: Logistični inženiring (PROM2) (LI)\, Seminar (S)\nL
 etniki: 1. letnik (PROM2)\nIzvajalci: Patricija Bajec\nProstor: R1
LOCATION:R1
ORGANIZER:Patricija Bajec
RELATED-TO:fpp-AFLABS-URNIK:srecanje:1120
X-WR-TIMEZONE:Europe/Ljubljana
END:VEVENT
BEGIN:VEVENT
SUMMARY:Logistični inženiring (PROM2) (LI)\, Seminar (S)
DTSTART;TZID=Europe/Ljubljana:20260225T185000
DTEND;TZID=Europe/Ljubljana:20260225T202500
DTSTAMP:20260422T053139Z
UID:fpp-AFLABS-URNIK:premaknjeno-srecanje:28842
ATTENDEE:1. letnik (PROM2)
CATEGORIES:Entry,Standard
COLOR:darkgreen
DESCRIPTION:Predmet: Logistični inženiring (PROM2) (LI)\, Seminar (S)\nL
 etniki: 1. letnik (PROM2)\nIzvajalci: Patricija Bajec\nProstor: R1
LOCATION:R1
ORGANIZER:Patricija Bajec
RELATED-TO:fpp-AFLABS-URNIK:srecanje:1120
X-WR-TIMEZONE:Europe/Ljubljana
END:VEVENT
BEGIN:VEVENT
SUMMARY:Teorija logistike in oskrbovalnih verig (TPL-U) (TLOV)\, Seminar (
 S)
DTSTART;TZID=Europe/Ljubljana:20260219T112000
DTEND;TZID=Europe/Ljubljana:20260219T120500
DTSTAMP:20260422T053139Z
UID:fpp-AFLABS-URNIK:premaknjeno-srecanje:25627
ATTENDEE:2. letnik (TPL-U)
CATEGORIES:Entry,Standard
COLOR:darkgreen
DESCRIPTION:Predmet: Teorija logistike in oskrbovalnih verig (TPL-U) (TLOV
 )\, Seminar (S)\nLetniki: 2. letnik (TPL-U)\nIzvajalci: Patricija Bajec\, 
 Veronika Randl\nProstor: 204
LOCATION:204
ORGANIZER:Patricija Bajec, Veronika Randl
RELATED-TO:fpp-AFLABS-URNIK:srecanje:1051
X-WR-TIMEZONE:Europe/Ljubljana
END:VEVENT
BEGIN:VEVENT
SUMMARY:Teorija logistike in oskrbovalnih verig (TPL-U) (TLOV)\, Seminar (
 S)
DTSTART;TZID=Europe/Ljubljana:20260226T112000
DTEND;TZID=Europe/Ljubljana:20260226T120500
DTSTAMP:20260422T053139Z
UID:fpp-AFLABS-URNIK:premaknjeno-srecanje:25628
ATTENDEE:2. letnik (TPL-U)
CATEGORIES:Entry,Standard
COLOR:darkgreen
DESCRIPTION:Predmet: Teorija logistike in oskrbovalnih verig (TPL-U) (TLOV
 )\, Seminar (S)\nLetniki: 2. letnik (TPL-U)\nIzvajalci: Patricija Bajec\, 
 Veronika Randl\nProstor: 204
LOCATION:204
ORGANIZER:Patricija Bajec, Veronika Randl
RELATED-TO:fpp-AFLABS-URNIK:srecanje:1051
X-WR-TIMEZONE:Europe/Ljubljana
END:VEVENT
BEGIN:VEVENT
SUMMARY:Upravljanje oskrbovalnih verig (PTTL) - izredni (UOV-i)\, Predavan
 je (P)
DTSTART;TZID=Europe/Ljubljana:20260220T160000
DTEND;TZID=Europe/Ljubljana:20260220T191500
DTSTAMP:20260422T053139Z
UID:fpp-AFLABS-URNIK:premaknjeno-srecanje:32501
ATTENDEE:3. letnik - izredni (PTTL, SS)
CATEGORIES:Entry,Standard
COLOR:darkgreen
DESCRIPTION:Predmet: Upravljanje oskrbovalnih verig (PTTL) - izredni (UOV-
 i)\, Predavanje (P)\nLetniki: 3. letnik - izredni (PTTL\, SS)\nIzvajalci: 
 Patricija Bajec\nProstor: OnLine
LOCATION:OnLine
ORGANIZER:Patricija Bajec
RELATED-TO:fpp-AFLABS-URNIK:srecanje:1345
X-WR-TIMEZONE:Europe/Ljubljana
END:VEVENT
BEGIN:VEVENT
SUMMARY:Upravljanje oskrbovalnih verig (PTTL) - izredni (UOV-i)\, Predavan
 je (P)
DTSTART;TZID=Europe/Ljubljana:20260227T160000
DTEND;TZID=Europe/Ljubljana:20260227T191500
DTSTAMP:20260422T053139Z
UID:fpp-AFLABS-URNIK:premaknjeno-srecanje:32502
ATTENDEE:3. letnik - izredni (PTTL, SS)
CATEGORIES:Entry,Standard
COLOR:darkgreen
DESCRIPTION:Predmet: Upravljanje oskrbovalnih verig (PTTL) - izredni (UOV-
 i)\, Predavanje (P)\nLetniki: 3. letnik - izredni (PTTL\, SS)\nIzvajalci: 
 Patricija Bajec\nProstor: OnLine
LOCATION:OnLine
ORGANIZER:Patricija Bajec
RELATED-TO:fpp-AFLABS-URNIK:srecanje:1345
X-WR-TIMEZONE:Europe/Ljubljana
END:VEVENT
BEGIN:VEVENT
SUMMARY:Upravljanje oskrbovalnih verig (PTTL) - izredni (UOV-i)\, Predavan
 je (P)
DTSTART;TZID=Europe/Ljubljana:20260221T090000
DTEND;TZID=Europe/Ljubljana:20260221T121500
DTSTAMP:20260422T053139Z
UID:fpp-AFLABS-URNIK:premaknjeno-srecanje:32504
ATTENDEE:3. letnik - izredni (PTTL, SS)
CATEGORIES:Entry,Standard
COLOR:darkgreen
DESCRIPTION:Predmet: Upravljanje oskrbovalnih verig (PTTL) - izredni (UOV-
 i)\, Predavanje (P)\nLetniki: 3. letnik - izredni (PTTL\, SS)\nIzvajalci: 
 Patricija Bajec\nProstor: OnLine
LOCATION:OnLine
ORGANIZER:Patricija Bajec
RELATED-TO:fpp-AFLABS-URNIK:srecanje:1346
X-WR-TIMEZONE:Europe/Ljubljana
END:VEVENT
BEGIN:VEVENT
SUMMARY:Upravljanje oskrbovalnih verig (PTTL) - izredni (UOV-i)\, Predavan
 je (P)
DTSTART;TZID=Europe/Ljubljana:20260228T090000
DTEND;TZID=Europe/Ljubljana:20260228T121500
DTSTAMP:20260422T053139Z
UID:fpp-AFLABS-URNIK:premaknjeno-srecanje:32505
ATTENDEE:3. letnik - izredni (PTTL, SS)
CATEGORIES:Entry,Standard
COLOR:darkgreen
DESCRIPTION:Predmet: Upravljanje oskrbovalnih verig (PTTL) - izredni (UOV-
 i)\, Predavanje (P)\nLetniki: 3. letnik - izredni (PTTL\, SS)\nIzvajalci: 
 Patricija Bajec\nProstor: OnLine
LOCATION:OnLine
ORGANIZER:Patricija Bajec
RELATED-TO:fpp-AFLABS-URNIK:srecanje:1346
X-WR-TIMEZONE:Europe/Ljubljana
END:VEVENT
END:VCALENDAR
