BEGIN:VCALENDAR
VERSION:2.0
PRODID:-//AFLabs urnik izvoz - fpp//aflabs.si//SI
DTSTAMP:20260423T114558Z
NAME:UL FPP Urnik
REFRESH-INTERVAL:PT1H
SOURCE:https://afurnik-fpp.dev.aflabs.org/en/teacher/30?day=2025-09-03&exp
 ort=1
URL:https://afurnik-fpp.dev.aflabs.org/en/teacher/30?day=2025-09-03&export
 =1
X-PUBLISHED-TTL:PT1H
X-WR-CALNAME:UL FPP Urnik
X-WR-TIMEZONE:Europe/Ljubljana
BEGIN:VTIMEZONE
TZID:Europe/Ljubljana
BEGIN:DAYLIGHT
DTSTART:20260329T020000
RDATE:20260329T020000
RDATE:20270328T020000
TZNAME:CEST
TZOFFSETFROM:+0100
TZOFFSETTO:+0200
END:DAYLIGHT
BEGIN:STANDARD
DTSTART:20261025T030000
RDATE:20261025T030000
RDATE:20271031T030000
TZNAME:CET
TZOFFSETFROM:+0200
TZOFFSETTO:+0100
END:STANDARD
END:VTIMEZONE
BEGIN:VEVENT
SUMMARY:Intelligent Transportation Systems and Services (ITSS)\, Predavanj
 e (P)
DTSTART;TZID=Europe/Ljubljana:20251003T085000
DTEND;TZID=Europe/Ljubljana:20251003T102500
DTSTAMP:20260423T114558Z
UID:fpp-AFLABS-URNIK:premaknjeno-srecanje:14730
ATTENDEE:3. letnik (TPL-U)
CATEGORIES:Entry,Standard
COLOR:darkgreen
DESCRIPTION:Predmet: Intelligent Transportation Systems and Services (ITSS
 )\, Predavanje (P)\nLetniki: 3. letnik (TPL-U)\nIzvajalci: Evelin Krmac\nP
 rostor: 206
LOCATION:206
ORGANIZER:Evelin Krmac
RELATED-TO:fpp-AFLABS-URNIK:srecanje:557
X-WR-TIMEZONE:Europe/Ljubljana
END:VEVENT
END:VCALENDAR
