BEGIN:VCALENDAR
VERSION:2.0
PRODID:-//AFLabs urnik izvoz - fpp//aflabs.si//SI
DTSTAMP:20260422T043152Z
NAME:UL FPP Urnik
REFRESH-INTERVAL:PT1H
SOURCE:https://afurnik-fpp.dev.aflabs.org/en/teacher/31?day=2024-08-27&exp
 ort=1
URL:https://afurnik-fpp.dev.aflabs.org/en/teacher/31?day=2024-08-27&export
 =1
X-PUBLISHED-TTL:PT1H
X-WR-CALNAME:UL FPP Urnik
X-WR-TIMEZONE:Europe/Ljubljana
BEGIN:VTIMEZONE
TZID:Europe/Ljubljana
BEGIN:DAYLIGHT
DTSTART:20260329T020000
RDATE:20260329T020000
RDATE:20270328T020000
TZNAME:CEST
TZOFFSETFROM:+0100
TZOFFSETTO:+0200
END:DAYLIGHT
BEGIN:STANDARD
DTSTART:20261025T030000
RDATE:20261025T030000
RDATE:20271031T030000
TZNAME:CET
TZOFFSETFROM:+0200
TZOFFSETTO:+0100
END:STANDARD
END:VTIMEZONE
BEGIN:VEVENT
SUMMARY:Prometne tehnologije (PTTL) (PT)\, Avditorne vaje (AV)
DTSTART;TZID=Europe/Ljubljana:20241001T112000
DTEND;TZID=Europe/Ljubljana:20241001T120500
DTSTAMP:20260422T043152Z
UID:fpp-AFLABS-URNIK:premaknjeno-srecanje:45
ATTENDEE:2. letnik (PTTL, SS)
ATTENDEE:2. letnik (PTTL, VS)
CATEGORIES:Entry,Standard
COLOR:darkgreen
DESCRIPTION:Predmet: Prometne tehnologije (PTTL) (PT)\, Avditorne vaje (AV
 )\nLetniki: 2. letnik (PTTL\, SS)\, 2. letnik (PTTL\, VS)\nIzvajalci: Vivi
 en Lorenčič\nProstor: amfiteater
LOCATION:amfiteater
ORGANIZER:Vivien Lorenčič
RELATED-TO:fpp-AFLABS-URNIK:srecanje:45
X-WR-TIMEZONE:Europe/Ljubljana
END:VEVENT
BEGIN:VEVENT
SUMMARY:Prometne tehnologije (PTTL) (PT)\, Laboratorijske vaje (LV)
DTSTART;TZID=Europe/Ljubljana:20241001T130000
DTEND;TZID=Europe/Ljubljana:20241001T143500
DTSTAMP:20260422T043152Z
UID:fpp-AFLABS-URNIK:premaknjeno-srecanje:48
ATTENDEE:2. letnik (PTTL, SS)
ATTENDEE:2. letnik (PTTL, VS)
CATEGORIES:Entry,Standard
COLOR:darkgreen
DESCRIPTION:Predmet: Prometne tehnologije (PTTL) (PT)\, Laboratorijske vaj
 e (LV)\nLetniki: 2. letnik (PTTL\, SS)\, 2. letnik (PTTL\, VS)\nIzvajalci:
  Vivien Lorenčič\nProstor: R1
LOCATION:R1
ORGANIZER:Vivien Lorenčič
RELATED-TO:fpp-AFLABS-URNIK:srecanje:48
X-WR-TIMEZONE:Europe/Ljubljana
END:VEVENT
BEGIN:VEVENT
SUMMARY:Prometne tehnologije (PTTL) (PT)\, Laboratorijske vaje (LV)
DTSTART;TZID=Europe/Ljubljana:20241001T144000
DTEND;TZID=Europe/Ljubljana:20241001T161500
DTSTAMP:20260422T043152Z
UID:fpp-AFLABS-URNIK:premaknjeno-srecanje:54
ATTENDEE:2. letnik (PTTL, SS)
ATTENDEE:2. letnik (PTTL, VS)
CATEGORIES:Entry,Standard
COLOR:darkgreen
DESCRIPTION:Predmet: Prometne tehnologije (PTTL) (PT)\, Laboratorijske vaj
 e (LV)\nLetniki: 2. letnik (PTTL\, SS)\, 2. letnik (PTTL\, VS)\nIzvajalci:
  Vivien Lorenčič\nProstor: R1
LOCATION:R1
ORGANIZER:Vivien Lorenčič
RELATED-TO:fpp-AFLABS-URNIK:srecanje:54
X-WR-TIMEZONE:Europe/Ljubljana
END:VEVENT
BEGIN:VEVENT
SUMMARY:Prometne tehnologije (PTTL) (PT)\, Laboratorijske vaje (LV)
DTSTART;TZID=Europe/Ljubljana:20241001T162000
DTEND;TZID=Europe/Ljubljana:20241001T175500
DTSTAMP:20260422T043152Z
UID:fpp-AFLABS-URNIK:premaknjeno-srecanje:57
ATTENDEE:2. letnik (PTTL, SS)
ATTENDEE:2. letnik (PTTL, VS)
CATEGORIES:Entry,Standard
COLOR:darkgreen
DESCRIPTION:Predmet: Prometne tehnologije (PTTL) (PT)\, Laboratorijske vaj
 e (LV)\nLetniki: 2. letnik (PTTL\, SS)\, 2. letnik (PTTL\, VS)\nIzvajalci:
  Vivien Lorenčič\nProstor: R4
LOCATION:R4
ORGANIZER:Vivien Lorenčič
RELATED-TO:fpp-AFLABS-URNIK:srecanje:57
X-WR-TIMEZONE:Europe/Ljubljana
END:VEVENT
END:VCALENDAR
