BEGIN:VCALENDAR
VERSION:2.0
PRODID:-//AFLabs urnik izvoz - fpp//aflabs.si//SI
DTSTAMP:20260422T072850Z
NAME:UL FPP Urnik
REFRESH-INTERVAL:PT1H
SOURCE:https://afurnik-fpp.dev.aflabs.org/en/teacher/39?day=2025-09-01&exp
 ort=1
URL:https://afurnik-fpp.dev.aflabs.org/en/teacher/39?day=2025-09-01&export
 =1
X-PUBLISHED-TTL:PT1H
X-WR-CALNAME:UL FPP Urnik
X-WR-TIMEZONE:Europe/Ljubljana
BEGIN:VTIMEZONE
TZID:Europe/Ljubljana
BEGIN:DAYLIGHT
DTSTART:20260329T020000
RDATE:20260329T020000
RDATE:20270328T020000
TZNAME:CEST
TZOFFSETFROM:+0100
TZOFFSETTO:+0200
END:DAYLIGHT
BEGIN:STANDARD
DTSTART:20261025T030000
RDATE:20261025T030000
RDATE:20271031T030000
TZNAME:CET
TZOFFSETFROM:+0200
TZOFFSETTO:+0100
END:STANDARD
END:VTIMEZONE
BEGIN:VEVENT
SUMMARY:Integrated Propulsion Systems (SIP)\, Predavanje (P)
DTSTART;TZID=Europe/Ljubljana:20251003T162000
DTEND;TZID=Europe/Ljubljana:20251003T202500
DTSTAMP:20260422T072850Z
UID:fpp-AFLABS-URNIK:premaknjeno-srecanje:13297
ATTENDEE:2. letnik (POM2)
CATEGORIES:Entry,Standard
COLOR:darkgreen
DESCRIPTION:Predmet: Integrated Propulsion Systems (SIP)\, Predavanje (P)\
 nLetniki: 2. letnik (POM2)\nIzvajalci: Peter Vidmar\nProstor: 202
LOCATION:202
ORGANIZER:Peter Vidmar
RELATED-TO:fpp-AFLABS-URNIK:srecanje:831
X-WR-TIMEZONE:Europe/Ljubljana
END:VEVENT
BEGIN:VEVENT
SUMMARY:Nauk o ladji 2 (N) (NOL2)\, Predavanje (P)
DTSTART;TZID=Europe/Ljubljana:20251006T135000
DTEND;TZID=Europe/Ljubljana:20251006T161500
DTSTAMP:20260422T072850Z
UID:fpp-AFLABS-URNIK:premaknjeno-srecanje:19224
ATTENDEE:2. letnik (N, SS)
ATTENDEE:2. letnik (N, VS)
CATEGORIES:Entry,Standard
COLOR:darkgreen
DESCRIPTION:Predmet: Nauk o ladji 2 (N) (NOL2)\, Predavanje (P)\nLetniki: 
 2. letnik (N\, SS)\, 2. letnik (N\, VS)\nIzvajalci: Marko Perkovič\nProst
 or: NE1
LOCATION:NE1
ORGANIZER:Marko Perkovič
RELATED-TO:fpp-AFLABS-URNIK:srecanje:640
X-WR-TIMEZONE:Europe/Ljubljana
END:VEVENT
BEGIN:VEVENT
SUMMARY:Nauk o ladji 2 (N) (NOL2)\, Seminar (S)
DTSTART;TZID=Europe/Ljubljana:20251006T162000
DTEND;TZID=Europe/Ljubljana:20251006T170500
DTSTAMP:20260422T072850Z
UID:fpp-AFLABS-URNIK:premaknjeno-srecanje:19239
ATTENDEE:2. letnik (N, SS)
ATTENDEE:2. letnik (N, VS)
CATEGORIES:Entry,Standard
COLOR:darkgreen
DESCRIPTION:Predmet: Nauk o ladji 2 (N) (NOL2)\, Seminar (S)\nLetniki: 2. 
 letnik (N\, SS)\, 2. letnik (N\, VS)\nIzvajalci: Marko Perkovič\nProstor:
  NE1
LOCATION:NE1
ORGANIZER:Marko Perkovič
RELATED-TO:fpp-AFLABS-URNIK:srecanje:641
X-WR-TIMEZONE:Europe/Ljubljana
END:VEVENT
END:VCALENDAR
