BEGIN:VCALENDAR
VERSION:2.0
PRODID:-//AFLabs urnik izvoz - fpp//aflabs.si//SI
DTSTAMP:20260422T114119Z
NAME:UL FPP Urnik
REFRESH-INTERVAL:PT1H
SOURCE:https://afurnik-fpp.dev.aflabs.org/en/teacher/40?day=2026-01-19&exp
 ort=1
URL:https://afurnik-fpp.dev.aflabs.org/en/teacher/40?day=2026-01-19&export
 =1
X-PUBLISHED-TTL:PT1H
X-WR-CALNAME:UL FPP Urnik
X-WR-TIMEZONE:Europe/Ljubljana
BEGIN:VTIMEZONE
TZID:Europe/Ljubljana
BEGIN:DAYLIGHT
DTSTART:20260329T020000
RDATE:20260329T020000
RDATE:20270328T020000
TZNAME:CEST
TZOFFSETFROM:+0100
TZOFFSETTO:+0200
END:DAYLIGHT
BEGIN:STANDARD
DTSTART:20261025T030000
RDATE:20261025T030000
RDATE:20271031T030000
TZNAME:CET
TZOFFSETFROM:+0200
TZOFFSETTO:+0100
END:STANDARD
END:VTIMEZONE
BEGIN:VEVENT
SUMMARY:Plinski in parni sistemi (PS) (PPS)\, Predavanje (P)
DTSTART;TZID=Europe/Ljubljana:20251215T085000
DTEND;TZID=Europe/Ljubljana:20251215T111500
DTSTAMP:20260422T114119Z
UID:fpp-AFLABS-URNIK:premaknjeno-srecanje:20739
ATTENDEE:3. letnik (PS, SS)
ATTENDEE:3. letnik (PS, VS)
CATEGORIES:Entry,Standard
COLOR:darkgreen
DESCRIPTION:Predmet: Plinski in parni sistemi (PS) (PPS)\, Predavanje (P)\
 nLetniki: 3. letnik (PS\, SS)\, 3. letnik (PS\, VS)\nIzvajalci: Stojan Pet
 elin\nProstor: LPI
LOCATION:LPI
ORGANIZER:Stojan Petelin
RELATED-TO:fpp-AFLABS-URNIK:srecanje:674
X-WR-TIMEZONE:Europe/Ljubljana
END:VEVENT
BEGIN:VEVENT
SUMMARY:Plinski in parni sistemi (PS) (PPS)\, Predavanje (P)
DTSTART;TZID=Europe/Ljubljana:20251222T085000
DTEND;TZID=Europe/Ljubljana:20251222T111500
DTSTAMP:20260422T114119Z
UID:fpp-AFLABS-URNIK:premaknjeno-srecanje:20740
ATTENDEE:3. letnik (PS, SS)
ATTENDEE:3. letnik (PS, VS)
CATEGORIES:Entry,Standard
COLOR:darkgreen
DESCRIPTION:Predmet: Plinski in parni sistemi (PS) (PPS)\, Predavanje (P)\
 nLetniki: 3. letnik (PS\, SS)\, 3. letnik (PS\, VS)\nIzvajalci: Stojan Pet
 elin\nProstor: LPI
LOCATION:LPI
ORGANIZER:Stojan Petelin
RELATED-TO:fpp-AFLABS-URNIK:srecanje:674
X-WR-TIMEZONE:Europe/Ljubljana
END:VEVENT
BEGIN:VEVENT
SUMMARY:Plinski in parni sistemi (PS) (PPS)\, Predavanje (P)
DTSTART;TZID=Europe/Ljubljana:20251229T085000
DTEND;TZID=Europe/Ljubljana:20251229T111500
DTSTAMP:20260422T114119Z
UID:fpp-AFLABS-URNIK:premaknjeno-srecanje:20741
ATTENDEE:3. letnik (PS, SS)
ATTENDEE:3. letnik (PS, VS)
CATEGORIES:Entry,Standard
COLOR:darkgreen
DESCRIPTION:Predmet: Plinski in parni sistemi (PS) (PPS)\, Predavanje (P)\
 nLetniki: 3. letnik (PS\, SS)\, 3. letnik (PS\, VS)\nIzvajalci: Stojan Pet
 elin\nProstor: LPI
LOCATION:LPI
ORGANIZER:Stojan Petelin
RELATED-TO:fpp-AFLABS-URNIK:srecanje:674
X-WR-TIMEZONE:Europe/Ljubljana
END:VEVENT
BEGIN:VEVENT
SUMMARY:Plinski in parni sistemi (PS) (PPS)\, Predavanje (P)
DTSTART;TZID=Europe/Ljubljana:20260105T085000
DTEND;TZID=Europe/Ljubljana:20260105T111500
DTSTAMP:20260422T114119Z
UID:fpp-AFLABS-URNIK:premaknjeno-srecanje:20742
ATTENDEE:3. letnik (PS, SS)
ATTENDEE:3. letnik (PS, VS)
CATEGORIES:Entry,Standard
COLOR:darkgreen
DESCRIPTION:Predmet: Plinski in parni sistemi (PS) (PPS)\, Predavanje (P)\
 nLetniki: 3. letnik (PS\, SS)\, 3. letnik (PS\, VS)\nIzvajalci: Stojan Pet
 elin\nProstor: LPI
LOCATION:LPI
ORGANIZER:Stojan Petelin
RELATED-TO:fpp-AFLABS-URNIK:srecanje:674
X-WR-TIMEZONE:Europe/Ljubljana
END:VEVENT
BEGIN:VEVENT
SUMMARY:Plinski in parni sistemi (PS) (PPS)\, Predavanje (P)
DTSTART;TZID=Europe/Ljubljana:20260112T085000
DTEND;TZID=Europe/Ljubljana:20260112T111500
DTSTAMP:20260422T114119Z
UID:fpp-AFLABS-URNIK:premaknjeno-srecanje:20743
ATTENDEE:3. letnik (PS, SS)
ATTENDEE:3. letnik (PS, VS)
CATEGORIES:Entry,Standard
COLOR:darkgreen
DESCRIPTION:Predmet: Plinski in parni sistemi (PS) (PPS)\, Predavanje (P)\
 nLetniki: 3. letnik (PS\, SS)\, 3. letnik (PS\, VS)\nIzvajalci: Stojan Pet
 elin\nProstor: LPI
LOCATION:LPI
ORGANIZER:Stojan Petelin
RELATED-TO:fpp-AFLABS-URNIK:srecanje:674
X-WR-TIMEZONE:Europe/Ljubljana
END:VEVENT
BEGIN:VEVENT
SUMMARY:Delovni\, hladilni in pomožni stroji (PS) (DHPS)\, Predavanje (P)
DTSTART;TZID=Europe/Ljubljana:20260217T085000
DTEND;TZID=Europe/Ljubljana:20260217T111500
DTSTAMP:20260422T114119Z
UID:fpp-AFLABS-URNIK:premaknjeno-srecanje:21425
ATTENDEE:2. letnik (PS, SS)
ATTENDEE:2. letnik (PS, VS)
CATEGORIES:Entry,Standard
COLOR:darkgreen
DESCRIPTION:Predmet: Delovni\, hladilni in pomožni stroji (PS) (DHPS)\, P
 redavanje (P)\nLetniki: 2. letnik (PS\, SS)\, 2. letnik (PS\, VS)\nIzvajal
 ci: Blaž Luin\, Stojan Petelin\nProstor: PO1
LOCATION:PO1
ORGANIZER:Blaž Luin, Stojan Petelin
RELATED-TO:fpp-AFLABS-URNIK:srecanje:913
X-WR-TIMEZONE:Europe/Ljubljana
END:VEVENT
END:VCALENDAR
