BEGIN:VCALENDAR
VERSION:2.0
PRODID:-//AFLabs urnik izvoz - fpp//aflabs.si//SI
DTSTAMP:20260422T053203Z
NAME:UL FPP Urnik
REFRESH-INTERVAL:PT1H
SOURCE:https://afurnik-fpp.dev.aflabs.org/en/teacher/48?day=2025-09-01&exp
 ort=1
URL:https://afurnik-fpp.dev.aflabs.org/en/teacher/48?day=2025-09-01&export
 =1
X-PUBLISHED-TTL:PT1H
X-WR-CALNAME:UL FPP Urnik
X-WR-TIMEZONE:Europe/Ljubljana
BEGIN:VTIMEZONE
TZID:Europe/Ljubljana
BEGIN:DAYLIGHT
DTSTART:20260329T020000
RDATE:20260329T020000
RDATE:20270328T020000
TZNAME:CEST
TZOFFSETFROM:+0100
TZOFFSETTO:+0200
END:DAYLIGHT
BEGIN:STANDARD
DTSTART:20261025T030000
RDATE:20261025T030000
RDATE:20271031T030000
TZNAME:CET
TZOFFSETFROM:+0200
TZOFFSETTO:+0100
END:STANDARD
END:VTIMEZONE
BEGIN:VEVENT
SUMMARY:Pristanišča in terminali (PTTL) (PIT)\, Predavanje (P)
DTSTART;TZID=Europe/Ljubljana:20251001T135000
DTEND;TZID=Europe/Ljubljana:20251001T152500
DTSTAMP:20260422T053203Z
UID:fpp-AFLABS-URNIK:premaknjeno-srecanje:16466
ATTENDEE:3. letnik (PTTL, SS)
ATTENDEE:3. letnik (PTTL, VS)
CATEGORIES:Entry,Standard
COLOR:darkgreen
DESCRIPTION:Predmet: Pristanišča in terminali (PTTL) (PIT)\, Predavanje 
 (P)\nLetniki: 3. letnik (PTTL\, SS)\, 3. letnik (PTTL\, VS)\nIzvajalci: Ma
 ja Stojaković\nProstor: 202
LOCATION:202
ORGANIZER:Maja Stojaković
RELATED-TO:fpp-AFLABS-URNIK:srecanje:1180
X-WR-TIMEZONE:Europe/Ljubljana
END:VEVENT
BEGIN:VEVENT
SUMMARY:Pristanišča in terminali (PTTL) (PIT)\, Seminar (S)
DTSTART;TZID=Europe/Ljubljana:20251001T153000
DTEND;TZID=Europe/Ljubljana:20251001T161500
DTSTAMP:20260422T053203Z
UID:fpp-AFLABS-URNIK:premaknjeno-srecanje:16496
ATTENDEE:3. letnik (PTTL, SS)
ATTENDEE:3. letnik (PTTL, VS)
CATEGORIES:Entry,Standard
COLOR:darkgreen
DESCRIPTION:Predmet: Pristanišča in terminali (PTTL) (PIT)\, Seminar (S)
 \nLetniki: 3. letnik (PTTL\, SS)\, 3. letnik (PTTL\, VS)\nIzvajalci: Maja 
 Stojaković\nProstor: 202
LOCATION:202
ORGANIZER:Maja Stojaković
RELATED-TO:fpp-AFLABS-URNIK:srecanje:1181
X-WR-TIMEZONE:Europe/Ljubljana
END:VEVENT
BEGIN:VEVENT
SUMMARY:Transportna logistika (PTTL) (TL)\, Predavanje (P)
DTSTART;TZID=Europe/Ljubljana:20251002T085000
DTEND;TZID=Europe/Ljubljana:20251002T102500
DTSTAMP:20260422T053203Z
UID:fpp-AFLABS-URNIK:premaknjeno-srecanje:30130
ATTENDEE:1. letnik (PTTL, SS)
ATTENDEE:1. letnik (PTTL, VS)
CATEGORIES:Entry,Standard
COLOR:darkgreen
DESCRIPTION:Predmet: Transportna logistika (PTTL) (TL)\, Predavanje (P)\nL
 etniki: 1. letnik (PTTL\, SS)\, 1. letnik (PTTL\, VS)\nIzvajalci: Maja Sto
 jaković\nProstor: P2
LOCATION:P2
ORGANIZER:Maja Stojaković
RELATED-TO:fpp-AFLABS-URNIK:srecanje:800
X-WR-TIMEZONE:Europe/Ljubljana
END:VEVENT
BEGIN:VEVENT
SUMMARY:Poslovanje pomorskih agentov (PTTL) (PPA)\, Predavanje (P)
DTSTART;TZID=Europe/Ljubljana:20251006T171000
DTEND;TZID=Europe/Ljubljana:20251006T184500
DTSTAMP:20260422T053203Z
UID:fpp-AFLABS-URNIK:premaknjeno-srecanje:16053
ATTENDEE:3. letnik (PTTL, SS)
ATTENDEE:3. letnik (PTTL, VS)
CATEGORIES:Entry,Standard
COLOR:darkgreen
DESCRIPTION:Predmet: Poslovanje pomorskih agentov (PTTL) (PPA)\, Predavanj
 e (P)\nLetniki: 3. letnik (PTTL\, SS)\, 3. letnik (PTTL\, VS)\nIzvajalci: 
 Maja Stojaković\, Patrick Vlačič\nProstor: 202
LOCATION:202
ORGANIZER:Maja Stojaković, Patrick Vlačič
RELATED-TO:fpp-AFLABS-URNIK:srecanje:686
X-WR-TIMEZONE:Europe/Ljubljana
END:VEVENT
BEGIN:VEVENT
SUMMARY:Poslovanje pomorskih agentov (PTTL) (PPA)\, Seminar (S)
DTSTART;TZID=Europe/Ljubljana:20251006T185000
DTEND;TZID=Europe/Ljubljana:20251006T193500
DTSTAMP:20260422T053203Z
UID:fpp-AFLABS-URNIK:premaknjeno-srecanje:16158
ATTENDEE:3. letnik (PTTL, SS)
ATTENDEE:3. letnik (PTTL, VS)
CATEGORIES:Entry,Standard
COLOR:darkgreen
DESCRIPTION:Predmet: Poslovanje pomorskih agentov (PTTL) (PPA)\, Seminar (
 S)\nLetniki: 3. letnik (PTTL\, SS)\, 3. letnik (PTTL\, VS)\nIzvajalci: Maj
 a Stojaković\nProstor: 202
LOCATION:202
ORGANIZER:Maja Stojaković
RELATED-TO:fpp-AFLABS-URNIK:srecanje:687
X-WR-TIMEZONE:Europe/Ljubljana
END:VEVENT
END:VCALENDAR
