BEGIN:VCALENDAR
VERSION:2.0
PRODID:-//AFLabs urnik izvoz - fpp//aflabs.si//SI
DTSTAMP:20260422T053200Z
NAME:UL FPP Urnik
REFRESH-INTERVAL:PT1H
SOURCE:https://afurnik-fpp.dev.aflabs.org/en/teacher/49?day=2025-02-03&exp
 ort=1
URL:https://afurnik-fpp.dev.aflabs.org/en/teacher/49?day=2025-02-03&export
 =1
X-PUBLISHED-TTL:PT1H
X-WR-CALNAME:UL FPP Urnik
X-WR-TIMEZONE:Europe/Ljubljana
BEGIN:VTIMEZONE
TZID:Europe/Ljubljana
BEGIN:DAYLIGHT
DTSTART:20260329T020000
RDATE:20260329T020000
RDATE:20270328T020000
TZNAME:CEST
TZOFFSETFROM:+0100
TZOFFSETTO:+0200
END:DAYLIGHT
BEGIN:STANDARD
DTSTART:20261025T030000
RDATE:20261025T030000
RDATE:20271031T030000
TZNAME:CET
TZOFFSETFROM:+0200
TZOFFSETTO:+0100
END:STANDARD
END:VTIMEZONE
BEGIN:VEVENT
SUMMARY:Ladijske komunikacijske naprave (N) (LKN)\, Predavanje (P)
DTSTART;TZID=Europe/Ljubljana:20241230T085000
DTEND;TZID=Europe/Ljubljana:20241230T102500
DTSTAMP:20260422T053200Z
UID:fpp-AFLABS-URNIK:premaknjeno-srecanje:1491
ATTENDEE:3. letnik (N, SS)
ATTENDEE:3. letnik (N, VS)
CATEGORIES:Entry,Standard
COLOR:darkgreen
DESCRIPTION:Predmet: Ladijske komunikacijske naprave (N) (LKN)\, Predavanj
 e (P)\nLetniki: 3. letnik (N\, SS)\, 3. letnik (N\, VS)\nIzvajalci: Tanja 
 Brcko Satler\, Valter Suban\nProstor: PO1
LOCATION:PO1
ORGANIZER:Tanja Brcko Satler, Valter Suban
RELATED-TO:fpp-AFLABS-URNIK:srecanje:84
X-WR-TIMEZONE:Europe/Ljubljana
END:VEVENT
BEGIN:VEVENT
SUMMARY:Ladijske komunikacijske naprave (N) (LKN)\, Predavanje (P)
DTSTART;TZID=Europe/Ljubljana:20250106T085000
DTEND;TZID=Europe/Ljubljana:20250106T102500
DTSTAMP:20260422T053200Z
UID:fpp-AFLABS-URNIK:premaknjeno-srecanje:1492
ATTENDEE:3. letnik (N, SS)
ATTENDEE:3. letnik (N, VS)
CATEGORIES:Entry,Standard
COLOR:darkgreen
DESCRIPTION:Predmet: Ladijske komunikacijske naprave (N) (LKN)\, Predavanj
 e (P)\nLetniki: 3. letnik (N\, SS)\, 3. letnik (N\, VS)\nIzvajalci: Tanja 
 Brcko Satler\, Valter Suban\nProstor: PO1
LOCATION:PO1
ORGANIZER:Tanja Brcko Satler, Valter Suban
RELATED-TO:fpp-AFLABS-URNIK:srecanje:84
X-WR-TIMEZONE:Europe/Ljubljana
END:VEVENT
BEGIN:VEVENT
SUMMARY:Ladijske komunikacijske naprave (N) (LKN)\, Predavanje (P)
DTSTART;TZID=Europe/Ljubljana:20250113T085000
DTEND;TZID=Europe/Ljubljana:20250113T102500
DTSTAMP:20260422T053200Z
UID:fpp-AFLABS-URNIK:premaknjeno-srecanje:1493
ATTENDEE:3. letnik (N, SS)
ATTENDEE:3. letnik (N, VS)
CATEGORIES:Entry,Standard
COLOR:darkgreen
DESCRIPTION:Predmet: Ladijske komunikacijske naprave (N) (LKN)\, Predavanj
 e (P)\nLetniki: 3. letnik (N\, SS)\, 3. letnik (N\, VS)\nIzvajalci: Tanja 
 Brcko Satler\, Valter Suban\nProstor: PO1
LOCATION:PO1
ORGANIZER:Tanja Brcko Satler, Valter Suban
RELATED-TO:fpp-AFLABS-URNIK:srecanje:84
X-WR-TIMEZONE:Europe/Ljubljana
END:VEVENT
BEGIN:VEVENT
SUMMARY:Ladijske komunikacijske naprave (N) (LKN)\, Predavanje (P)
DTSTART;TZID=Europe/Ljubljana:20250120T085000
DTEND;TZID=Europe/Ljubljana:20250120T102500
DTSTAMP:20260422T053200Z
UID:fpp-AFLABS-URNIK:premaknjeno-srecanje:1494
ATTENDEE:3. letnik (N, SS)
ATTENDEE:3. letnik (N, VS)
CATEGORIES:Entry,Standard
COLOR:darkgreen
DESCRIPTION:Predmet: Ladijske komunikacijske naprave (N) (LKN)\, Predavanj
 e (P)\nLetniki: 3. letnik (N\, SS)\, 3. letnik (N\, VS)\nIzvajalci: Tanja 
 Brcko Satler\, Valter Suban\nProstor: PO1
LOCATION:PO1
ORGANIZER:Tanja Brcko Satler, Valter Suban
RELATED-TO:fpp-AFLABS-URNIK:srecanje:84
X-WR-TIMEZONE:Europe/Ljubljana
END:VEVENT
BEGIN:VEVENT
SUMMARY:Ro-Ro in potniške ladje (N) (RORO)\, Avditorne vaje (AV)
DTSTART;TZID=Europe/Ljubljana:20241230T153000
DTEND;TZID=Europe/Ljubljana:20241230T170500
DTSTAMP:20260422T053200Z
UID:fpp-AFLABS-URNIK:premaknjeno-srecanje:3906
ATTENDEE:3. letnik (N, SS)
ATTENDEE:3. letnik (N, VS)
CATEGORIES:Entry,Standard
COLOR:darkgreen
DESCRIPTION:Predmet: Ro-Ro in potniške ladje (N) (RORO)\, Avditorne vaje 
 (AV)\nLetniki: 3. letnik (N\, SS)\, 3. letnik (N\, VS)\nIzvajalci: Andrej 
 Gorup\, Valter Suban\nProstor: PO2
LOCATION:PO2
ORGANIZER:Andrej Gorup, Valter Suban
RELATED-TO:fpp-AFLABS-URNIK:srecanje:95
X-WR-TIMEZONE:Europe/Ljubljana
END:VEVENT
BEGIN:VEVENT
SUMMARY:Ro-Ro in potniške ladje (N) (RORO)\, Avditorne vaje (AV)
DTSTART;TZID=Europe/Ljubljana:20250106T153000
DTEND;TZID=Europe/Ljubljana:20250106T170500
DTSTAMP:20260422T053200Z
UID:fpp-AFLABS-URNIK:premaknjeno-srecanje:3907
ATTENDEE:3. letnik (N, SS)
ATTENDEE:3. letnik (N, VS)
CATEGORIES:Entry,Standard
COLOR:darkgreen
DESCRIPTION:Predmet: Ro-Ro in potniške ladje (N) (RORO)\, Avditorne vaje 
 (AV)\nLetniki: 3. letnik (N\, SS)\, 3. letnik (N\, VS)\nIzvajalci: Andrej 
 Gorup\, Valter Suban\nProstor: PO2
LOCATION:PO2
ORGANIZER:Andrej Gorup, Valter Suban
RELATED-TO:fpp-AFLABS-URNIK:srecanje:95
X-WR-TIMEZONE:Europe/Ljubljana
END:VEVENT
BEGIN:VEVENT
SUMMARY:Ro-Ro in potniške ladje (N) (RORO)\, Avditorne vaje (AV)
DTSTART;TZID=Europe/Ljubljana:20250113T153000
DTEND;TZID=Europe/Ljubljana:20250113T170500
DTSTAMP:20260422T053200Z
UID:fpp-AFLABS-URNIK:premaknjeno-srecanje:3908
ATTENDEE:3. letnik (N, SS)
ATTENDEE:3. letnik (N, VS)
CATEGORIES:Entry,Standard
COLOR:darkgreen
DESCRIPTION:Predmet: Ro-Ro in potniške ladje (N) (RORO)\, Avditorne vaje 
 (AV)\nLetniki: 3. letnik (N\, SS)\, 3. letnik (N\, VS)\nIzvajalci: Andrej 
 Gorup\, Valter Suban\nProstor: PO2
LOCATION:PO2
ORGANIZER:Andrej Gorup, Valter Suban
RELATED-TO:fpp-AFLABS-URNIK:srecanje:95
X-WR-TIMEZONE:Europe/Ljubljana
END:VEVENT
BEGIN:VEVENT
SUMMARY:Ro-Ro in potniške ladje (N) (RORO)\, Avditorne vaje (AV)
DTSTART;TZID=Europe/Ljubljana:20250120T153000
DTEND;TZID=Europe/Ljubljana:20250120T170500
DTSTAMP:20260422T053200Z
UID:fpp-AFLABS-URNIK:premaknjeno-srecanje:3909
ATTENDEE:3. letnik (N, SS)
ATTENDEE:3. letnik (N, VS)
CATEGORIES:Entry,Standard
COLOR:darkgreen
DESCRIPTION:Predmet: Ro-Ro in potniške ladje (N) (RORO)\, Avditorne vaje 
 (AV)\nLetniki: 3. letnik (N\, SS)\, 3. letnik (N\, VS)\nIzvajalci: Andrej 
 Gorup\, Valter Suban\nProstor: PO2
LOCATION:PO2
ORGANIZER:Andrej Gorup, Valter Suban
RELATED-TO:fpp-AFLABS-URNIK:srecanje:95
X-WR-TIMEZONE:Europe/Ljubljana
END:VEVENT
BEGIN:VEVENT
SUMMARY:Ro-Ro in potniške ladje (PS) (RORO)\, Avditorne vaje (AV)
DTSTART;TZID=Europe/Ljubljana:20241230T153000
DTEND;TZID=Europe/Ljubljana:20241230T170500
DTSTAMP:20260422T053200Z
UID:fpp-AFLABS-URNIK:premaknjeno-srecanje:3954
ATTENDEE:3. letnik (PS, SS)
ATTENDEE:3. letnik (PS, VS)
CATEGORIES:Entry,Standard
COLOR:darkgreen
DESCRIPTION:Predmet: Ro-Ro in potniške ladje (PS) (RORO)\, Avditorne vaje
  (AV)\nLetniki: 3. letnik (PS\, SS)\, 3. letnik (PS\, VS)\nIzvajalci: Andr
 ej Gorup\, Valter Suban\nProstor: PO2
LOCATION:PO2
ORGANIZER:Andrej Gorup, Valter Suban
RELATED-TO:fpp-AFLABS-URNIK:srecanje:135
X-WR-TIMEZONE:Europe/Ljubljana
END:VEVENT
BEGIN:VEVENT
SUMMARY:Ro-Ro in potniške ladje (PS) (RORO)\, Avditorne vaje (AV)
DTSTART;TZID=Europe/Ljubljana:20250106T153000
DTEND;TZID=Europe/Ljubljana:20250106T170500
DTSTAMP:20260422T053200Z
UID:fpp-AFLABS-URNIK:premaknjeno-srecanje:3955
ATTENDEE:3. letnik (PS, SS)
ATTENDEE:3. letnik (PS, VS)
CATEGORIES:Entry,Standard
COLOR:darkgreen
DESCRIPTION:Predmet: Ro-Ro in potniške ladje (PS) (RORO)\, Avditorne vaje
  (AV)\nLetniki: 3. letnik (PS\, SS)\, 3. letnik (PS\, VS)\nIzvajalci: Andr
 ej Gorup\, Valter Suban\nProstor: PO2
LOCATION:PO2
ORGANIZER:Andrej Gorup, Valter Suban
RELATED-TO:fpp-AFLABS-URNIK:srecanje:135
X-WR-TIMEZONE:Europe/Ljubljana
END:VEVENT
BEGIN:VEVENT
SUMMARY:Ro-Ro in potniške ladje (PS) (RORO)\, Avditorne vaje (AV)
DTSTART;TZID=Europe/Ljubljana:20250113T153000
DTEND;TZID=Europe/Ljubljana:20250113T170500
DTSTAMP:20260422T053200Z
UID:fpp-AFLABS-URNIK:premaknjeno-srecanje:3956
ATTENDEE:3. letnik (PS, SS)
ATTENDEE:3. letnik (PS, VS)
CATEGORIES:Entry,Standard
COLOR:darkgreen
DESCRIPTION:Predmet: Ro-Ro in potniške ladje (PS) (RORO)\, Avditorne vaje
  (AV)\nLetniki: 3. letnik (PS\, SS)\, 3. letnik (PS\, VS)\nIzvajalci: Andr
 ej Gorup\, Valter Suban\nProstor: PO2
LOCATION:PO2
ORGANIZER:Andrej Gorup, Valter Suban
RELATED-TO:fpp-AFLABS-URNIK:srecanje:135
X-WR-TIMEZONE:Europe/Ljubljana
END:VEVENT
BEGIN:VEVENT
SUMMARY:Ro-Ro in potniške ladje (PS) (RORO)\, Avditorne vaje (AV)
DTSTART;TZID=Europe/Ljubljana:20250120T153000
DTEND;TZID=Europe/Ljubljana:20250120T170500
DTSTAMP:20260422T053200Z
UID:fpp-AFLABS-URNIK:premaknjeno-srecanje:3957
ATTENDEE:3. letnik (PS, SS)
ATTENDEE:3. letnik (PS, VS)
CATEGORIES:Entry,Standard
COLOR:darkgreen
DESCRIPTION:Predmet: Ro-Ro in potniške ladje (PS) (RORO)\, Avditorne vaje
  (AV)\nLetniki: 3. letnik (PS\, SS)\, 3. letnik (PS\, VS)\nIzvajalci: Andr
 ej Gorup\, Valter Suban\nProstor: PO2
LOCATION:PO2
ORGANIZER:Andrej Gorup, Valter Suban
RELATED-TO:fpp-AFLABS-URNIK:srecanje:135
X-WR-TIMEZONE:Europe/Ljubljana
END:VEVENT
BEGIN:VEVENT
SUMMARY:Transportna sredstva (TPL-U) (TSR)\, Avditorne vaje (AV)
DTSTART;TZID=Europe/Ljubljana:20250102T112000
DTEND;TZID=Europe/Ljubljana:20250102T125500
DTSTAMP:20260422T053200Z
UID:fpp-AFLABS-URNIK:premaknjeno-srecanje:4818
ATTENDEE:2. letnik (TPL-U)
CATEGORIES:Entry,Standard
COLOR:darkgreen
DESCRIPTION:Predmet: Transportna sredstva (TPL-U) (TSR)\, Avditorne vaje (
 AV)\nLetniki: 2. letnik (TPL-U)\nIzvajalci: Vivien Lorenčič\, Valter Sub
 an\nProstor: 204
LOCATION:204
ORGANIZER:Vivien Lorenčič, Valter Suban
RELATED-TO:fpp-AFLABS-URNIK:srecanje:185
X-WR-TIMEZONE:Europe/Ljubljana
END:VEVENT
BEGIN:VEVENT
SUMMARY:Transportna sredstva (TPL-U) (TSR)\, Avditorne vaje (AV)
DTSTART;TZID=Europe/Ljubljana:20250109T112000
DTEND;TZID=Europe/Ljubljana:20250109T125500
DTSTAMP:20260422T053200Z
UID:fpp-AFLABS-URNIK:premaknjeno-srecanje:4819
ATTENDEE:2. letnik (TPL-U)
CATEGORIES:Entry,Standard
COLOR:darkgreen
DESCRIPTION:Predmet: Transportna sredstva (TPL-U) (TSR)\, Avditorne vaje (
 AV)\nLetniki: 2. letnik (TPL-U)\nIzvajalci: Vivien Lorenčič\, Valter Sub
 an\nProstor: 204
LOCATION:204
ORGANIZER:Vivien Lorenčič, Valter Suban
RELATED-TO:fpp-AFLABS-URNIK:srecanje:185
X-WR-TIMEZONE:Europe/Ljubljana
END:VEVENT
BEGIN:VEVENT
SUMMARY:Transportna sredstva (TPL-U) (TSR)\, Avditorne vaje (AV)
DTSTART;TZID=Europe/Ljubljana:20250116T112000
DTEND;TZID=Europe/Ljubljana:20250116T125500
DTSTAMP:20260422T053200Z
UID:fpp-AFLABS-URNIK:premaknjeno-srecanje:4820
ATTENDEE:2. letnik (TPL-U)
CATEGORIES:Entry,Standard
COLOR:darkgreen
DESCRIPTION:Predmet: Transportna sredstva (TPL-U) (TSR)\, Avditorne vaje (
 AV)\nLetniki: 2. letnik (TPL-U)\nIzvajalci: Vivien Lorenčič\, Valter Sub
 an\nProstor: 204
LOCATION:204
ORGANIZER:Vivien Lorenčič, Valter Suban
RELATED-TO:fpp-AFLABS-URNIK:srecanje:185
X-WR-TIMEZONE:Europe/Ljubljana
END:VEVENT
BEGIN:VEVENT
SUMMARY:Nauk o ladji 1 (N) (NOL1)\, Avditorne vaje (AV)
DTSTART;TZID=Europe/Ljubljana:20250103T121000
DTEND;TZID=Europe/Ljubljana:20250103T134500
DTSTAMP:20260422T053200Z
UID:fpp-AFLABS-URNIK:premaknjeno-srecanje:2195
ATTENDEE:1. letnik (N, SS)
ATTENDEE:1. letnik (N, VS)
CATEGORIES:Entry,Standard
COLOR:darkgreen
DESCRIPTION:Predmet: Nauk o ladji 1 (N) (NOL1)\, Avditorne vaje (AV)\nLetn
 iki: 1. letnik (N\, SS)\, 1. letnik (N\, VS)\nIzvajalci: Aleksander Grm\, 
 Valter Suban\nProstor: NE1
LOCATION:NE1
ORGANIZER:Aleksander Grm, Valter Suban
RELATED-TO:fpp-AFLABS-URNIK:srecanje:297
X-WR-TIMEZONE:Europe/Ljubljana
END:VEVENT
BEGIN:VEVENT
SUMMARY:Nauk o ladji 1 (N) (NOL1)\, Avditorne vaje (AV)
DTSTART;TZID=Europe/Ljubljana:20250110T121000
DTEND;TZID=Europe/Ljubljana:20250110T134500
DTSTAMP:20260422T053200Z
UID:fpp-AFLABS-URNIK:premaknjeno-srecanje:2196
ATTENDEE:1. letnik (N, SS)
ATTENDEE:1. letnik (N, VS)
CATEGORIES:Entry,Standard
COLOR:darkgreen
DESCRIPTION:Predmet: Nauk o ladji 1 (N) (NOL1)\, Avditorne vaje (AV)\nLetn
 iki: 1. letnik (N\, SS)\, 1. letnik (N\, VS)\nIzvajalci: Aleksander Grm\, 
 Valter Suban\nProstor: NE1
LOCATION:NE1
ORGANIZER:Aleksander Grm, Valter Suban
RELATED-TO:fpp-AFLABS-URNIK:srecanje:297
X-WR-TIMEZONE:Europe/Ljubljana
END:VEVENT
BEGIN:VEVENT
SUMMARY:Nauk o ladji 1 (N) (NOL1)\, Avditorne vaje (AV)
DTSTART;TZID=Europe/Ljubljana:20250117T121000
DTEND;TZID=Europe/Ljubljana:20250117T134500
DTSTAMP:20260422T053200Z
UID:fpp-AFLABS-URNIK:premaknjeno-srecanje:2197
ATTENDEE:1. letnik (N, SS)
ATTENDEE:1. letnik (N, VS)
CATEGORIES:Entry,Standard
COLOR:darkgreen
DESCRIPTION:Predmet: Nauk o ladji 1 (N) (NOL1)\, Avditorne vaje (AV)\nLetn
 iki: 1. letnik (N\, SS)\, 1. letnik (N\, VS)\nIzvajalci: Aleksander Grm\, 
 Valter Suban\nProstor: NE1
LOCATION:NE1
ORGANIZER:Aleksander Grm, Valter Suban
RELATED-TO:fpp-AFLABS-URNIK:srecanje:297
X-WR-TIMEZONE:Europe/Ljubljana
END:VEVENT
BEGIN:VEVENT
SUMMARY:Nauk o ladji 1 (N) (NOL1)\, Predavanje (P)
DTSTART;TZID=Europe/Ljubljana:20250103T085000
DTEND;TZID=Europe/Ljubljana:20250103T120500
DTSTAMP:20260422T053200Z
UID:fpp-AFLABS-URNIK:premaknjeno-srecanje:2210
ATTENDEE:1. letnik (N, SS)
ATTENDEE:1. letnik (N, VS)
CATEGORIES:Entry,Standard
COLOR:darkgreen
DESCRIPTION:Predmet: Nauk o ladji 1 (N) (NOL1)\, Predavanje (P)\nLetniki: 
 1. letnik (N\, SS)\, 1. letnik (N\, VS)\nIzvajalci: Valter Suban\nProstor:
  NE2
LOCATION:NE2
ORGANIZER:Valter Suban
RELATED-TO:fpp-AFLABS-URNIK:srecanje:291
X-WR-TIMEZONE:Europe/Ljubljana
END:VEVENT
BEGIN:VEVENT
SUMMARY:Nauk o ladji 1 (N) (NOL1)\, Predavanje (P)
DTSTART;TZID=Europe/Ljubljana:20250110T085000
DTEND;TZID=Europe/Ljubljana:20250110T120500
DTSTAMP:20260422T053200Z
UID:fpp-AFLABS-URNIK:premaknjeno-srecanje:2211
ATTENDEE:1. letnik (N, SS)
ATTENDEE:1. letnik (N, VS)
CATEGORIES:Entry,Standard
COLOR:darkgreen
DESCRIPTION:Predmet: Nauk o ladji 1 (N) (NOL1)\, Predavanje (P)\nLetniki: 
 1. letnik (N\, SS)\, 1. letnik (N\, VS)\nIzvajalci: Valter Suban\nProstor:
  NE2
LOCATION:NE2
ORGANIZER:Valter Suban
RELATED-TO:fpp-AFLABS-URNIK:srecanje:291
X-WR-TIMEZONE:Europe/Ljubljana
END:VEVENT
BEGIN:VEVENT
SUMMARY:Nauk o ladji 1 (N) (NOL1)\, Predavanje (P)
DTSTART;TZID=Europe/Ljubljana:20250117T085000
DTEND;TZID=Europe/Ljubljana:20250117T120500
DTSTAMP:20260422T053200Z
UID:fpp-AFLABS-URNIK:premaknjeno-srecanje:2212
ATTENDEE:1. letnik (N, SS)
ATTENDEE:1. letnik (N, VS)
CATEGORIES:Entry,Standard
COLOR:darkgreen
DESCRIPTION:Predmet: Nauk o ladji 1 (N) (NOL1)\, Predavanje (P)\nLetniki: 
 1. letnik (N\, SS)\, 1. letnik (N\, VS)\nIzvajalci: Valter Suban\nProstor:
  NE2
LOCATION:NE2
ORGANIZER:Valter Suban
RELATED-TO:fpp-AFLABS-URNIK:srecanje:291
X-WR-TIMEZONE:Europe/Ljubljana
END:VEVENT
BEGIN:VEVENT
SUMMARY:Nauk o ladji 1 (PS) (NOL1)\, Avditorne vaje (AV)
DTSTART;TZID=Europe/Ljubljana:20250103T121000
DTEND;TZID=Europe/Ljubljana:20250103T134500
DTSTAMP:20260422T053200Z
UID:fpp-AFLABS-URNIK:premaknjeno-srecanje:2255
ATTENDEE:1. letnik (PS, SS)
ATTENDEE:1. letnik (PS, VS)
CATEGORIES:Entry,Standard
COLOR:darkgreen
DESCRIPTION:Predmet: Nauk o ladji 1 (PS) (NOL1)\, Avditorne vaje (AV)\nLet
 niki: 1. letnik (PS\, SS)\, 1. letnik (PS\, VS)\nIzvajalci: Aleksander Grm
 \, Valter Suban\nProstor: NE1
LOCATION:NE1
ORGANIZER:Aleksander Grm, Valter Suban
RELATED-TO:fpp-AFLABS-URNIK:srecanje:28
X-WR-TIMEZONE:Europe/Ljubljana
END:VEVENT
BEGIN:VEVENT
SUMMARY:Nauk o ladji 1 (PS) (NOL1)\, Avditorne vaje (AV)
DTSTART;TZID=Europe/Ljubljana:20250110T121000
DTEND;TZID=Europe/Ljubljana:20250110T134500
DTSTAMP:20260422T053200Z
UID:fpp-AFLABS-URNIK:premaknjeno-srecanje:2256
ATTENDEE:1. letnik (PS, SS)
ATTENDEE:1. letnik (PS, VS)
CATEGORIES:Entry,Standard
COLOR:darkgreen
DESCRIPTION:Predmet: Nauk o ladji 1 (PS) (NOL1)\, Avditorne vaje (AV)\nLet
 niki: 1. letnik (PS\, SS)\, 1. letnik (PS\, VS)\nIzvajalci: Aleksander Grm
 \, Valter Suban\nProstor: NE1
LOCATION:NE1
ORGANIZER:Aleksander Grm, Valter Suban
RELATED-TO:fpp-AFLABS-URNIK:srecanje:28
X-WR-TIMEZONE:Europe/Ljubljana
END:VEVENT
BEGIN:VEVENT
SUMMARY:Nauk o ladji 1 (PS) (NOL1)\, Avditorne vaje (AV)
DTSTART;TZID=Europe/Ljubljana:20250117T121000
DTEND;TZID=Europe/Ljubljana:20250117T134500
DTSTAMP:20260422T053200Z
UID:fpp-AFLABS-URNIK:premaknjeno-srecanje:2257
ATTENDEE:1. letnik (PS, SS)
ATTENDEE:1. letnik (PS, VS)
CATEGORIES:Entry,Standard
COLOR:darkgreen
DESCRIPTION:Predmet: Nauk o ladji 1 (PS) (NOL1)\, Avditorne vaje (AV)\nLet
 niki: 1. letnik (PS\, SS)\, 1. letnik (PS\, VS)\nIzvajalci: Aleksander Grm
 \, Valter Suban\nProstor: NE1
LOCATION:NE1
ORGANIZER:Aleksander Grm, Valter Suban
RELATED-TO:fpp-AFLABS-URNIK:srecanje:28
X-WR-TIMEZONE:Europe/Ljubljana
END:VEVENT
BEGIN:VEVENT
SUMMARY:Nauk o ladji 1 (PS) (NOL1)\, Predavanje (P)
DTSTART;TZID=Europe/Ljubljana:20250103T085000
DTEND;TZID=Europe/Ljubljana:20250103T120500
DTSTAMP:20260422T053200Z
UID:fpp-AFLABS-URNIK:premaknjeno-srecanje:2285
ATTENDEE:1. letnik (PS, SS)
ATTENDEE:1. letnik (PS, VS)
CATEGORIES:Entry,Standard
COLOR:darkgreen
DESCRIPTION:Predmet: Nauk o ladji 1 (PS) (NOL1)\, Predavanje (P)\nLetniki:
  1. letnik (PS\, SS)\, 1. letnik (PS\, VS)\nIzvajalci: Valter Suban\nProst
 or: NE2
LOCATION:NE2
ORGANIZER:Valter Suban
RELATED-TO:fpp-AFLABS-URNIK:srecanje:20
X-WR-TIMEZONE:Europe/Ljubljana
END:VEVENT
BEGIN:VEVENT
SUMMARY:Nauk o ladji 1 (PS) (NOL1)\, Predavanje (P)
DTSTART;TZID=Europe/Ljubljana:20250110T085000
DTEND;TZID=Europe/Ljubljana:20250110T120500
DTSTAMP:20260422T053200Z
UID:fpp-AFLABS-URNIK:premaknjeno-srecanje:2286
ATTENDEE:1. letnik (PS, SS)
ATTENDEE:1. letnik (PS, VS)
CATEGORIES:Entry,Standard
COLOR:darkgreen
DESCRIPTION:Predmet: Nauk o ladji 1 (PS) (NOL1)\, Predavanje (P)\nLetniki:
  1. letnik (PS\, SS)\, 1. letnik (PS\, VS)\nIzvajalci: Valter Suban\nProst
 or: NE2
LOCATION:NE2
ORGANIZER:Valter Suban
RELATED-TO:fpp-AFLABS-URNIK:srecanje:20
X-WR-TIMEZONE:Europe/Ljubljana
END:VEVENT
BEGIN:VEVENT
SUMMARY:Nauk o ladji 1 (PS) (NOL1)\, Predavanje (P)
DTSTART;TZID=Europe/Ljubljana:20250117T085000
DTEND;TZID=Europe/Ljubljana:20250117T120500
DTSTAMP:20260422T053200Z
UID:fpp-AFLABS-URNIK:premaknjeno-srecanje:2287
ATTENDEE:1. letnik (PS, SS)
ATTENDEE:1. letnik (PS, VS)
CATEGORIES:Entry,Standard
COLOR:darkgreen
DESCRIPTION:Predmet: Nauk o ladji 1 (PS) (NOL1)\, Predavanje (P)\nLetniki:
  1. letnik (PS\, SS)\, 1. letnik (PS\, VS)\nIzvajalci: Valter Suban\nProst
 or: NE2
LOCATION:NE2
ORGANIZER:Valter Suban
RELATED-TO:fpp-AFLABS-URNIK:srecanje:20
X-WR-TIMEZONE:Europe/Ljubljana
END:VEVENT
BEGIN:VEVENT
SUMMARY:Ravnanje s tovorom (N) (RT)\, Predavanje (P)
DTSTART;TZID=Europe/Ljubljana:20250217T153000
DTEND;TZID=Europe/Ljubljana:20250217T175500
DTSTAMP:20260422T053200Z
UID:fpp-AFLABS-URNIK:premaknjeno-srecanje:391
ATTENDEE:2. letnik (N, SS)
ATTENDEE:2. letnik (N, VS)
CATEGORIES:Entry,Standard
COLOR:darkgreen
DESCRIPTION:Predmet: Ravnanje s tovorom (N) (RT)\, Predavanje (P)\nLetniki
 : 2. letnik (N\, SS)\, 2. letnik (N\, VS)\nIzvajalci: Valter Suban\nProsto
 r: POSEIDON (PO1+PO2)
LOCATION:POSEIDON (PO1+PO2)
ORGANIZER:Valter Suban
RELATED-TO:fpp-AFLABS-URNIK:srecanje:391
X-WR-TIMEZONE:Europe/Ljubljana
END:VEVENT
BEGIN:VEVENT
SUMMARY:Ravnanje s tovorom (N) (RT)\, Predavanje (P)
DTSTART;TZID=Europe/Ljubljana:20250224T153000
DTEND;TZID=Europe/Ljubljana:20250224T175500
DTSTAMP:20260422T053200Z
UID:fpp-AFLABS-URNIK:premaknjeno-srecanje:6908
ATTENDEE:2. letnik (N, SS)
ATTENDEE:2. letnik (N, VS)
CATEGORIES:Entry,Standard
COLOR:darkgreen
DESCRIPTION:Predmet: Ravnanje s tovorom (N) (RT)\, Predavanje (P)\nLetniki
 : 2. letnik (N\, SS)\, 2. letnik (N\, VS)\nIzvajalci: Valter Suban\nProsto
 r: POSEIDON (PO1+PO2)
LOCATION:POSEIDON (PO1+PO2)
ORGANIZER:Valter Suban
RELATED-TO:fpp-AFLABS-URNIK:srecanje:391
X-WR-TIMEZONE:Europe/Ljubljana
END:VEVENT
BEGIN:VEVENT
SUMMARY:Ravnanje s tovorom (N) (RT)\, Predavanje (P)
DTSTART;TZID=Europe/Ljubljana:20250303T153000
DTEND;TZID=Europe/Ljubljana:20250303T175500
DTSTAMP:20260422T053200Z
UID:fpp-AFLABS-URNIK:premaknjeno-srecanje:6909
ATTENDEE:2. letnik (N, SS)
ATTENDEE:2. letnik (N, VS)
CATEGORIES:Entry,Standard
COLOR:darkgreen
DESCRIPTION:Predmet: Ravnanje s tovorom (N) (RT)\, Predavanje (P)\nLetniki
 : 2. letnik (N\, SS)\, 2. letnik (N\, VS)\nIzvajalci: Valter Suban\nProsto
 r: POSEIDON (PO1+PO2)
LOCATION:POSEIDON (PO1+PO2)
ORGANIZER:Valter Suban
RELATED-TO:fpp-AFLABS-URNIK:srecanje:391
X-WR-TIMEZONE:Europe/Ljubljana
END:VEVENT
BEGIN:VEVENT
SUMMARY:Ravnanje s tovorom (N) (RT)\, Predavanje (P)
DTSTART;TZID=Europe/Ljubljana:20250310T153000
DTEND;TZID=Europe/Ljubljana:20250310T175500
DTSTAMP:20260422T053200Z
UID:fpp-AFLABS-URNIK:premaknjeno-srecanje:6910
ATTENDEE:2. letnik (N, SS)
ATTENDEE:2. letnik (N, VS)
CATEGORIES:Entry,Standard
COLOR:darkgreen
DESCRIPTION:Predmet: Ravnanje s tovorom (N) (RT)\, Predavanje (P)\nLetniki
 : 2. letnik (N\, SS)\, 2. letnik (N\, VS)\nIzvajalci: Valter Suban\nProsto
 r: POSEIDON (PO1+PO2)
LOCATION:POSEIDON (PO1+PO2)
ORGANIZER:Valter Suban
RELATED-TO:fpp-AFLABS-URNIK:srecanje:391
X-WR-TIMEZONE:Europe/Ljubljana
END:VEVENT
BEGIN:VEVENT
SUMMARY:Ravnanje s tovorom (N) (RT)\, Predavanje (P)
DTSTART;TZID=Europe/Ljubljana:20250218T135000
DTEND;TZID=Europe/Ljubljana:20250218T161500
DTSTAMP:20260422T053200Z
UID:fpp-AFLABS-URNIK:premaknjeno-srecanje:389
ATTENDEE:2. letnik (N, SS)
ATTENDEE:2. letnik (N, VS)
CATEGORIES:Entry,Standard
COLOR:darkgreen
DESCRIPTION:Predmet: Ravnanje s tovorom (N) (RT)\, Predavanje (P)\nLetniki
 : 2. letnik (N\, SS)\, 2. letnik (N\, VS)\nIzvajalci: Valter Suban\nProsto
 r: PO2
LOCATION:PO2
ORGANIZER:Valter Suban
RELATED-TO:fpp-AFLABS-URNIK:srecanje:389
X-WR-TIMEZONE:Europe/Ljubljana
END:VEVENT
BEGIN:VEVENT
SUMMARY:Ravnanje s tovorom (N) (RT)\, Predavanje (P)
DTSTART;TZID=Europe/Ljubljana:20250225T135000
DTEND;TZID=Europe/Ljubljana:20250225T161500
DTSTAMP:20260422T053200Z
UID:fpp-AFLABS-URNIK:premaknjeno-srecanje:6923
ATTENDEE:2. letnik (N, SS)
ATTENDEE:2. letnik (N, VS)
CATEGORIES:Entry,Standard
COLOR:darkgreen
DESCRIPTION:Predmet: Ravnanje s tovorom (N) (RT)\, Predavanje (P)\nLetniki
 : 2. letnik (N\, SS)\, 2. letnik (N\, VS)\nIzvajalci: Valter Suban\nProsto
 r: PO2
LOCATION:PO2
ORGANIZER:Valter Suban
RELATED-TO:fpp-AFLABS-URNIK:srecanje:389
X-WR-TIMEZONE:Europe/Ljubljana
END:VEVENT
BEGIN:VEVENT
SUMMARY:Ravnanje s tovorom (N) (RT)\, Predavanje (P)
DTSTART;TZID=Europe/Ljubljana:20250304T135000
DTEND;TZID=Europe/Ljubljana:20250304T161500
DTSTAMP:20260422T053200Z
UID:fpp-AFLABS-URNIK:premaknjeno-srecanje:6924
ATTENDEE:2. letnik (N, SS)
ATTENDEE:2. letnik (N, VS)
CATEGORIES:Entry,Standard
COLOR:darkgreen
DESCRIPTION:Predmet: Ravnanje s tovorom (N) (RT)\, Predavanje (P)\nLetniki
 : 2. letnik (N\, SS)\, 2. letnik (N\, VS)\nIzvajalci: Valter Suban\nProsto
 r: PO2
LOCATION:PO2
ORGANIZER:Valter Suban
RELATED-TO:fpp-AFLABS-URNIK:srecanje:389
X-WR-TIMEZONE:Europe/Ljubljana
END:VEVENT
BEGIN:VEVENT
SUMMARY:Varnost na ladji (PS) (VL)\, Avditorne vaje (AV)
DTSTART;TZID=Europe/Ljubljana:20250219T135000
DTEND;TZID=Europe/Ljubljana:20250219T152500
DTSTAMP:20260422T053200Z
UID:fpp-AFLABS-URNIK:premaknjeno-srecanje:319
ATTENDEE:2. letnik (PS, VS)
ATTENDEE:3. letnik (PS, SS)
CATEGORIES:Entry,Standard
COLOR:darkgreen
DESCRIPTION:Predmet: Varnost na ladji (PS) (VL)\, Avditorne vaje (AV)\nLet
 niki: 3. letnik (PS\, SS)\, 2. letnik (PS\, VS)\nIzvajalci: Andrej Androjn
 a\, Valter Suban\nProstor: NE1
LOCATION:NE1
ORGANIZER:Andrej Androjna, Valter Suban
RELATED-TO:fpp-AFLABS-URNIK:srecanje:319
X-WR-TIMEZONE:Europe/Ljubljana
END:VEVENT
BEGIN:VEVENT
SUMMARY:Varnost na ladji (PS) (VL)\, Avditorne vaje (AV)
DTSTART;TZID=Europe/Ljubljana:20250226T135000
DTEND;TZID=Europe/Ljubljana:20250226T152500
DTSTAMP:20260422T053200Z
UID:fpp-AFLABS-URNIK:premaknjeno-srecanje:7913
ATTENDEE:2. letnik (PS, VS)
ATTENDEE:3. letnik (PS, SS)
CATEGORIES:Entry,Standard
COLOR:darkgreen
DESCRIPTION:Predmet: Varnost na ladji (PS) (VL)\, Avditorne vaje (AV)\nLet
 niki: 3. letnik (PS\, SS)\, 2. letnik (PS\, VS)\nIzvajalci: Andrej Androjn
 a\, Valter Suban\nProstor: NE1
LOCATION:NE1
ORGANIZER:Andrej Androjna, Valter Suban
RELATED-TO:fpp-AFLABS-URNIK:srecanje:319
X-WR-TIMEZONE:Europe/Ljubljana
END:VEVENT
BEGIN:VEVENT
SUMMARY:Varnost na ladji (PS) (VL)\, Avditorne vaje (AV)
DTSTART;TZID=Europe/Ljubljana:20250305T135000
DTEND;TZID=Europe/Ljubljana:20250305T152500
DTSTAMP:20260422T053200Z
UID:fpp-AFLABS-URNIK:premaknjeno-srecanje:7914
ATTENDEE:2. letnik (PS, VS)
ATTENDEE:3. letnik (PS, SS)
CATEGORIES:Entry,Standard
COLOR:darkgreen
DESCRIPTION:Predmet: Varnost na ladji (PS) (VL)\, Avditorne vaje (AV)\nLet
 niki: 3. letnik (PS\, SS)\, 2. letnik (PS\, VS)\nIzvajalci: Andrej Androjn
 a\, Valter Suban\nProstor: NE1
LOCATION:NE1
ORGANIZER:Andrej Androjna, Valter Suban
RELATED-TO:fpp-AFLABS-URNIK:srecanje:319
X-WR-TIMEZONE:Europe/Ljubljana
END:VEVENT
BEGIN:VEVENT
SUMMARY:Varnost na ladji (N) (VL)\, Avditorne vaje (AV)
DTSTART;TZID=Europe/Ljubljana:20250219T135000
DTEND;TZID=Europe/Ljubljana:20250219T152500
DTSTAMP:20260422T053200Z
UID:fpp-AFLABS-URNIK:premaknjeno-srecanje:400
ATTENDEE:2. letnik (N, VS)
ATTENDEE:3. letnik (N, SS)
CATEGORIES:Entry,Standard
COLOR:darkgreen
DESCRIPTION:Predmet: Varnost na ladji (N) (VL)\, Avditorne vaje (AV)\nLetn
 iki: 3. letnik (N\, SS)\, 2. letnik (N\, VS)\nIzvajalci: Andrej Androjna\,
  Valter Suban\nProstor: NE1
LOCATION:NE1
ORGANIZER:Andrej Androjna, Valter Suban
RELATED-TO:fpp-AFLABS-URNIK:srecanje:400
X-WR-TIMEZONE:Europe/Ljubljana
END:VEVENT
BEGIN:VEVENT
SUMMARY:Varnost na ladji (N) (VL)\, Avditorne vaje (AV)
DTSTART;TZID=Europe/Ljubljana:20250226T135000
DTEND;TZID=Europe/Ljubljana:20250226T152500
DTSTAMP:20260422T053200Z
UID:fpp-AFLABS-URNIK:premaknjeno-srecanje:7853
ATTENDEE:2. letnik (N, VS)
ATTENDEE:3. letnik (N, SS)
CATEGORIES:Entry,Standard
COLOR:darkgreen
DESCRIPTION:Predmet: Varnost na ladji (N) (VL)\, Avditorne vaje (AV)\nLetn
 iki: 3. letnik (N\, SS)\, 2. letnik (N\, VS)\nIzvajalci: Andrej Androjna\,
  Valter Suban\nProstor: NE1
LOCATION:NE1
ORGANIZER:Andrej Androjna, Valter Suban
RELATED-TO:fpp-AFLABS-URNIK:srecanje:400
X-WR-TIMEZONE:Europe/Ljubljana
END:VEVENT
BEGIN:VEVENT
SUMMARY:Varnost na ladji (N) (VL)\, Avditorne vaje (AV)
DTSTART;TZID=Europe/Ljubljana:20250305T135000
DTEND;TZID=Europe/Ljubljana:20250305T152500
DTSTAMP:20260422T053200Z
UID:fpp-AFLABS-URNIK:premaknjeno-srecanje:7854
ATTENDEE:2. letnik (N, VS)
ATTENDEE:3. letnik (N, SS)
CATEGORIES:Entry,Standard
COLOR:darkgreen
DESCRIPTION:Predmet: Varnost na ladji (N) (VL)\, Avditorne vaje (AV)\nLetn
 iki: 3. letnik (N\, SS)\, 2. letnik (N\, VS)\nIzvajalci: Andrej Androjna\,
  Valter Suban\nProstor: NE1
LOCATION:NE1
ORGANIZER:Andrej Androjna, Valter Suban
RELATED-TO:fpp-AFLABS-URNIK:srecanje:400
X-WR-TIMEZONE:Europe/Ljubljana
END:VEVENT
END:VCALENDAR
