BEGIN:VCALENDAR
VERSION:2.0
PRODID:-//AFLabs urnik izvoz - fpp//aflabs.si//SI
DTSTAMP:20260422T102403Z
NAME:UL FPP Urnik
REFRESH-INTERVAL:PT1H
SOURCE:https://afurnik-fpp.dev.aflabs.org/en/teacher/49?day=2026-06-08&exp
 ort=1
URL:https://afurnik-fpp.dev.aflabs.org/en/teacher/49?day=2026-06-08&export
 =1
X-PUBLISHED-TTL:PT1H
X-WR-CALNAME:UL FPP Urnik
X-WR-TIMEZONE:Europe/Ljubljana
BEGIN:VTIMEZONE
TZID:Europe/Ljubljana
BEGIN:DAYLIGHT
DTSTART:20260329T020000
RDATE:20260329T020000
RDATE:20270328T020000
TZNAME:CEST
TZOFFSETFROM:+0100
TZOFFSETTO:+0200
END:DAYLIGHT
BEGIN:STANDARD
DTSTART:20261025T030000
RDATE:20261025T030000
RDATE:20271031T030000
TZNAME:CET
TZOFFSETFROM:+0200
TZOFFSETTO:+0100
END:STANDARD
END:VTIMEZONE
BEGIN:VEVENT
SUMMARY:Ravnanje s tovorom (N) (RT)\, Predavanje (P)
DTSTART;TZID=Europe/Ljubljana:20260217T135000
DTEND;TZID=Europe/Ljubljana:20260217T161500
DTSTAMP:20260422T102403Z
UID:fpp-AFLABS-URNIK:premaknjeno-srecanje:22933
ATTENDEE:2. letnik (N, SS)
ATTENDEE:2. letnik (N, VS)
CATEGORIES:Entry,Standard
COLOR:darkgreen
DESCRIPTION:Predmet: Ravnanje s tovorom (N) (RT)\, Predavanje (P)\nLetniki
 : 2. letnik (N\, SS)\, 2. letnik (N\, VS)\nIzvajalci: Valter Suban\nProsto
 r: PO2
LOCATION:PO2
ORGANIZER:Valter Suban
RELATED-TO:fpp-AFLABS-URNIK:srecanje:1010
X-WR-TIMEZONE:Europe/Ljubljana
END:VEVENT
BEGIN:VEVENT
SUMMARY:Ravnanje s tovorom (N) (RT)\, Predavanje (P)
DTSTART;TZID=Europe/Ljubljana:20260224T135000
DTEND;TZID=Europe/Ljubljana:20260224T161500
DTSTAMP:20260422T102403Z
UID:fpp-AFLABS-URNIK:premaknjeno-srecanje:22934
ATTENDEE:2. letnik (N, SS)
ATTENDEE:2. letnik (N, VS)
CATEGORIES:Entry,Standard
COLOR:darkgreen
DESCRIPTION:Predmet: Ravnanje s tovorom (N) (RT)\, Predavanje (P)\nLetniki
 : 2. letnik (N\, SS)\, 2. letnik (N\, VS)\nIzvajalci: Valter Suban\nProsto
 r: PO2
LOCATION:PO2
ORGANIZER:Valter Suban
RELATED-TO:fpp-AFLABS-URNIK:srecanje:1010
X-WR-TIMEZONE:Europe/Ljubljana
END:VEVENT
BEGIN:VEVENT
SUMMARY:Ravnanje s tovorom (N) (RT)\, Predavanje (P)
DTSTART;TZID=Europe/Ljubljana:20260303T135000
DTEND;TZID=Europe/Ljubljana:20260303T161500
DTSTAMP:20260422T102403Z
UID:fpp-AFLABS-URNIK:premaknjeno-srecanje:22935
ATTENDEE:2. letnik (N, SS)
ATTENDEE:2. letnik (N, VS)
CATEGORIES:Entry,Standard
COLOR:darkgreen
DESCRIPTION:Predmet: Ravnanje s tovorom (N) (RT)\, Predavanje (P)\nLetniki
 : 2. letnik (N\, SS)\, 2. letnik (N\, VS)\nIzvajalci: Valter Suban\nProsto
 r: PO2
LOCATION:PO2
ORGANIZER:Valter Suban
RELATED-TO:fpp-AFLABS-URNIK:srecanje:1010
X-WR-TIMEZONE:Europe/Ljubljana
END:VEVENT
BEGIN:VEVENT
SUMMARY:Ravnanje s tovorom (N) (RT)\, Predavanje (P)
DTSTART;TZID=Europe/Ljubljana:20260310T135000
DTEND;TZID=Europe/Ljubljana:20260310T161500
DTSTAMP:20260422T102403Z
UID:fpp-AFLABS-URNIK:premaknjeno-srecanje:22936
ATTENDEE:2. letnik (N, SS)
ATTENDEE:2. letnik (N, VS)
CATEGORIES:Entry,Standard
COLOR:darkgreen
DESCRIPTION:Predmet: Ravnanje s tovorom (N) (RT)\, Predavanje (P)\nLetniki
 : 2. letnik (N\, SS)\, 2. letnik (N\, VS)\nIzvajalci: Valter Suban\nProsto
 r: PO2
LOCATION:PO2
ORGANIZER:Valter Suban
RELATED-TO:fpp-AFLABS-URNIK:srecanje:1010
X-WR-TIMEZONE:Europe/Ljubljana
END:VEVENT
BEGIN:VEVENT
SUMMARY:Ravnanje s tovorom (N) (RT)\, Predavanje (P)
DTSTART;TZID=Europe/Ljubljana:20260317T135000
DTEND;TZID=Europe/Ljubljana:20260317T161500
DTSTAMP:20260422T102403Z
UID:fpp-AFLABS-URNIK:premaknjeno-srecanje:22937
ATTENDEE:2. letnik (N, SS)
ATTENDEE:2. letnik (N, VS)
CATEGORIES:Entry,Standard
COLOR:darkgreen
DESCRIPTION:Predmet: Ravnanje s tovorom (N) (RT)\, Predavanje (P)\nLetniki
 : 2. letnik (N\, SS)\, 2. letnik (N\, VS)\nIzvajalci: Valter Suban\nProsto
 r: PO2
LOCATION:PO2
ORGANIZER:Valter Suban
RELATED-TO:fpp-AFLABS-URNIK:srecanje:1010
X-WR-TIMEZONE:Europe/Ljubljana
END:VEVENT
BEGIN:VEVENT
SUMMARY:Ravnanje s tovorom (N) (RT)\, Predavanje (P)
DTSTART;TZID=Europe/Ljubljana:20260324T135000
DTEND;TZID=Europe/Ljubljana:20260324T161500
DTSTAMP:20260422T102403Z
UID:fpp-AFLABS-URNIK:premaknjeno-srecanje:22938
ATTENDEE:2. letnik (N, SS)
ATTENDEE:2. letnik (N, VS)
CATEGORIES:Entry,Standard
COLOR:darkgreen
DESCRIPTION:Predmet: Ravnanje s tovorom (N) (RT)\, Predavanje (P)\nLetniki
 : 2. letnik (N\, SS)\, 2. letnik (N\, VS)\nIzvajalci: Valter Suban\nProsto
 r: PO2
LOCATION:PO2
ORGANIZER:Valter Suban
RELATED-TO:fpp-AFLABS-URNIK:srecanje:1010
X-WR-TIMEZONE:Europe/Ljubljana
END:VEVENT
BEGIN:VEVENT
SUMMARY:Ravnanje s tovorom (N) (RT)\, Predavanje (P)
DTSTART;TZID=Europe/Ljubljana:20260331T135000
DTEND;TZID=Europe/Ljubljana:20260331T161500
DTSTAMP:20260422T102403Z
UID:fpp-AFLABS-URNIK:premaknjeno-srecanje:22939
ATTENDEE:2. letnik (N, SS)
ATTENDEE:2. letnik (N, VS)
CATEGORIES:Entry,Standard
COLOR:darkgreen
DESCRIPTION:Predmet: Ravnanje s tovorom (N) (RT)\, Predavanje (P)\nLetniki
 : 2. letnik (N\, SS)\, 2. letnik (N\, VS)\nIzvajalci: Valter Suban\nProsto
 r: PO2
LOCATION:PO2
ORGANIZER:Valter Suban
RELATED-TO:fpp-AFLABS-URNIK:srecanje:1010
X-WR-TIMEZONE:Europe/Ljubljana
END:VEVENT
BEGIN:VEVENT
SUMMARY:Ravnanje s tovorom (N) (RT)\, Predavanje (P)
DTSTART;TZID=Europe/Ljubljana:20260407T135000
DTEND;TZID=Europe/Ljubljana:20260407T161500
DTSTAMP:20260422T102403Z
UID:fpp-AFLABS-URNIK:premaknjeno-srecanje:22940
ATTENDEE:2. letnik (N, SS)
ATTENDEE:2. letnik (N, VS)
CATEGORIES:Entry,Standard
COLOR:darkgreen
DESCRIPTION:Predmet: Ravnanje s tovorom (N) (RT)\, Predavanje (P)\nLetniki
 : 2. letnik (N\, SS)\, 2. letnik (N\, VS)\nIzvajalci: Valter Suban\nProsto
 r: PO2
LOCATION:PO2
ORGANIZER:Valter Suban
RELATED-TO:fpp-AFLABS-URNIK:srecanje:1010
X-WR-TIMEZONE:Europe/Ljubljana
END:VEVENT
BEGIN:VEVENT
SUMMARY:Ravnanje s tovorom (N) (RT)\, Predavanje (P)
DTSTART;TZID=Europe/Ljubljana:20260414T135000
DTEND;TZID=Europe/Ljubljana:20260414T161500
DTSTAMP:20260422T102403Z
UID:fpp-AFLABS-URNIK:premaknjeno-srecanje:22941
ATTENDEE:2. letnik (N, SS)
ATTENDEE:2. letnik (N, VS)
CATEGORIES:Entry,Standard
COLOR:darkgreen
DESCRIPTION:Predmet: Ravnanje s tovorom (N) (RT)\, Predavanje (P)\nLetniki
 : 2. letnik (N\, SS)\, 2. letnik (N\, VS)\nIzvajalci: Valter Suban\nProsto
 r: PO2
LOCATION:PO2
ORGANIZER:Valter Suban
RELATED-TO:fpp-AFLABS-URNIK:srecanje:1010
X-WR-TIMEZONE:Europe/Ljubljana
END:VEVENT
BEGIN:VEVENT
SUMMARY:Ravnanje s tovorom (N) (RT)\, Predavanje (P)
DTSTART;TZID=Europe/Ljubljana:20260421T135000
DTEND;TZID=Europe/Ljubljana:20260421T161500
DTSTAMP:20260422T102403Z
UID:fpp-AFLABS-URNIK:premaknjeno-srecanje:22942
ATTENDEE:2. letnik (N, SS)
ATTENDEE:2. letnik (N, VS)
CATEGORIES:Entry,Standard
COLOR:darkgreen
DESCRIPTION:Predmet: Ravnanje s tovorom (N) (RT)\, Predavanje (P)\nLetniki
 : 2. letnik (N\, SS)\, 2. letnik (N\, VS)\nIzvajalci: Valter Suban\nProsto
 r: PO2
LOCATION:PO2
ORGANIZER:Valter Suban
RELATED-TO:fpp-AFLABS-URNIK:srecanje:1010
X-WR-TIMEZONE:Europe/Ljubljana
END:VEVENT
BEGIN:VEVENT
SUMMARY:Ravnanje s tovorom (N) (RT)\, Predavanje (P)
DTSTART;TZID=Europe/Ljubljana:20260428T135000
DTEND;TZID=Europe/Ljubljana:20260428T161500
DTSTAMP:20260422T102403Z
UID:fpp-AFLABS-URNIK:premaknjeno-srecanje:22943
ATTENDEE:2. letnik (N, SS)
ATTENDEE:2. letnik (N, VS)
CATEGORIES:Entry,Standard
COLOR:darkgreen
DESCRIPTION:Predmet: Ravnanje s tovorom (N) (RT)\, Predavanje (P)\nLetniki
 : 2. letnik (N\, SS)\, 2. letnik (N\, VS)\nIzvajalci: Valter Suban\nProsto
 r: PO2
LOCATION:PO2
ORGANIZER:Valter Suban
RELATED-TO:fpp-AFLABS-URNIK:srecanje:1010
X-WR-TIMEZONE:Europe/Ljubljana
END:VEVENT
BEGIN:VEVENT
SUMMARY:Ravnanje s tovorom (N) (RT)\, Predavanje (P)
DTSTART;TZID=Europe/Ljubljana:20260505T135000
DTEND;TZID=Europe/Ljubljana:20260505T161500
DTSTAMP:20260422T102403Z
UID:fpp-AFLABS-URNIK:premaknjeno-srecanje:22944
ATTENDEE:2. letnik (N, SS)
ATTENDEE:2. letnik (N, VS)
CATEGORIES:Entry,Standard
COLOR:darkgreen
DESCRIPTION:Predmet: Ravnanje s tovorom (N) (RT)\, Predavanje (P)\nLetniki
 : 2. letnik (N\, SS)\, 2. letnik (N\, VS)\nIzvajalci: Valter Suban\nProsto
 r: PO2
LOCATION:PO2
ORGANIZER:Valter Suban
RELATED-TO:fpp-AFLABS-URNIK:srecanje:1010
X-WR-TIMEZONE:Europe/Ljubljana
END:VEVENT
BEGIN:VEVENT
SUMMARY:Ravnanje s tovorom (N) (RT)\, Predavanje (P)
DTSTART;TZID=Europe/Ljubljana:20260512T135000
DTEND;TZID=Europe/Ljubljana:20260512T161500
DTSTAMP:20260422T102403Z
UID:fpp-AFLABS-URNIK:premaknjeno-srecanje:22945
ATTENDEE:2. letnik (N, SS)
ATTENDEE:2. letnik (N, VS)
CATEGORIES:Entry,Standard
COLOR:darkgreen
DESCRIPTION:Predmet: Ravnanje s tovorom (N) (RT)\, Predavanje (P)\nLetniki
 : 2. letnik (N\, SS)\, 2. letnik (N\, VS)\nIzvajalci: Valter Suban\nProsto
 r: PO2
LOCATION:PO2
ORGANIZER:Valter Suban
RELATED-TO:fpp-AFLABS-URNIK:srecanje:1010
X-WR-TIMEZONE:Europe/Ljubljana
END:VEVENT
BEGIN:VEVENT
SUMMARY:Ravnanje s tovorom (N) (RT)\, Predavanje (P)
DTSTART;TZID=Europe/Ljubljana:20260519T135000
DTEND;TZID=Europe/Ljubljana:20260519T161500
DTSTAMP:20260422T102403Z
UID:fpp-AFLABS-URNIK:premaknjeno-srecanje:22946
ATTENDEE:2. letnik (N, SS)
ATTENDEE:2. letnik (N, VS)
CATEGORIES:Entry,Standard
COLOR:darkgreen
DESCRIPTION:Predmet: Ravnanje s tovorom (N) (RT)\, Predavanje (P)\nLetniki
 : 2. letnik (N\, SS)\, 2. letnik (N\, VS)\nIzvajalci: Valter Suban\nProsto
 r: PO2
LOCATION:PO2
ORGANIZER:Valter Suban
RELATED-TO:fpp-AFLABS-URNIK:srecanje:1010
X-WR-TIMEZONE:Europe/Ljubljana
END:VEVENT
BEGIN:VEVENT
SUMMARY:Ravnanje s tovorom (N) (RT)\, Predavanje (P)
DTSTART;TZID=Europe/Ljubljana:20260526T135000
DTEND;TZID=Europe/Ljubljana:20260526T161500
DTSTAMP:20260422T102403Z
UID:fpp-AFLABS-URNIK:premaknjeno-srecanje:22947
ATTENDEE:2. letnik (N, SS)
ATTENDEE:2. letnik (N, VS)
CATEGORIES:Entry,Standard
COLOR:darkgreen
DESCRIPTION:Predmet: Ravnanje s tovorom (N) (RT)\, Predavanje (P)\nLetniki
 : 2. letnik (N\, SS)\, 2. letnik (N\, VS)\nIzvajalci: Valter Suban\nProsto
 r: PO2
LOCATION:PO2
ORGANIZER:Valter Suban
RELATED-TO:fpp-AFLABS-URNIK:srecanje:1010
X-WR-TIMEZONE:Europe/Ljubljana
END:VEVENT
BEGIN:VEVENT
SUMMARY:Ravnanje s tovorom (N) (RT)\, Predavanje (P)
DTSTART;TZID=Europe/Ljubljana:20260602T135000
DTEND;TZID=Europe/Ljubljana:20260602T161500
DTSTAMP:20260422T102403Z
UID:fpp-AFLABS-URNIK:premaknjeno-srecanje:22948
ATTENDEE:2. letnik (N, SS)
ATTENDEE:2. letnik (N, VS)
CATEGORIES:Entry,Standard
COLOR:darkgreen
DESCRIPTION:Predmet: Ravnanje s tovorom (N) (RT)\, Predavanje (P)\nLetniki
 : 2. letnik (N\, SS)\, 2. letnik (N\, VS)\nIzvajalci: Valter Suban\nProsto
 r: PO2
LOCATION:PO2
ORGANIZER:Valter Suban
RELATED-TO:fpp-AFLABS-URNIK:srecanje:1010
X-WR-TIMEZONE:Europe/Ljubljana
END:VEVENT
END:VCALENDAR
