BEGIN:VCALENDAR
VERSION:2.0
PRODID:-//AFLabs urnik izvoz - fpp//aflabs.si//SI
DTSTAMP:20260422T080158Z
NAME:UL FPP Urnik
REFRESH-INTERVAL:PT1H
SOURCE:https://afurnik-fpp.dev.aflabs.org/en/teacher/51?day=2025-08-27&exp
 ort=1
URL:https://afurnik-fpp.dev.aflabs.org/en/teacher/51?day=2025-08-27&export
 =1
X-PUBLISHED-TTL:PT1H
X-WR-CALNAME:UL FPP Urnik
X-WR-TIMEZONE:Europe/Ljubljana
BEGIN:VTIMEZONE
TZID:Europe/Ljubljana
BEGIN:DAYLIGHT
DTSTART:20260329T020000
RDATE:20260329T020000
RDATE:20270328T020000
TZNAME:CEST
TZOFFSETFROM:+0100
TZOFFSETTO:+0200
END:DAYLIGHT
BEGIN:STANDARD
DTSTART:20261025T030000
RDATE:20261025T030000
RDATE:20271031T030000
TZNAME:CET
TZOFFSETFROM:+0200
TZOFFSETTO:+0100
END:STANDARD
END:VTIMEZONE
BEGIN:VEVENT
SUMMARY:Izbrana poglavja iz višje matematike (POM2) (IPVM)\, Avditorne va
 je (AV)
DTSTART;TZID=Europe/Ljubljana:20251001T194000
DTEND;TZID=Europe/Ljubljana:20251001T211500
DTSTAMP:20260422T080158Z
UID:fpp-AFLABS-URNIK:premaknjeno-srecanje:17429
ATTENDEE:1. letnik (POM2)
CATEGORIES:Entry,Standard
COLOR:darkgreen
DESCRIPTION:Predmet: Izbrana poglavja iz višje matematike (POM2) (IPVM)\,
  Avditorne vaje (AV)\nLetniki: 1. letnik (POM2)\nIzvajalci: Tina Šfiligoj
 \nProstor: P2
LOCATION:P2
ORGANIZER:Tina Šfiligoj
RELATED-TO:fpp-AFLABS-URNIK:srecanje:577
X-WR-TIMEZONE:Europe/Ljubljana
END:VEVENT
BEGIN:VEVENT
SUMMARY:Tehniška matematika 2 (PS) (TM2)\, Avditorne vaje (AV)
DTSTART;TZID=Europe/Ljubljana:20251001T153000
DTEND;TZID=Europe/Ljubljana:20251001T170500
DTSTAMP:20260422T080158Z
UID:fpp-AFLABS-URNIK:premaknjeno-srecanje:19484
ATTENDEE:2. letnik (PS, SS)
ATTENDEE:2. letnik (PS, VS)
CATEGORIES:Entry,Standard
COLOR:darkgreen
DESCRIPTION:Predmet: Tehniška matematika 2 (PS) (TM2)\, Avditorne vaje (A
 V)\nLetniki: 2. letnik (PS\, SS)\, 2. letnik (PS\, VS)\nIzvajalci: Tina Š
 filigoj\nProstor: POSEIDON (PO1+PO2)
LOCATION:POSEIDON (PO1+PO2)
ORGANIZER:Tina Šfiligoj
RELATED-TO:fpp-AFLABS-URNIK:srecanje:782
X-WR-TIMEZONE:Europe/Ljubljana
END:VEVENT
BEGIN:VEVENT
SUMMARY:Numerične metode v tehniki (PS) (NMT)\, Avditorne vaje (AV)
DTSTART;TZID=Europe/Ljubljana:20251001T135000
DTEND;TZID=Europe/Ljubljana:20251001T152500
DTSTAMP:20260422T080158Z
UID:fpp-AFLABS-URNIK:premaknjeno-srecanje:30438
ATTENDEE:2. letnik (PS, SS)
ATTENDEE:2. letnik (PS, VS)
CATEGORIES:Entry,Standard
COLOR:darkgreen
DESCRIPTION:Predmet: Numerične metode v tehniki (PS) (NMT)\, Avditorne va
 je (AV)\nLetniki: 2. letnik (PS\, SS)\, 2. letnik (PS\, VS)\nIzvajalci: Ti
 na Šfiligoj\nProstor: R1
LOCATION:R1
ORGANIZER:Tina Šfiligoj
RELATED-TO:fpp-AFLABS-URNIK:srecanje:646
X-WR-TIMEZONE:Europe/Ljubljana
END:VEVENT
END:VCALENDAR
