BEGIN:VCALENDAR
VERSION:2.0
PRODID:-//AFLabs urnik izvoz - fpp//aflabs.si//SI
DTSTAMP:20260422T042530Z
NAME:UL FPP Urnik
REFRESH-INTERVAL:PT1H
SOURCE:https://afurnik-fpp.dev.aflabs.org/en/teacher/52?day=2024-08-27&exp
 ort=1
URL:https://afurnik-fpp.dev.aflabs.org/en/teacher/52?day=2024-08-27&export
 =1
X-PUBLISHED-TTL:PT1H
X-WR-CALNAME:UL FPP Urnik
X-WR-TIMEZONE:Europe/Ljubljana
BEGIN:VTIMEZONE
TZID:Europe/Ljubljana
BEGIN:DAYLIGHT
DTSTART:20260329T020000
RDATE:20260329T020000
RDATE:20270328T020000
TZNAME:CEST
TZOFFSETFROM:+0100
TZOFFSETTO:+0200
END:DAYLIGHT
BEGIN:STANDARD
DTSTART:20261025T030000
RDATE:20261025T030000
RDATE:20271031T030000
TZNAME:CET
TZOFFSETFROM:+0200
TZOFFSETTO:+0100
END:STANDARD
END:VTIMEZONE
BEGIN:VEVENT
SUMMARY:Organizacija dela v prometu (TPL-U) (ODP)\, Avditorne vaje (AV)
DTSTART;TZID=Europe/Ljubljana:20241001T112000
DTEND;TZID=Europe/Ljubljana:20241001T125500
DTSTAMP:20260422T042530Z
UID:fpp-AFLABS-URNIK:premaknjeno-srecanje:240
ATTENDEE:3. letnik (TPL-U)
CATEGORIES:Entry,Standard
COLOR:darkgreen
DESCRIPTION:Predmet: Organizacija dela v prometu (TPL-U) (ODP)\, Avditorne
  vaje (AV)\nLetniki: 3. letnik (TPL-U)\nIzvajalci: Sebastjan Škerlič\nPr
 ostor: 203
LOCATION:203
ORGANIZER:Sebastjan Škerlič
RELATED-TO:fpp-AFLABS-URNIK:srecanje:240
X-WR-TIMEZONE:Europe/Ljubljana
END:VEVENT
END:VCALENDAR
