BEGIN:VCALENDAR
VERSION:2.0
PRODID:-//AFLabs urnik izvoz - fpp//aflabs.si//SI
DTSTAMP:20260422T025210Z
NAME:UL FPP Urnik
REFRESH-INTERVAL:PT1H
SOURCE:https://afurnik-fpp.dev.aflabs.org/en/teacher/52?day=2025-07-07&exp
 ort=1
URL:https://afurnik-fpp.dev.aflabs.org/en/teacher/52?day=2025-07-07&export
 =1
X-PUBLISHED-TTL:PT1H
X-WR-CALNAME:UL FPP Urnik
X-WR-TIMEZONE:Europe/Ljubljana
BEGIN:VTIMEZONE
TZID:Europe/Ljubljana
BEGIN:DAYLIGHT
DTSTART:20260329T020000
RDATE:20260329T020000
RDATE:20270328T020000
TZNAME:CEST
TZOFFSETFROM:+0100
TZOFFSETTO:+0200
END:DAYLIGHT
BEGIN:STANDARD
DTSTART:20261025T030000
RDATE:20261025T030000
RDATE:20271031T030000
TZNAME:CET
TZOFFSETFROM:+0200
TZOFFSETTO:+0100
END:STANDARD
END:VTIMEZONE
BEGIN:VEVENT
SUMMARY:Transportno inženirstvo (TPL-U) (TIN)\, Avditorne vaje (AV)
DTSTART;TZID=Europe/Ljubljana:20250603T121000
DTEND;TZID=Europe/Ljubljana:20250603T134500
DTSTAMP:20260422T025210Z
UID:fpp-AFLABS-URNIK:premaknjeno-srecanje:7642
ATTENDEE:1. letnik (TPL-U)
CATEGORIES:Entry,Standard
COLOR:darkgreen
DESCRIPTION:Predmet: Transportno inženirstvo (TPL-U) (TIN)\, Avditorne va
 je (AV)\nLetniki: 1. letnik (TPL-U)\nIzvajalci: Sebastjan Škerlič\nProst
 or: 202
LOCATION:202
ORGANIZER:Sebastjan Škerlič
RELATED-TO:fpp-AFLABS-URNIK:srecanje:411
X-WR-TIMEZONE:Europe/Ljubljana
END:VEVENT
BEGIN:VEVENT
SUMMARY:Transportno inženirstvo (TPL-U) (TIN)\, Laboratorijske vaje (LV)
DTSTART;TZID=Europe/Ljubljana:20250604T121000
DTEND;TZID=Europe/Ljubljana:20250604T134500
DTSTAMP:20260422T025210Z
UID:fpp-AFLABS-URNIK:premaknjeno-srecanje:7657
ATTENDEE:1. letnik (TPL-U)
CATEGORIES:Entry,Standard
COLOR:darkgreen
DESCRIPTION:Predmet: Transportno inženirstvo (TPL-U) (TIN)\, Laboratorijs
 ke vaje (LV)\nLetniki: 1. letnik (TPL-U)\nIzvajalci: Sebastjan Škerlič\n
 Prostor: R1
LOCATION:R1
ORGANIZER:Sebastjan Škerlič
RELATED-TO:fpp-AFLABS-URNIK:srecanje:412
X-WR-TIMEZONE:Europe/Ljubljana
END:VEVENT
BEGIN:VEVENT
SUMMARY:Upravljanje in vodenje (TPL-U) (UV)\, Avditorne vaje (AV)
DTSTART;TZID=Europe/Ljubljana:20250604T112000
DTEND;TZID=Europe/Ljubljana:20250604T120500
DTSTAMP:20260422T025210Z
UID:fpp-AFLABS-URNIK:premaknjeno-srecanje:7762
ATTENDEE:3. letnik (TPL-U)
CATEGORIES:Entry,Standard
COLOR:darkgreen
DESCRIPTION:Predmet: Upravljanje in vodenje (TPL-U) (UV)\, Avditorne vaje 
 (AV)\nLetniki: 3. letnik (TPL-U)\nIzvajalci: Tomaž Kofalt\, Sebastjan Šk
 erlič\nProstor: 206
LOCATION:206
ORGANIZER:Tomaž Kofalt, Sebastjan Škerlič
RELATED-TO:fpp-AFLABS-URNIK:srecanje:460
X-WR-TIMEZONE:Europe/Ljubljana
END:VEVENT
BEGIN:VEVENT
SUMMARY:Upravljanje in vodenje (TPL-U) (UV)\, Seminar (S)
DTSTART;TZID=Europe/Ljubljana:20250604T094000
DTEND;TZID=Europe/Ljubljana:20250604T111500
DTSTAMP:20260422T025210Z
UID:fpp-AFLABS-URNIK:premaknjeno-srecanje:7792
ATTENDEE:3. letnik (TPL-U)
CATEGORIES:Entry,Standard
COLOR:darkgreen
DESCRIPTION:Predmet: Upravljanje in vodenje (TPL-U) (UV)\, Seminar (S)\nLe
 tniki: 3. letnik (TPL-U)\nIzvajalci: Sebastjan Škerlič\nProstor: 206
LOCATION:206
ORGANIZER:Sebastjan Škerlič
RELATED-TO:fpp-AFLABS-URNIK:srecanje:454
X-WR-TIMEZONE:Europe/Ljubljana
END:VEVENT
BEGIN:VEVENT
SUMMARY:Notranji transport in skladiščenje (PTTL) (NTiS)\, Predavanje (P
 )
DTSTART;TZID=Europe/Ljubljana:20250605T085000
DTEND;TZID=Europe/Ljubljana:20250605T102500
DTSTAMP:20260422T025210Z
UID:fpp-AFLABS-URNIK:premaknjeno-srecanje:6232
ATTENDEE:3. letnik (PTTL, SS)
ATTENDEE:3. letnik (PTTL, VS)
CATEGORIES:Entry,Standard
COLOR:darkgreen
DESCRIPTION:Predmet: Notranji transport in skladiščenje (PTTL) (NTiS)\, 
 Predavanje (P)\nLetniki: 3. letnik (PTTL\, SS)\, 3. letnik (PTTL\, VS)\nIz
 vajalci: Sebastjan Škerlič\nProstor: 203
LOCATION:203
ORGANIZER:Sebastjan Škerlič
RELATED-TO:fpp-AFLABS-URNIK:srecanje:441
X-WR-TIMEZONE:Europe/Ljubljana
END:VEVENT
BEGIN:VEVENT
SUMMARY:Notranji transport in skladiščenje (PTTL) (NTiS)\, Predavanje (P
 )
DTSTART;TZID=Europe/Ljubljana:20250605T085000
DTEND;TZID=Europe/Ljubljana:20250605T102500
DTSTAMP:20260422T025210Z
UID:fpp-AFLABS-URNIK:premaknjeno-srecanje:6247
ATTENDEE:3. letnik (PTTL, SS)
ATTENDEE:3. letnik (PTTL, VS)
CATEGORIES:Entry,Standard
COLOR:darkgreen
DESCRIPTION:Predmet: Notranji transport in skladiščenje (PTTL) (NTiS)\, 
 Predavanje (P)\nLetniki: 3. letnik (PTTL\, SS)\, 3. letnik (PTTL\, VS)\nIz
 vajalci: Sebastjan Škerlič\nProstor: R4
LOCATION:R4
ORGANIZER:Sebastjan Škerlič
RELATED-TO:fpp-AFLABS-URNIK:srecanje:442
X-WR-TIMEZONE:Europe/Ljubljana
END:VEVENT
BEGIN:VEVENT
SUMMARY:Strategija upravljanja v prometu in logistiki (PROM2) (SUPL)\, Avd
 itorne vaje (AV)
DTSTART;TZID=Europe/Ljubljana:20250605T203000
DTEND;TZID=Europe/Ljubljana:20250605T211500
DTSTAMP:20260422T025210Z
UID:fpp-AFLABS-URNIK:premaknjeno-srecanje:7132
ATTENDEE:1. letnik (PROM2)
CATEGORIES:Entry,Standard
COLOR:darkgreen
DESCRIPTION:Predmet: Strategija upravljanja v prometu in logistiki (PROM2)
  (SUPL)\, Avditorne vaje (AV)\nLetniki: 1. letnik (PROM2)\nIzvajalci: Seba
 stjan Škerlič\nProstor: 205
LOCATION:205
ORGANIZER:Sebastjan Škerlič
RELATED-TO:fpp-AFLABS-URNIK:srecanje:371
X-WR-TIMEZONE:Europe/Ljubljana
END:VEVENT
BEGIN:VEVENT
SUMMARY:Strategija upravljanja v prometu in logistiki (PROM2) (SUPL)\, Pre
 davanje (P)
DTSTART;TZID=Europe/Ljubljana:20250605T162000
DTEND;TZID=Europe/Ljubljana:20250605T184500
DTSTAMP:20260422T025210Z
UID:fpp-AFLABS-URNIK:premaknjeno-srecanje:7147
ATTENDEE:1. letnik (PROM2)
CATEGORIES:Entry,Standard
COLOR:darkgreen
DESCRIPTION:Predmet: Strategija upravljanja v prometu in logistiki (PROM2)
  (SUPL)\, Predavanje (P)\nLetniki: 1. letnik (PROM2)\nIzvajalci: Sebastjan
  Škerlič\nProstor: 205
LOCATION:205
ORGANIZER:Sebastjan Škerlič
RELATED-TO:fpp-AFLABS-URNIK:srecanje:364
X-WR-TIMEZONE:Europe/Ljubljana
END:VEVENT
BEGIN:VEVENT
SUMMARY:Strategija upravljanja v prometu in logistiki (PROM2) (SUPL)\, Sem
 inar (S)
DTSTART;TZID=Europe/Ljubljana:20250605T185000
DTEND;TZID=Europe/Ljubljana:20250605T202500
DTSTAMP:20260422T025210Z
UID:fpp-AFLABS-URNIK:premaknjeno-srecanje:7162
ATTENDEE:1. letnik (PROM2)
CATEGORIES:Entry,Standard
COLOR:darkgreen
DESCRIPTION:Predmet: Strategija upravljanja v prometu in logistiki (PROM2)
  (SUPL)\, Seminar (S)\nLetniki: 1. letnik (PROM2)\nIzvajalci: Sebastjan Š
 kerlič\nProstor: 205
LOCATION:205
ORGANIZER:Sebastjan Škerlič
RELATED-TO:fpp-AFLABS-URNIK:srecanje:367
X-WR-TIMEZONE:Europe/Ljubljana
END:VEVENT
END:VCALENDAR
