BEGIN:VCALENDAR
VERSION:2.0
PRODID:-//AFLabs urnik izvoz - fpp//aflabs.si//SI
DTSTAMP:20260422T005140Z
NAME:UL FPP Urnik
REFRESH-INTERVAL:PT1H
SOURCE:https://afurnik-fpp.dev.aflabs.org/en/teacher/54?day=2026-03-02&exp
 ort=1
URL:https://afurnik-fpp.dev.aflabs.org/en/teacher/54?day=2026-03-02&export
 =1
X-PUBLISHED-TTL:PT1H
X-WR-CALNAME:UL FPP Urnik
X-WR-TIMEZONE:Europe/Ljubljana
BEGIN:VTIMEZONE
TZID:Europe/Ljubljana
BEGIN:DAYLIGHT
DTSTART:20260329T020000
RDATE:20260329T020000
RDATE:20270328T020000
TZNAME:CEST
TZOFFSETFROM:+0100
TZOFFSETTO:+0200
END:DAYLIGHT
BEGIN:STANDARD
DTSTART:20261025T030000
RDATE:20261025T030000
RDATE:20271031T030000
TZNAME:CET
TZOFFSETFROM:+0200
TZOFFSETTO:+0100
END:STANDARD
END:VTIMEZONE
BEGIN:VEVENT
SUMMARY:Operacijske raziskave (TPL-U) (OR)\, Seminar (S)
DTSTART;TZID=Europe/Ljubljana:20260220T085000
DTEND;TZID=Europe/Ljubljana:20260220T093500
DTSTAMP:20260422T005140Z
UID:fpp-AFLABS-URNIK:premaknjeno-srecanje:25780
ATTENDEE:2. letnik (TPL-U)
CATEGORIES:Entry,Standard
COLOR:darkgreen
DESCRIPTION:Predmet: Operacijske raziskave (TPL-U) (OR)\, Seminar (S)\nLet
 niki: 2. letnik (TPL-U)\nIzvajalci: Danijela Tuljak-Suban\nProstor: R4
LOCATION:R4
ORGANIZER:Danijela Tuljak-Suban
RELATED-TO:fpp-AFLABS-URNIK:srecanje:967
X-WR-TIMEZONE:Europe/Ljubljana
END:VEVENT
BEGIN:VEVENT
SUMMARY:Operacijske raziskave (TPL-U) (OR)\, Seminar (S)
DTSTART;TZID=Europe/Ljubljana:20260227T085000
DTEND;TZID=Europe/Ljubljana:20260227T093500
DTSTAMP:20260422T005140Z
UID:fpp-AFLABS-URNIK:premaknjeno-srecanje:25781
ATTENDEE:2. letnik (TPL-U)
CATEGORIES:Entry,Standard
COLOR:darkgreen
DESCRIPTION:Predmet: Operacijske raziskave (TPL-U) (OR)\, Seminar (S)\nLet
 niki: 2. letnik (TPL-U)\nIzvajalci: Danijela Tuljak-Suban\nProstor: R4
LOCATION:R4
ORGANIZER:Danijela Tuljak-Suban
RELATED-TO:fpp-AFLABS-URNIK:srecanje:967
X-WR-TIMEZONE:Europe/Ljubljana
END:VEVENT
BEGIN:VEVENT
SUMMARY:Operacijske raziskave (TPL-U) (OR)\, Seminar (S)
DTSTART;TZID=Europe/Ljubljana:20260306T085000
DTEND;TZID=Europe/Ljubljana:20260306T093500
DTSTAMP:20260422T005140Z
UID:fpp-AFLABS-URNIK:premaknjeno-srecanje:25782
ATTENDEE:2. letnik (TPL-U)
CATEGORIES:Entry,Standard
COLOR:darkgreen
DESCRIPTION:Predmet: Operacijske raziskave (TPL-U) (OR)\, Seminar (S)\nLet
 niki: 2. letnik (TPL-U)\nIzvajalci: Danijela Tuljak-Suban\nProstor: R4
LOCATION:R4
ORGANIZER:Danijela Tuljak-Suban
RELATED-TO:fpp-AFLABS-URNIK:srecanje:967
X-WR-TIMEZONE:Europe/Ljubljana
END:VEVENT
BEGIN:VEVENT
SUMMARY:Operacijske raziskave (TPL-U) (OR)\, Seminar (S)
DTSTART;TZID=Europe/Ljubljana:20260313T085000
DTEND;TZID=Europe/Ljubljana:20260313T093500
DTSTAMP:20260422T005140Z
UID:fpp-AFLABS-URNIK:premaknjeno-srecanje:25783
ATTENDEE:2. letnik (TPL-U)
CATEGORIES:Entry,Standard
COLOR:darkgreen
DESCRIPTION:Predmet: Operacijske raziskave (TPL-U) (OR)\, Seminar (S)\nLet
 niki: 2. letnik (TPL-U)\nIzvajalci: Danijela Tuljak-Suban\nProstor: R4
LOCATION:R4
ORGANIZER:Danijela Tuljak-Suban
RELATED-TO:fpp-AFLABS-URNIK:srecanje:967
X-WR-TIMEZONE:Europe/Ljubljana
END:VEVENT
BEGIN:VEVENT
SUMMARY:Operacijske raziskave (TPL-U) (OR)\, Seminar (S)
DTSTART;TZID=Europe/Ljubljana:20260320T085000
DTEND;TZID=Europe/Ljubljana:20260320T093500
DTSTAMP:20260422T005140Z
UID:fpp-AFLABS-URNIK:premaknjeno-srecanje:25784
ATTENDEE:2. letnik (TPL-U)
CATEGORIES:Entry,Standard
COLOR:darkgreen
DESCRIPTION:Predmet: Operacijske raziskave (TPL-U) (OR)\, Seminar (S)\nLet
 niki: 2. letnik (TPL-U)\nIzvajalci: Danijela Tuljak-Suban\nProstor: R4
LOCATION:R4
ORGANIZER:Danijela Tuljak-Suban
RELATED-TO:fpp-AFLABS-URNIK:srecanje:967
X-WR-TIMEZONE:Europe/Ljubljana
END:VEVENT
BEGIN:VEVENT
SUMMARY:Operacijske raziskave (TPL-U) (OR)\, Seminar (S)
DTSTART;TZID=Europe/Ljubljana:20260327T085000
DTEND;TZID=Europe/Ljubljana:20260327T093500
DTSTAMP:20260422T005140Z
UID:fpp-AFLABS-URNIK:premaknjeno-srecanje:25785
ATTENDEE:2. letnik (TPL-U)
CATEGORIES:Entry,Standard
COLOR:darkgreen
DESCRIPTION:Predmet: Operacijske raziskave (TPL-U) (OR)\, Seminar (S)\nLet
 niki: 2. letnik (TPL-U)\nIzvajalci: Danijela Tuljak-Suban\nProstor: R4
LOCATION:R4
ORGANIZER:Danijela Tuljak-Suban
RELATED-TO:fpp-AFLABS-URNIK:srecanje:967
X-WR-TIMEZONE:Europe/Ljubljana
END:VEVENT
BEGIN:VEVENT
SUMMARY:Operacijske raziskave (TPL-U) (OR)\, Seminar (S)
DTSTART;TZID=Europe/Ljubljana:20260403T085000
DTEND;TZID=Europe/Ljubljana:20260403T093500
DTSTAMP:20260422T005140Z
UID:fpp-AFLABS-URNIK:premaknjeno-srecanje:25786
ATTENDEE:2. letnik (TPL-U)
CATEGORIES:Entry,Standard
COLOR:darkgreen
DESCRIPTION:Predmet: Operacijske raziskave (TPL-U) (OR)\, Seminar (S)\nLet
 niki: 2. letnik (TPL-U)\nIzvajalci: Danijela Tuljak-Suban\nProstor: R4
LOCATION:R4
ORGANIZER:Danijela Tuljak-Suban
RELATED-TO:fpp-AFLABS-URNIK:srecanje:967
X-WR-TIMEZONE:Europe/Ljubljana
END:VEVENT
BEGIN:VEVENT
SUMMARY:Operacijske raziskave (TPL-U) (OR)\, Seminar (S)
DTSTART;TZID=Europe/Ljubljana:20260410T085000
DTEND;TZID=Europe/Ljubljana:20260410T093500
DTSTAMP:20260422T005140Z
UID:fpp-AFLABS-URNIK:premaknjeno-srecanje:25787
ATTENDEE:2. letnik (TPL-U)
CATEGORIES:Entry,Standard
COLOR:darkgreen
DESCRIPTION:Predmet: Operacijske raziskave (TPL-U) (OR)\, Seminar (S)\nLet
 niki: 2. letnik (TPL-U)\nIzvajalci: Danijela Tuljak-Suban\nProstor: R4
LOCATION:R4
ORGANIZER:Danijela Tuljak-Suban
RELATED-TO:fpp-AFLABS-URNIK:srecanje:967
X-WR-TIMEZONE:Europe/Ljubljana
END:VEVENT
BEGIN:VEVENT
SUMMARY:Operacijske raziskave (TPL-U) (OR)\, Seminar (S)
DTSTART;TZID=Europe/Ljubljana:20260417T085000
DTEND;TZID=Europe/Ljubljana:20260417T093500
DTSTAMP:20260422T005140Z
UID:fpp-AFLABS-URNIK:premaknjeno-srecanje:25788
ATTENDEE:2. letnik (TPL-U)
CATEGORIES:Entry,Standard
COLOR:darkgreen
DESCRIPTION:Predmet: Operacijske raziskave (TPL-U) (OR)\, Seminar (S)\nLet
 niki: 2. letnik (TPL-U)\nIzvajalci: Danijela Tuljak-Suban\nProstor: R4
LOCATION:R4
ORGANIZER:Danijela Tuljak-Suban
RELATED-TO:fpp-AFLABS-URNIK:srecanje:967
X-WR-TIMEZONE:Europe/Ljubljana
END:VEVENT
BEGIN:VEVENT
SUMMARY:Operacijske raziskave (TPL-U) (OR)\, Seminar (S)
DTSTART;TZID=Europe/Ljubljana:20260424T085000
DTEND;TZID=Europe/Ljubljana:20260424T093500
DTSTAMP:20260422T005140Z
UID:fpp-AFLABS-URNIK:premaknjeno-srecanje:25789
ATTENDEE:2. letnik (TPL-U)
CATEGORIES:Entry,Standard
COLOR:darkgreen
DESCRIPTION:Predmet: Operacijske raziskave (TPL-U) (OR)\, Seminar (S)\nLet
 niki: 2. letnik (TPL-U)\nIzvajalci: Danijela Tuljak-Suban\nProstor: R4
LOCATION:R4
ORGANIZER:Danijela Tuljak-Suban
RELATED-TO:fpp-AFLABS-URNIK:srecanje:967
X-WR-TIMEZONE:Europe/Ljubljana
END:VEVENT
BEGIN:VEVENT
SUMMARY:Operacijske raziskave (TPL-U) (OR)\, Seminar (S)
DTSTART;TZID=Europe/Ljubljana:20260508T085000
DTEND;TZID=Europe/Ljubljana:20260508T093500
DTSTAMP:20260422T005140Z
UID:fpp-AFLABS-URNIK:premaknjeno-srecanje:25791
ATTENDEE:2. letnik (TPL-U)
CATEGORIES:Entry,Standard
COLOR:darkgreen
DESCRIPTION:Predmet: Operacijske raziskave (TPL-U) (OR)\, Seminar (S)\nLet
 niki: 2. letnik (TPL-U)\nIzvajalci: Danijela Tuljak-Suban\nProstor: R4
LOCATION:R4
ORGANIZER:Danijela Tuljak-Suban
RELATED-TO:fpp-AFLABS-URNIK:srecanje:967
X-WR-TIMEZONE:Europe/Ljubljana
END:VEVENT
BEGIN:VEVENT
SUMMARY:Operacijske raziskave (TPL-U) (OR)\, Seminar (S)
DTSTART;TZID=Europe/Ljubljana:20260515T085000
DTEND;TZID=Europe/Ljubljana:20260515T093500
DTSTAMP:20260422T005140Z
UID:fpp-AFLABS-URNIK:premaknjeno-srecanje:25792
ATTENDEE:2. letnik (TPL-U)
CATEGORIES:Entry,Standard
COLOR:darkgreen
DESCRIPTION:Predmet: Operacijske raziskave (TPL-U) (OR)\, Seminar (S)\nLet
 niki: 2. letnik (TPL-U)\nIzvajalci: Danijela Tuljak-Suban\nProstor: R4
LOCATION:R4
ORGANIZER:Danijela Tuljak-Suban
RELATED-TO:fpp-AFLABS-URNIK:srecanje:967
X-WR-TIMEZONE:Europe/Ljubljana
END:VEVENT
BEGIN:VEVENT
SUMMARY:Operacijske raziskave (TPL-U) (OR)\, Seminar (S)
DTSTART;TZID=Europe/Ljubljana:20260522T085000
DTEND;TZID=Europe/Ljubljana:20260522T093500
DTSTAMP:20260422T005140Z
UID:fpp-AFLABS-URNIK:premaknjeno-srecanje:25793
ATTENDEE:2. letnik (TPL-U)
CATEGORIES:Entry,Standard
COLOR:darkgreen
DESCRIPTION:Predmet: Operacijske raziskave (TPL-U) (OR)\, Seminar (S)\nLet
 niki: 2. letnik (TPL-U)\nIzvajalci: Danijela Tuljak-Suban\nProstor: R4
LOCATION:R4
ORGANIZER:Danijela Tuljak-Suban
RELATED-TO:fpp-AFLABS-URNIK:srecanje:967
X-WR-TIMEZONE:Europe/Ljubljana
END:VEVENT
BEGIN:VEVENT
SUMMARY:Operacijske raziskave (TPL-U) (OR)\, Seminar (S)
DTSTART;TZID=Europe/Ljubljana:20260529T085000
DTEND;TZID=Europe/Ljubljana:20260529T093500
DTSTAMP:20260422T005140Z
UID:fpp-AFLABS-URNIK:premaknjeno-srecanje:25794
ATTENDEE:2. letnik (TPL-U)
CATEGORIES:Entry,Standard
COLOR:darkgreen
DESCRIPTION:Predmet: Operacijske raziskave (TPL-U) (OR)\, Seminar (S)\nLet
 niki: 2. letnik (TPL-U)\nIzvajalci: Danijela Tuljak-Suban\nProstor: R4
LOCATION:R4
ORGANIZER:Danijela Tuljak-Suban
RELATED-TO:fpp-AFLABS-URNIK:srecanje:967
X-WR-TIMEZONE:Europe/Ljubljana
END:VEVENT
BEGIN:VEVENT
SUMMARY:Operacijske raziskave (TPL-U) (OR)\, Predavanje (P)
DTSTART;TZID=Europe/Ljubljana:20260220T094000
DTEND;TZID=Europe/Ljubljana:20260220T111500
DTSTAMP:20260422T005140Z
UID:fpp-AFLABS-URNIK:premaknjeno-srecanje:25795
ATTENDEE:2. letnik (TPL-U)
CATEGORIES:Entry,Standard
COLOR:darkgreen
DESCRIPTION:Predmet: Operacijske raziskave (TPL-U) (OR)\, Predavanje (P)\n
 Letniki: 2. letnik (TPL-U)\nIzvajalci: Danijela Tuljak-Suban\nProstor: 204
LOCATION:204
ORGANIZER:Danijela Tuljak-Suban
RELATED-TO:fpp-AFLABS-URNIK:srecanje:966
X-WR-TIMEZONE:Europe/Ljubljana
END:VEVENT
BEGIN:VEVENT
SUMMARY:Operacijske raziskave (TPL-U) (OR)\, Predavanje (P)
DTSTART;TZID=Europe/Ljubljana:20260227T094000
DTEND;TZID=Europe/Ljubljana:20260227T111500
DTSTAMP:20260422T005140Z
UID:fpp-AFLABS-URNIK:premaknjeno-srecanje:25796
ATTENDEE:2. letnik (TPL-U)
CATEGORIES:Entry,Standard
COLOR:darkgreen
DESCRIPTION:Predmet: Operacijske raziskave (TPL-U) (OR)\, Predavanje (P)\n
 Letniki: 2. letnik (TPL-U)\nIzvajalci: Danijela Tuljak-Suban\nProstor: 204
LOCATION:204
ORGANIZER:Danijela Tuljak-Suban
RELATED-TO:fpp-AFLABS-URNIK:srecanje:966
X-WR-TIMEZONE:Europe/Ljubljana
END:VEVENT
BEGIN:VEVENT
SUMMARY:Operacijske raziskave (TPL-U) (OR)\, Predavanje (P)
DTSTART;TZID=Europe/Ljubljana:20260306T094000
DTEND;TZID=Europe/Ljubljana:20260306T111500
DTSTAMP:20260422T005140Z
UID:fpp-AFLABS-URNIK:premaknjeno-srecanje:25797
ATTENDEE:2. letnik (TPL-U)
CATEGORIES:Entry,Standard
COLOR:darkgreen
DESCRIPTION:Predmet: Operacijske raziskave (TPL-U) (OR)\, Predavanje (P)\n
 Letniki: 2. letnik (TPL-U)\nIzvajalci: Danijela Tuljak-Suban\nProstor: 204
LOCATION:204
ORGANIZER:Danijela Tuljak-Suban
RELATED-TO:fpp-AFLABS-URNIK:srecanje:966
X-WR-TIMEZONE:Europe/Ljubljana
END:VEVENT
BEGIN:VEVENT
SUMMARY:Operacijske raziskave (TPL-U) (OR)\, Predavanje (P)
DTSTART;TZID=Europe/Ljubljana:20260313T094000
DTEND;TZID=Europe/Ljubljana:20260313T111500
DTSTAMP:20260422T005140Z
UID:fpp-AFLABS-URNIK:premaknjeno-srecanje:25798
ATTENDEE:2. letnik (TPL-U)
CATEGORIES:Entry,Standard
COLOR:darkgreen
DESCRIPTION:Predmet: Operacijske raziskave (TPL-U) (OR)\, Predavanje (P)\n
 Letniki: 2. letnik (TPL-U)\nIzvajalci: Danijela Tuljak-Suban\nProstor: 204
LOCATION:204
ORGANIZER:Danijela Tuljak-Suban
RELATED-TO:fpp-AFLABS-URNIK:srecanje:966
X-WR-TIMEZONE:Europe/Ljubljana
END:VEVENT
BEGIN:VEVENT
SUMMARY:Operacijske raziskave (TPL-U) (OR)\, Predavanje (P)
DTSTART;TZID=Europe/Ljubljana:20260320T094000
DTEND;TZID=Europe/Ljubljana:20260320T111500
DTSTAMP:20260422T005140Z
UID:fpp-AFLABS-URNIK:premaknjeno-srecanje:25799
ATTENDEE:2. letnik (TPL-U)
CATEGORIES:Entry,Standard
COLOR:darkgreen
DESCRIPTION:Predmet: Operacijske raziskave (TPL-U) (OR)\, Predavanje (P)\n
 Letniki: 2. letnik (TPL-U)\nIzvajalci: Danijela Tuljak-Suban\nProstor: 204
LOCATION:204
ORGANIZER:Danijela Tuljak-Suban
RELATED-TO:fpp-AFLABS-URNIK:srecanje:966
X-WR-TIMEZONE:Europe/Ljubljana
END:VEVENT
BEGIN:VEVENT
SUMMARY:Operacijske raziskave (TPL-U) (OR)\, Predavanje (P)
DTSTART;TZID=Europe/Ljubljana:20260327T094000
DTEND;TZID=Europe/Ljubljana:20260327T111500
DTSTAMP:20260422T005140Z
UID:fpp-AFLABS-URNIK:premaknjeno-srecanje:25800
ATTENDEE:2. letnik (TPL-U)
CATEGORIES:Entry,Standard
COLOR:darkgreen
DESCRIPTION:Predmet: Operacijske raziskave (TPL-U) (OR)\, Predavanje (P)\n
 Letniki: 2. letnik (TPL-U)\nIzvajalci: Danijela Tuljak-Suban\nProstor: 204
LOCATION:204
ORGANIZER:Danijela Tuljak-Suban
RELATED-TO:fpp-AFLABS-URNIK:srecanje:966
X-WR-TIMEZONE:Europe/Ljubljana
END:VEVENT
BEGIN:VEVENT
SUMMARY:Operacijske raziskave (TPL-U) (OR)\, Predavanje (P)
DTSTART;TZID=Europe/Ljubljana:20260403T094000
DTEND;TZID=Europe/Ljubljana:20260403T111500
DTSTAMP:20260422T005140Z
UID:fpp-AFLABS-URNIK:premaknjeno-srecanje:25801
ATTENDEE:2. letnik (TPL-U)
CATEGORIES:Entry,Standard
COLOR:darkgreen
DESCRIPTION:Predmet: Operacijske raziskave (TPL-U) (OR)\, Predavanje (P)\n
 Letniki: 2. letnik (TPL-U)\nIzvajalci: Danijela Tuljak-Suban\nProstor: 204
LOCATION:204
ORGANIZER:Danijela Tuljak-Suban
RELATED-TO:fpp-AFLABS-URNIK:srecanje:966
X-WR-TIMEZONE:Europe/Ljubljana
END:VEVENT
BEGIN:VEVENT
SUMMARY:Operacijske raziskave (TPL-U) (OR)\, Predavanje (P)
DTSTART;TZID=Europe/Ljubljana:20260410T094000
DTEND;TZID=Europe/Ljubljana:20260410T111500
DTSTAMP:20260422T005140Z
UID:fpp-AFLABS-URNIK:premaknjeno-srecanje:25802
ATTENDEE:2. letnik (TPL-U)
CATEGORIES:Entry,Standard
COLOR:darkgreen
DESCRIPTION:Predmet: Operacijske raziskave (TPL-U) (OR)\, Predavanje (P)\n
 Letniki: 2. letnik (TPL-U)\nIzvajalci: Danijela Tuljak-Suban\nProstor: 204
LOCATION:204
ORGANIZER:Danijela Tuljak-Suban
RELATED-TO:fpp-AFLABS-URNIK:srecanje:966
X-WR-TIMEZONE:Europe/Ljubljana
END:VEVENT
BEGIN:VEVENT
SUMMARY:Operacijske raziskave (TPL-U) (OR)\, Predavanje (P)
DTSTART;TZID=Europe/Ljubljana:20260417T094000
DTEND;TZID=Europe/Ljubljana:20260417T111500
DTSTAMP:20260422T005140Z
UID:fpp-AFLABS-URNIK:premaknjeno-srecanje:25803
ATTENDEE:2. letnik (TPL-U)
CATEGORIES:Entry,Standard
COLOR:darkgreen
DESCRIPTION:Predmet: Operacijske raziskave (TPL-U) (OR)\, Predavanje (P)\n
 Letniki: 2. letnik (TPL-U)\nIzvajalci: Danijela Tuljak-Suban\nProstor: 204
LOCATION:204
ORGANIZER:Danijela Tuljak-Suban
RELATED-TO:fpp-AFLABS-URNIK:srecanje:966
X-WR-TIMEZONE:Europe/Ljubljana
END:VEVENT
BEGIN:VEVENT
SUMMARY:Operacijske raziskave (TPL-U) (OR)\, Predavanje (P)
DTSTART;TZID=Europe/Ljubljana:20260424T094000
DTEND;TZID=Europe/Ljubljana:20260424T111500
DTSTAMP:20260422T005140Z
UID:fpp-AFLABS-URNIK:premaknjeno-srecanje:25804
ATTENDEE:2. letnik (TPL-U)
CATEGORIES:Entry,Standard
COLOR:darkgreen
DESCRIPTION:Predmet: Operacijske raziskave (TPL-U) (OR)\, Predavanje (P)\n
 Letniki: 2. letnik (TPL-U)\nIzvajalci: Danijela Tuljak-Suban\nProstor: 204
LOCATION:204
ORGANIZER:Danijela Tuljak-Suban
RELATED-TO:fpp-AFLABS-URNIK:srecanje:966
X-WR-TIMEZONE:Europe/Ljubljana
END:VEVENT
BEGIN:VEVENT
SUMMARY:Operacijske raziskave (TPL-U) (OR)\, Predavanje (P)
DTSTART;TZID=Europe/Ljubljana:20260508T094000
DTEND;TZID=Europe/Ljubljana:20260508T111500
DTSTAMP:20260422T005140Z
UID:fpp-AFLABS-URNIK:premaknjeno-srecanje:25806
ATTENDEE:2. letnik (TPL-U)
CATEGORIES:Entry,Standard
COLOR:darkgreen
DESCRIPTION:Predmet: Operacijske raziskave (TPL-U) (OR)\, Predavanje (P)\n
 Letniki: 2. letnik (TPL-U)\nIzvajalci: Danijela Tuljak-Suban\nProstor: 204
LOCATION:204
ORGANIZER:Danijela Tuljak-Suban
RELATED-TO:fpp-AFLABS-URNIK:srecanje:966
X-WR-TIMEZONE:Europe/Ljubljana
END:VEVENT
BEGIN:VEVENT
SUMMARY:Operacijske raziskave (TPL-U) (OR)\, Predavanje (P)
DTSTART;TZID=Europe/Ljubljana:20260515T094000
DTEND;TZID=Europe/Ljubljana:20260515T111500
DTSTAMP:20260422T005140Z
UID:fpp-AFLABS-URNIK:premaknjeno-srecanje:25807
ATTENDEE:2. letnik (TPL-U)
CATEGORIES:Entry,Standard
COLOR:darkgreen
DESCRIPTION:Predmet: Operacijske raziskave (TPL-U) (OR)\, Predavanje (P)\n
 Letniki: 2. letnik (TPL-U)\nIzvajalci: Danijela Tuljak-Suban\nProstor: 204
LOCATION:204
ORGANIZER:Danijela Tuljak-Suban
RELATED-TO:fpp-AFLABS-URNIK:srecanje:966
X-WR-TIMEZONE:Europe/Ljubljana
END:VEVENT
BEGIN:VEVENT
SUMMARY:Operacijske raziskave (TPL-U) (OR)\, Predavanje (P)
DTSTART;TZID=Europe/Ljubljana:20260522T094000
DTEND;TZID=Europe/Ljubljana:20260522T111500
DTSTAMP:20260422T005140Z
UID:fpp-AFLABS-URNIK:premaknjeno-srecanje:25808
ATTENDEE:2. letnik (TPL-U)
CATEGORIES:Entry,Standard
COLOR:darkgreen
DESCRIPTION:Predmet: Operacijske raziskave (TPL-U) (OR)\, Predavanje (P)\n
 Letniki: 2. letnik (TPL-U)\nIzvajalci: Danijela Tuljak-Suban\nProstor: 204
LOCATION:204
ORGANIZER:Danijela Tuljak-Suban
RELATED-TO:fpp-AFLABS-URNIK:srecanje:966
X-WR-TIMEZONE:Europe/Ljubljana
END:VEVENT
BEGIN:VEVENT
SUMMARY:Operacijske raziskave (TPL-U) (OR)\, Predavanje (P)
DTSTART;TZID=Europe/Ljubljana:20260529T094000
DTEND;TZID=Europe/Ljubljana:20260529T111500
DTSTAMP:20260422T005140Z
UID:fpp-AFLABS-URNIK:premaknjeno-srecanje:25809
ATTENDEE:2. letnik (TPL-U)
CATEGORIES:Entry,Standard
COLOR:darkgreen
DESCRIPTION:Predmet: Operacijske raziskave (TPL-U) (OR)\, Predavanje (P)\n
 Letniki: 2. letnik (TPL-U)\nIzvajalci: Danijela Tuljak-Suban\nProstor: 204
LOCATION:204
ORGANIZER:Danijela Tuljak-Suban
RELATED-TO:fpp-AFLABS-URNIK:srecanje:966
X-WR-TIMEZONE:Europe/Ljubljana
END:VEVENT
END:VCALENDAR
