BEGIN:VCALENDAR
VERSION:2.0
PRODID:-//AFLabs urnik izvoz - fpp//aflabs.si//SI
DTSTAMP:20260423T013217Z
NAME:UL FPP Urnik
REFRESH-INTERVAL:PT1H
SOURCE:https://afurnik-fpp.dev.aflabs.org/en/teacher/55?day=2025-01-27&exp
 ort=1
URL:https://afurnik-fpp.dev.aflabs.org/en/teacher/55?day=2025-01-27&export
 =1
X-PUBLISHED-TTL:PT1H
X-WR-CALNAME:UL FPP Urnik
X-WR-TIMEZONE:Europe/Ljubljana
BEGIN:VTIMEZONE
TZID:Europe/Ljubljana
BEGIN:DAYLIGHT
DTSTART:20260329T020000
RDATE:20260329T020000
RDATE:20270328T020000
TZNAME:CEST
TZOFFSETFROM:+0100
TZOFFSETTO:+0200
END:DAYLIGHT
BEGIN:STANDARD
DTSTART:20261025T030000
RDATE:20261025T030000
RDATE:20271031T030000
TZNAME:CET
TZOFFSETFROM:+0200
TZOFFSETTO:+0100
END:STANDARD
END:VTIMEZONE
BEGIN:VEVENT
SUMMARY:Matematika I (TPL-U) (MAT1)\, Predavanje (P)
DTSTART;TZID=Europe/Ljubljana:20241223T085000
DTEND;TZID=Europe/Ljubljana:20241223T111500
DTSTAMP:20260423T013217Z
UID:fpp-AFLABS-URNIK:premaknjeno-srecanje:1974
ATTENDEE:1. letnik (TPL-U)
CATEGORIES:Entry,Standard
COLOR:darkgreen
DESCRIPTION:Predmet: Matematika I (TPL-U) (MAT1)\, Predavanje (P)\nLetniki
 : 1. letnik (TPL-U)\nIzvajalci: Aleksej Turnšek\nProstor: 202
LOCATION:202
ORGANIZER:Aleksej Turnšek
RELATED-TO:fpp-AFLABS-URNIK:srecanje:156
X-WR-TIMEZONE:Europe/Ljubljana
END:VEVENT
BEGIN:VEVENT
SUMMARY:Matematika I (TPL-U) (MAT1)\, Predavanje (P)
DTSTART;TZID=Europe/Ljubljana:20241230T085000
DTEND;TZID=Europe/Ljubljana:20241230T111500
DTSTAMP:20260423T013217Z
UID:fpp-AFLABS-URNIK:premaknjeno-srecanje:1975
ATTENDEE:1. letnik (TPL-U)
CATEGORIES:Entry,Standard
COLOR:darkgreen
DESCRIPTION:Predmet: Matematika I (TPL-U) (MAT1)\, Predavanje (P)\nLetniki
 : 1. letnik (TPL-U)\nIzvajalci: Aleksej Turnšek\nProstor: 202
LOCATION:202
ORGANIZER:Aleksej Turnšek
RELATED-TO:fpp-AFLABS-URNIK:srecanje:156
X-WR-TIMEZONE:Europe/Ljubljana
END:VEVENT
BEGIN:VEVENT
SUMMARY:Matematika I (TPL-U) (MAT1)\, Predavanje (P)
DTSTART;TZID=Europe/Ljubljana:20250106T085000
DTEND;TZID=Europe/Ljubljana:20250106T111500
DTSTAMP:20260423T013217Z
UID:fpp-AFLABS-URNIK:premaknjeno-srecanje:1976
ATTENDEE:1. letnik (TPL-U)
CATEGORIES:Entry,Standard
COLOR:darkgreen
DESCRIPTION:Predmet: Matematika I (TPL-U) (MAT1)\, Predavanje (P)\nLetniki
 : 1. letnik (TPL-U)\nIzvajalci: Aleksej Turnšek\nProstor: 202
LOCATION:202
ORGANIZER:Aleksej Turnšek
RELATED-TO:fpp-AFLABS-URNIK:srecanje:156
X-WR-TIMEZONE:Europe/Ljubljana
END:VEVENT
BEGIN:VEVENT
SUMMARY:Matematika I (TPL-U) (MAT1)\, Predavanje (P)
DTSTART;TZID=Europe/Ljubljana:20250113T085000
DTEND;TZID=Europe/Ljubljana:20250113T111500
DTSTAMP:20260423T013217Z
UID:fpp-AFLABS-URNIK:premaknjeno-srecanje:1977
ATTENDEE:1. letnik (TPL-U)
CATEGORIES:Entry,Standard
COLOR:darkgreen
DESCRIPTION:Predmet: Matematika I (TPL-U) (MAT1)\, Predavanje (P)\nLetniki
 : 1. letnik (TPL-U)\nIzvajalci: Aleksej Turnšek\nProstor: 202
LOCATION:202
ORGANIZER:Aleksej Turnšek
RELATED-TO:fpp-AFLABS-URNIK:srecanje:156
X-WR-TIMEZONE:Europe/Ljubljana
END:VEVENT
BEGIN:VEVENT
SUMMARY:Matematika I (TPL-U) (MAT1)\, Predavanje (P)
DTSTART;TZID=Europe/Ljubljana:20250120T085000
DTEND;TZID=Europe/Ljubljana:20250120T111500
DTSTAMP:20260423T013217Z
UID:fpp-AFLABS-URNIK:premaknjeno-srecanje:1978
ATTENDEE:1. letnik (TPL-U)
CATEGORIES:Entry,Standard
COLOR:darkgreen
DESCRIPTION:Predmet: Matematika I (TPL-U) (MAT1)\, Predavanje (P)\nLetniki
 : 1. letnik (TPL-U)\nIzvajalci: Aleksej Turnšek\nProstor: 202
LOCATION:202
ORGANIZER:Aleksej Turnšek
RELATED-TO:fpp-AFLABS-URNIK:srecanje:156
X-WR-TIMEZONE:Europe/Ljubljana
END:VEVENT
BEGIN:VEVENT
SUMMARY:Izbrana poglavja iz višje matematike (POM2) (IPVM)\, Predavanje (
 P)
DTSTART;TZID=Europe/Ljubljana:20241225T162000
DTEND;TZID=Europe/Ljubljana:20241225T193500
DTSTAMP:20260423T013217Z
UID:fpp-AFLABS-URNIK:premaknjeno-srecanje:1399
ATTENDEE:1. letnik (POM2)
CATEGORIES:Entry,Standard
COLOR:darkgreen
DESCRIPTION:Predmet: Izbrana poglavja iz višje matematike (POM2) (IPVM)\,
  Predavanje (P)\nLetniki: 1. letnik (POM2)\nIzvajalci: Aleksej Turnšek\nP
 rostor: P2
LOCATION:P2
ORGANIZER:Aleksej Turnšek
RELATED-TO:fpp-AFLABS-URNIK:srecanje:251
X-WR-TIMEZONE:Europe/Ljubljana
END:VEVENT
BEGIN:VEVENT
SUMMARY:Izbrana poglavja iz višje matematike (POM2) (IPVM)\, Predavanje (
 P)
DTSTART;TZID=Europe/Ljubljana:20250101T162000
DTEND;TZID=Europe/Ljubljana:20250101T193500
DTSTAMP:20260423T013217Z
UID:fpp-AFLABS-URNIK:premaknjeno-srecanje:1400
ATTENDEE:1. letnik (POM2)
CATEGORIES:Entry,Standard
COLOR:darkgreen
DESCRIPTION:Predmet: Izbrana poglavja iz višje matematike (POM2) (IPVM)\,
  Predavanje (P)\nLetniki: 1. letnik (POM2)\nIzvajalci: Aleksej Turnšek\nP
 rostor: P2
LOCATION:P2
ORGANIZER:Aleksej Turnšek
RELATED-TO:fpp-AFLABS-URNIK:srecanje:251
X-WR-TIMEZONE:Europe/Ljubljana
END:VEVENT
BEGIN:VEVENT
SUMMARY:Izbrana poglavja iz višje matematike (POM2) (IPVM)\, Predavanje (
 P)
DTSTART;TZID=Europe/Ljubljana:20250108T162000
DTEND;TZID=Europe/Ljubljana:20250108T193500
DTSTAMP:20260423T013217Z
UID:fpp-AFLABS-URNIK:premaknjeno-srecanje:1401
ATTENDEE:1. letnik (POM2)
CATEGORIES:Entry,Standard
COLOR:darkgreen
DESCRIPTION:Predmet: Izbrana poglavja iz višje matematike (POM2) (IPVM)\,
  Predavanje (P)\nLetniki: 1. letnik (POM2)\nIzvajalci: Aleksej Turnšek\nP
 rostor: P2
LOCATION:P2
ORGANIZER:Aleksej Turnšek
RELATED-TO:fpp-AFLABS-URNIK:srecanje:251
X-WR-TIMEZONE:Europe/Ljubljana
END:VEVENT
BEGIN:VEVENT
SUMMARY:Izbrana poglavja iz višje matematike (POM2) (IPVM)\, Predavanje (
 P)
DTSTART;TZID=Europe/Ljubljana:20250115T162000
DTEND;TZID=Europe/Ljubljana:20250115T193500
DTSTAMP:20260423T013217Z
UID:fpp-AFLABS-URNIK:premaknjeno-srecanje:1402
ATTENDEE:1. letnik (POM2)
CATEGORIES:Entry,Standard
COLOR:darkgreen
DESCRIPTION:Predmet: Izbrana poglavja iz višje matematike (POM2) (IPVM)\,
  Predavanje (P)\nLetniki: 1. letnik (POM2)\nIzvajalci: Aleksej Turnšek\nP
 rostor: P2
LOCATION:P2
ORGANIZER:Aleksej Turnšek
RELATED-TO:fpp-AFLABS-URNIK:srecanje:251
X-WR-TIMEZONE:Europe/Ljubljana
END:VEVENT
BEGIN:VEVENT
SUMMARY:Verjetnost in statistika (TPL-U) (VS)\, Predavanje (P)
DTSTART;TZID=Europe/Ljubljana:20241225T085000
DTEND;TZID=Europe/Ljubljana:20241225T111500
DTSTAMP:20260423T013217Z
UID:fpp-AFLABS-URNIK:premaknjeno-srecanje:5134
ATTENDEE:2. letnik (TPL-U)
CATEGORIES:Entry,Standard
COLOR:darkgreen
DESCRIPTION:Predmet: Verjetnost in statistika (TPL-U) (VS)\, Predavanje (P
 )\nLetniki: 2. letnik (TPL-U)\nIzvajalci: Aleksej Turnšek\nProstor: 204
LOCATION:204
ORGANIZER:Aleksej Turnšek
RELATED-TO:fpp-AFLABS-URNIK:srecanje:177
X-WR-TIMEZONE:Europe/Ljubljana
END:VEVENT
BEGIN:VEVENT
SUMMARY:Verjetnost in statistika (TPL-U) (VS)\, Predavanje (P)
DTSTART;TZID=Europe/Ljubljana:20250101T085000
DTEND;TZID=Europe/Ljubljana:20250101T111500
DTSTAMP:20260423T013217Z
UID:fpp-AFLABS-URNIK:premaknjeno-srecanje:5135
ATTENDEE:2. letnik (TPL-U)
CATEGORIES:Entry,Standard
COLOR:darkgreen
DESCRIPTION:Predmet: Verjetnost in statistika (TPL-U) (VS)\, Predavanje (P
 )\nLetniki: 2. letnik (TPL-U)\nIzvajalci: Aleksej Turnšek\nProstor: 204
LOCATION:204
ORGANIZER:Aleksej Turnšek
RELATED-TO:fpp-AFLABS-URNIK:srecanje:177
X-WR-TIMEZONE:Europe/Ljubljana
END:VEVENT
BEGIN:VEVENT
SUMMARY:Verjetnost in statistika (TPL-U) (VS)\, Predavanje (P)
DTSTART;TZID=Europe/Ljubljana:20250108T085000
DTEND;TZID=Europe/Ljubljana:20250108T111500
DTSTAMP:20260423T013217Z
UID:fpp-AFLABS-URNIK:premaknjeno-srecanje:5136
ATTENDEE:2. letnik (TPL-U)
CATEGORIES:Entry,Standard
COLOR:darkgreen
DESCRIPTION:Predmet: Verjetnost in statistika (TPL-U) (VS)\, Predavanje (P
 )\nLetniki: 2. letnik (TPL-U)\nIzvajalci: Aleksej Turnšek\nProstor: 204
LOCATION:204
ORGANIZER:Aleksej Turnšek
RELATED-TO:fpp-AFLABS-URNIK:srecanje:177
X-WR-TIMEZONE:Europe/Ljubljana
END:VEVENT
BEGIN:VEVENT
SUMMARY:Verjetnost in statistika (TPL-U) (VS)\, Predavanje (P)
DTSTART;TZID=Europe/Ljubljana:20250115T085000
DTEND;TZID=Europe/Ljubljana:20250115T111500
DTSTAMP:20260423T013217Z
UID:fpp-AFLABS-URNIK:premaknjeno-srecanje:5137
ATTENDEE:2. letnik (TPL-U)
CATEGORIES:Entry,Standard
COLOR:darkgreen
DESCRIPTION:Predmet: Verjetnost in statistika (TPL-U) (VS)\, Predavanje (P
 )\nLetniki: 2. letnik (TPL-U)\nIzvajalci: Aleksej Turnšek\nProstor: 204
LOCATION:204
ORGANIZER:Aleksej Turnšek
RELATED-TO:fpp-AFLABS-URNIK:srecanje:177
X-WR-TIMEZONE:Europe/Ljubljana
END:VEVENT
BEGIN:VEVENT
SUMMARY:Verjetnost in statistika (TPL-U) (VS)\, Seminar (S)
DTSTART;TZID=Europe/Ljubljana:20241225T112000
DTEND;TZID=Europe/Ljubljana:20241225T120500
DTSTAMP:20260423T013217Z
UID:fpp-AFLABS-URNIK:premaknjeno-srecanje:5149
ATTENDEE:2. letnik (TPL-U)
CATEGORIES:Entry,Standard
COLOR:darkgreen
DESCRIPTION:Predmet: Verjetnost in statistika (TPL-U) (VS)\, Seminar (S)\n
 Letniki: 2. letnik (TPL-U)\nIzvajalci: Aleksej Turnšek\nProstor: 204
LOCATION:204
ORGANIZER:Aleksej Turnšek
RELATED-TO:fpp-AFLABS-URNIK:srecanje:184
X-WR-TIMEZONE:Europe/Ljubljana
END:VEVENT
BEGIN:VEVENT
SUMMARY:Verjetnost in statistika (TPL-U) (VS)\, Seminar (S)
DTSTART;TZID=Europe/Ljubljana:20250101T112000
DTEND;TZID=Europe/Ljubljana:20250101T120500
DTSTAMP:20260423T013217Z
UID:fpp-AFLABS-URNIK:premaknjeno-srecanje:5150
ATTENDEE:2. letnik (TPL-U)
CATEGORIES:Entry,Standard
COLOR:darkgreen
DESCRIPTION:Predmet: Verjetnost in statistika (TPL-U) (VS)\, Seminar (S)\n
 Letniki: 2. letnik (TPL-U)\nIzvajalci: Aleksej Turnšek\nProstor: 204
LOCATION:204
ORGANIZER:Aleksej Turnšek
RELATED-TO:fpp-AFLABS-URNIK:srecanje:184
X-WR-TIMEZONE:Europe/Ljubljana
END:VEVENT
BEGIN:VEVENT
SUMMARY:Verjetnost in statistika (TPL-U) (VS)\, Seminar (S)
DTSTART;TZID=Europe/Ljubljana:20250108T112000
DTEND;TZID=Europe/Ljubljana:20250108T120500
DTSTAMP:20260423T013217Z
UID:fpp-AFLABS-URNIK:premaknjeno-srecanje:5151
ATTENDEE:2. letnik (TPL-U)
CATEGORIES:Entry,Standard
COLOR:darkgreen
DESCRIPTION:Predmet: Verjetnost in statistika (TPL-U) (VS)\, Seminar (S)\n
 Letniki: 2. letnik (TPL-U)\nIzvajalci: Aleksej Turnšek\nProstor: 204
LOCATION:204
ORGANIZER:Aleksej Turnšek
RELATED-TO:fpp-AFLABS-URNIK:srecanje:184
X-WR-TIMEZONE:Europe/Ljubljana
END:VEVENT
BEGIN:VEVENT
SUMMARY:Verjetnost in statistika (TPL-U) (VS)\, Seminar (S)
DTSTART;TZID=Europe/Ljubljana:20250115T112000
DTEND;TZID=Europe/Ljubljana:20250115T120500
DTSTAMP:20260423T013217Z
UID:fpp-AFLABS-URNIK:premaknjeno-srecanje:5152
ATTENDEE:2. letnik (TPL-U)
CATEGORIES:Entry,Standard
COLOR:darkgreen
DESCRIPTION:Predmet: Verjetnost in statistika (TPL-U) (VS)\, Seminar (S)\n
 Letniki: 2. letnik (TPL-U)\nIzvajalci: Aleksej Turnšek\nProstor: 204
LOCATION:204
ORGANIZER:Aleksej Turnšek
RELATED-TO:fpp-AFLABS-URNIK:srecanje:184
X-WR-TIMEZONE:Europe/Ljubljana
END:VEVENT
BEGIN:VEVENT
SUMMARY:Matematika II (TPL-U) (MAT2)\, Predavanje (P)
DTSTART;TZID=Europe/Ljubljana:20250217T085000
DTEND;TZID=Europe/Ljubljana:20250217T111500
DTSTAMP:20260423T013217Z
UID:fpp-AFLABS-URNIK:premaknjeno-srecanje:401
ATTENDEE:1. letnik (TPL-U)
CATEGORIES:Entry,Standard
COLOR:darkgreen
DESCRIPTION:Predmet: Matematika II (TPL-U) (MAT2)\, Predavanje (P)\nLetnik
 i: 1. letnik (TPL-U)\nIzvajalci: Aleksej Turnšek\nProstor: 202
LOCATION:202
ORGANIZER:Aleksej Turnšek
RELATED-TO:fpp-AFLABS-URNIK:srecanje:401
X-WR-TIMEZONE:Europe/Ljubljana
END:VEVENT
BEGIN:VEVENT
SUMMARY:Matematika II (TPL-U) (MAT2)\, Predavanje (P)
DTSTART;TZID=Europe/Ljubljana:20250224T085000
DTEND;TZID=Europe/Ljubljana:20250224T111500
DTSTAMP:20260423T013217Z
UID:fpp-AFLABS-URNIK:premaknjeno-srecanje:6008
ATTENDEE:1. letnik (TPL-U)
CATEGORIES:Entry,Standard
COLOR:darkgreen
DESCRIPTION:Predmet: Matematika II (TPL-U) (MAT2)\, Predavanje (P)\nLetnik
 i: 1. letnik (TPL-U)\nIzvajalci: Aleksej Turnšek\nProstor: 202
LOCATION:202
ORGANIZER:Aleksej Turnšek
RELATED-TO:fpp-AFLABS-URNIK:srecanje:401
X-WR-TIMEZONE:Europe/Ljubljana
END:VEVENT
BEGIN:VEVENT
SUMMARY:Matematika II (TPL-U) (MAT2)\, Predavanje (P)
DTSTART;TZID=Europe/Ljubljana:20250303T085000
DTEND;TZID=Europe/Ljubljana:20250303T111500
DTSTAMP:20260423T013217Z
UID:fpp-AFLABS-URNIK:premaknjeno-srecanje:6009
ATTENDEE:1. letnik (TPL-U)
CATEGORIES:Entry,Standard
COLOR:darkgreen
DESCRIPTION:Predmet: Matematika II (TPL-U) (MAT2)\, Predavanje (P)\nLetnik
 i: 1. letnik (TPL-U)\nIzvajalci: Aleksej Turnšek\nProstor: 202
LOCATION:202
ORGANIZER:Aleksej Turnšek
RELATED-TO:fpp-AFLABS-URNIK:srecanje:401
X-WR-TIMEZONE:Europe/Ljubljana
END:VEVENT
BEGIN:VEVENT
SUMMARY:Verjetnost in statistika (PTTL) (VS)\, Seminar (S)
DTSTART;TZID=Europe/Ljubljana:20250219T080000
DTEND;TZID=Europe/Ljubljana:20250219T084500
DTSTAMP:20260423T013217Z
UID:fpp-AFLABS-URNIK:premaknjeno-srecanje:337
ATTENDEE:2. letnik (PTTL, SS)
ATTENDEE:2. letnik (PTTL, VS)
CATEGORIES:Entry,Standard
COLOR:darkgreen
DESCRIPTION:Predmet: Verjetnost in statistika (PTTL) (VS)\, Seminar (S)\nL
 etniki: 2. letnik (PTTL\, SS)\, 2. letnik (PTTL\, VS)\nIzvajalci: Aleksej 
 Turnšek\nProstor: 205
LOCATION:205
ORGANIZER:Aleksej Turnšek
RELATED-TO:fpp-AFLABS-URNIK:srecanje:337
X-WR-TIMEZONE:Europe/Ljubljana
END:VEVENT
BEGIN:VEVENT
SUMMARY:Verjetnost in statistika (PTTL) (VS)\, Seminar (S)
DTSTART;TZID=Europe/Ljubljana:20250226T080000
DTEND;TZID=Europe/Ljubljana:20250226T084500
DTSTAMP:20260423T013217Z
UID:fpp-AFLABS-URNIK:premaknjeno-srecanje:8138
ATTENDEE:2. letnik (PTTL, SS)
ATTENDEE:2. letnik (PTTL, VS)
CATEGORIES:Entry,Standard
COLOR:darkgreen
DESCRIPTION:Predmet: Verjetnost in statistika (PTTL) (VS)\, Seminar (S)\nL
 etniki: 2. letnik (PTTL\, SS)\, 2. letnik (PTTL\, VS)\nIzvajalci: Aleksej 
 Turnšek\nProstor: 205
LOCATION:205
ORGANIZER:Aleksej Turnšek
RELATED-TO:fpp-AFLABS-URNIK:srecanje:337
X-WR-TIMEZONE:Europe/Ljubljana
END:VEVENT
BEGIN:VEVENT
SUMMARY:Verjetnost in statistika (PTTL) (VS)\, Predavanje (P)
DTSTART;TZID=Europe/Ljubljana:20250219T085000
DTEND;TZID=Europe/Ljubljana:20250219T102500
DTSTAMP:20260423T013217Z
UID:fpp-AFLABS-URNIK:premaknjeno-srecanje:341
ATTENDEE:2. letnik (PTTL, SS)
ATTENDEE:2. letnik (PTTL, VS)
CATEGORIES:Entry,Standard
COLOR:darkgreen
DESCRIPTION:Predmet: Verjetnost in statistika (PTTL) (VS)\, Predavanje (P)
 \nLetniki: 2. letnik (PTTL\, SS)\, 2. letnik (PTTL\, VS)\nIzvajalci: Aleks
 ej Turnšek\nProstor: 205
LOCATION:205
ORGANIZER:Aleksej Turnšek
RELATED-TO:fpp-AFLABS-URNIK:srecanje:341
X-WR-TIMEZONE:Europe/Ljubljana
END:VEVENT
BEGIN:VEVENT
SUMMARY:Verjetnost in statistika (PTTL) (VS)\, Predavanje (P)
DTSTART;TZID=Europe/Ljubljana:20250226T085000
DTEND;TZID=Europe/Ljubljana:20250226T102500
DTSTAMP:20260423T013217Z
UID:fpp-AFLABS-URNIK:premaknjeno-srecanje:8123
ATTENDEE:2. letnik (PTTL, SS)
ATTENDEE:2. letnik (PTTL, VS)
CATEGORIES:Entry,Standard
COLOR:darkgreen
DESCRIPTION:Predmet: Verjetnost in statistika (PTTL) (VS)\, Predavanje (P)
 \nLetniki: 2. letnik (PTTL\, SS)\, 2. letnik (PTTL\, VS)\nIzvajalci: Aleks
 ej Turnšek\nProstor: 205
LOCATION:205
ORGANIZER:Aleksej Turnšek
RELATED-TO:fpp-AFLABS-URNIK:srecanje:341
X-WR-TIMEZONE:Europe/Ljubljana
END:VEVENT
END:VCALENDAR
