BEGIN:VCALENDAR
VERSION:2.0
PRODID:-//AFLabs urnik izvoz - fpp//aflabs.si//SI
DTSTAMP:20260423T032016Z
NAME:UL FPP Urnik
REFRESH-INTERVAL:PT1H
SOURCE:https://afurnik-fpp.dev.aflabs.org/en/teacher/55?day=2026-01-19&exp
 ort=1
URL:https://afurnik-fpp.dev.aflabs.org/en/teacher/55?day=2026-01-19&export
 =1
X-PUBLISHED-TTL:PT1H
X-WR-CALNAME:UL FPP Urnik
X-WR-TIMEZONE:Europe/Ljubljana
BEGIN:VTIMEZONE
TZID:Europe/Ljubljana
BEGIN:DAYLIGHT
DTSTART:20260329T020000
RDATE:20260329T020000
RDATE:20270328T020000
TZNAME:CEST
TZOFFSETFROM:+0100
TZOFFSETTO:+0200
END:DAYLIGHT
BEGIN:STANDARD
DTSTART:20261025T030000
RDATE:20261025T030000
RDATE:20271031T030000
TZNAME:CET
TZOFFSETFROM:+0200
TZOFFSETTO:+0100
END:STANDARD
END:VTIMEZONE
BEGIN:VEVENT
SUMMARY:Matematika I (TPL-U) (MAT1)\, Predavanje (P)
DTSTART;TZID=Europe/Ljubljana:20251215T085000
DTEND;TZID=Europe/Ljubljana:20251215T111500
DTSTAMP:20260423T032016Z
UID:fpp-AFLABS-URNIK:premaknjeno-srecanje:13693
ATTENDEE:1. letnik (TPL-U)
CATEGORIES:Entry,Standard
COLOR:darkgreen
DESCRIPTION:Predmet: Matematika I (TPL-U) (MAT1)\, Predavanje (P)\nLetniki
 : 1. letnik (TPL-U)\nIzvajalci: Aleksej Turnšek\nProstor: 202
LOCATION:202
ORGANIZER:Aleksej Turnšek
RELATED-TO:fpp-AFLABS-URNIK:srecanje:616
X-WR-TIMEZONE:Europe/Ljubljana
END:VEVENT
BEGIN:VEVENT
SUMMARY:Matematika I (TPL-U) (MAT1)\, Predavanje (P)
DTSTART;TZID=Europe/Ljubljana:20251222T085000
DTEND;TZID=Europe/Ljubljana:20251222T111500
DTSTAMP:20260423T032016Z
UID:fpp-AFLABS-URNIK:premaknjeno-srecanje:13694
ATTENDEE:1. letnik (TPL-U)
CATEGORIES:Entry,Standard
COLOR:darkgreen
DESCRIPTION:Predmet: Matematika I (TPL-U) (MAT1)\, Predavanje (P)\nLetniki
 : 1. letnik (TPL-U)\nIzvajalci: Aleksej Turnšek\nProstor: 202
LOCATION:202
ORGANIZER:Aleksej Turnšek
RELATED-TO:fpp-AFLABS-URNIK:srecanje:616
X-WR-TIMEZONE:Europe/Ljubljana
END:VEVENT
BEGIN:VEVENT
SUMMARY:Matematika I (TPL-U) (MAT1)\, Predavanje (P)
DTSTART;TZID=Europe/Ljubljana:20251229T085000
DTEND;TZID=Europe/Ljubljana:20251229T111500
DTSTAMP:20260423T032016Z
UID:fpp-AFLABS-URNIK:premaknjeno-srecanje:13695
ATTENDEE:1. letnik (TPL-U)
CATEGORIES:Entry,Standard
COLOR:darkgreen
DESCRIPTION:Predmet: Matematika I (TPL-U) (MAT1)\, Predavanje (P)\nLetniki
 : 1. letnik (TPL-U)\nIzvajalci: Aleksej Turnšek\nProstor: 202
LOCATION:202
ORGANIZER:Aleksej Turnšek
RELATED-TO:fpp-AFLABS-URNIK:srecanje:616
X-WR-TIMEZONE:Europe/Ljubljana
END:VEVENT
BEGIN:VEVENT
SUMMARY:Matematika I (TPL-U) (MAT1)\, Predavanje (P)
DTSTART;TZID=Europe/Ljubljana:20260105T085000
DTEND;TZID=Europe/Ljubljana:20260105T111500
DTSTAMP:20260423T032016Z
UID:fpp-AFLABS-URNIK:premaknjeno-srecanje:13696
ATTENDEE:1. letnik (TPL-U)
CATEGORIES:Entry,Standard
COLOR:darkgreen
DESCRIPTION:Predmet: Matematika I (TPL-U) (MAT1)\, Predavanje (P)\nLetniki
 : 1. letnik (TPL-U)\nIzvajalci: Aleksej Turnšek\nProstor: 202
LOCATION:202
ORGANIZER:Aleksej Turnšek
RELATED-TO:fpp-AFLABS-URNIK:srecanje:616
X-WR-TIMEZONE:Europe/Ljubljana
END:VEVENT
BEGIN:VEVENT
SUMMARY:Matematika I (TPL-U) (MAT1)\, Predavanje (P)
DTSTART;TZID=Europe/Ljubljana:20260112T085000
DTEND;TZID=Europe/Ljubljana:20260112T111500
DTSTAMP:20260423T032016Z
UID:fpp-AFLABS-URNIK:premaknjeno-srecanje:13697
ATTENDEE:1. letnik (TPL-U)
CATEGORIES:Entry,Standard
COLOR:darkgreen
DESCRIPTION:Predmet: Matematika I (TPL-U) (MAT1)\, Predavanje (P)\nLetniki
 : 1. letnik (TPL-U)\nIzvajalci: Aleksej Turnšek\nProstor: 202
LOCATION:202
ORGANIZER:Aleksej Turnšek
RELATED-TO:fpp-AFLABS-URNIK:srecanje:616
X-WR-TIMEZONE:Europe/Ljubljana
END:VEVENT
BEGIN:VEVENT
SUMMARY:Verjetnost in statistika (TPL-U) (VS)\, Predavanje (P)
DTSTART;TZID=Europe/Ljubljana:20251217T085000
DTEND;TZID=Europe/Ljubljana:20251217T111500
DTSTAMP:20260423T032016Z
UID:fpp-AFLABS-URNIK:premaknjeno-srecanje:14122
ATTENDEE:2. letnik (TPL-U)
CATEGORIES:Entry,Standard
COLOR:darkgreen
DESCRIPTION:Predmet: Verjetnost in statistika (TPL-U) (VS)\, Predavanje (P
 )\nLetniki: 2. letnik (TPL-U)\nIzvajalci: Aleksej Turnšek\nProstor: 204
LOCATION:204
ORGANIZER:Aleksej Turnšek
RELATED-TO:fpp-AFLABS-URNIK:srecanje:823
X-WR-TIMEZONE:Europe/Ljubljana
END:VEVENT
BEGIN:VEVENT
SUMMARY:Verjetnost in statistika (TPL-U) (VS)\, Predavanje (P)
DTSTART;TZID=Europe/Ljubljana:20251224T085000
DTEND;TZID=Europe/Ljubljana:20251224T111500
DTSTAMP:20260423T032016Z
UID:fpp-AFLABS-URNIK:premaknjeno-srecanje:14123
ATTENDEE:2. letnik (TPL-U)
CATEGORIES:Entry,Standard
COLOR:darkgreen
DESCRIPTION:Predmet: Verjetnost in statistika (TPL-U) (VS)\, Predavanje (P
 )\nLetniki: 2. letnik (TPL-U)\nIzvajalci: Aleksej Turnšek\nProstor: 204
LOCATION:204
ORGANIZER:Aleksej Turnšek
RELATED-TO:fpp-AFLABS-URNIK:srecanje:823
X-WR-TIMEZONE:Europe/Ljubljana
END:VEVENT
BEGIN:VEVENT
SUMMARY:Verjetnost in statistika (TPL-U) (VS)\, Predavanje (P)
DTSTART;TZID=Europe/Ljubljana:20251231T085000
DTEND;TZID=Europe/Ljubljana:20251231T111500
DTSTAMP:20260423T032016Z
UID:fpp-AFLABS-URNIK:premaknjeno-srecanje:14124
ATTENDEE:2. letnik (TPL-U)
CATEGORIES:Entry,Standard
COLOR:darkgreen
DESCRIPTION:Predmet: Verjetnost in statistika (TPL-U) (VS)\, Predavanje (P
 )\nLetniki: 2. letnik (TPL-U)\nIzvajalci: Aleksej Turnšek\nProstor: 204
LOCATION:204
ORGANIZER:Aleksej Turnšek
RELATED-TO:fpp-AFLABS-URNIK:srecanje:823
X-WR-TIMEZONE:Europe/Ljubljana
END:VEVENT
BEGIN:VEVENT
SUMMARY:Verjetnost in statistika (TPL-U) (VS)\, Predavanje (P)
DTSTART;TZID=Europe/Ljubljana:20260107T085000
DTEND;TZID=Europe/Ljubljana:20260107T111500
DTSTAMP:20260423T032016Z
UID:fpp-AFLABS-URNIK:premaknjeno-srecanje:14125
ATTENDEE:2. letnik (TPL-U)
CATEGORIES:Entry,Standard
COLOR:darkgreen
DESCRIPTION:Predmet: Verjetnost in statistika (TPL-U) (VS)\, Predavanje (P
 )\nLetniki: 2. letnik (TPL-U)\nIzvajalci: Aleksej Turnšek\nProstor: 204
LOCATION:204
ORGANIZER:Aleksej Turnšek
RELATED-TO:fpp-AFLABS-URNIK:srecanje:823
X-WR-TIMEZONE:Europe/Ljubljana
END:VEVENT
BEGIN:VEVENT
SUMMARY:Verjetnost in statistika (TPL-U) (VS)\, Predavanje (P)
DTSTART;TZID=Europe/Ljubljana:20260114T085000
DTEND;TZID=Europe/Ljubljana:20260114T111500
DTSTAMP:20260423T032016Z
UID:fpp-AFLABS-URNIK:premaknjeno-srecanje:14126
ATTENDEE:2. letnik (TPL-U)
CATEGORIES:Entry,Standard
COLOR:darkgreen
DESCRIPTION:Predmet: Verjetnost in statistika (TPL-U) (VS)\, Predavanje (P
 )\nLetniki: 2. letnik (TPL-U)\nIzvajalci: Aleksej Turnšek\nProstor: 204
LOCATION:204
ORGANIZER:Aleksej Turnšek
RELATED-TO:fpp-AFLABS-URNIK:srecanje:823
X-WR-TIMEZONE:Europe/Ljubljana
END:VEVENT
BEGIN:VEVENT
SUMMARY:Verjetnost in statistika (TPL-U) (VS)\, Seminar (S)
DTSTART;TZID=Europe/Ljubljana:20251217T112000
DTEND;TZID=Europe/Ljubljana:20251217T120500
DTSTAMP:20260423T032016Z
UID:fpp-AFLABS-URNIK:premaknjeno-srecanje:14255
ATTENDEE:2. letnik (TPL-U)
CATEGORIES:Entry,Standard
COLOR:darkgreen
DESCRIPTION:Predmet: Verjetnost in statistika (TPL-U) (VS)\, Seminar (S)\n
 Letniki: 2. letnik (TPL-U)\nIzvajalci: Aleksej Turnšek\nProstor: 204
LOCATION:204
ORGANIZER:Aleksej Turnšek
RELATED-TO:fpp-AFLABS-URNIK:srecanje:824
X-WR-TIMEZONE:Europe/Ljubljana
END:VEVENT
BEGIN:VEVENT
SUMMARY:Verjetnost in statistika (TPL-U) (VS)\, Seminar (S)
DTSTART;TZID=Europe/Ljubljana:20251224T112000
DTEND;TZID=Europe/Ljubljana:20251224T120500
DTSTAMP:20260423T032016Z
UID:fpp-AFLABS-URNIK:premaknjeno-srecanje:14256
ATTENDEE:2. letnik (TPL-U)
CATEGORIES:Entry,Standard
COLOR:darkgreen
DESCRIPTION:Predmet: Verjetnost in statistika (TPL-U) (VS)\, Seminar (S)\n
 Letniki: 2. letnik (TPL-U)\nIzvajalci: Aleksej Turnšek\nProstor: 204
LOCATION:204
ORGANIZER:Aleksej Turnšek
RELATED-TO:fpp-AFLABS-URNIK:srecanje:824
X-WR-TIMEZONE:Europe/Ljubljana
END:VEVENT
BEGIN:VEVENT
SUMMARY:Verjetnost in statistika (TPL-U) (VS)\, Seminar (S)
DTSTART;TZID=Europe/Ljubljana:20251231T112000
DTEND;TZID=Europe/Ljubljana:20251231T120500
DTSTAMP:20260423T032016Z
UID:fpp-AFLABS-URNIK:premaknjeno-srecanje:14257
ATTENDEE:2. letnik (TPL-U)
CATEGORIES:Entry,Standard
COLOR:darkgreen
DESCRIPTION:Predmet: Verjetnost in statistika (TPL-U) (VS)\, Seminar (S)\n
 Letniki: 2. letnik (TPL-U)\nIzvajalci: Aleksej Turnšek\nProstor: 204
LOCATION:204
ORGANIZER:Aleksej Turnšek
RELATED-TO:fpp-AFLABS-URNIK:srecanje:824
X-WR-TIMEZONE:Europe/Ljubljana
END:VEVENT
BEGIN:VEVENT
SUMMARY:Verjetnost in statistika (TPL-U) (VS)\, Seminar (S)
DTSTART;TZID=Europe/Ljubljana:20260107T112000
DTEND;TZID=Europe/Ljubljana:20260107T120500
DTSTAMP:20260423T032016Z
UID:fpp-AFLABS-URNIK:premaknjeno-srecanje:14258
ATTENDEE:2. letnik (TPL-U)
CATEGORIES:Entry,Standard
COLOR:darkgreen
DESCRIPTION:Predmet: Verjetnost in statistika (TPL-U) (VS)\, Seminar (S)\n
 Letniki: 2. letnik (TPL-U)\nIzvajalci: Aleksej Turnšek\nProstor: 204
LOCATION:204
ORGANIZER:Aleksej Turnšek
RELATED-TO:fpp-AFLABS-URNIK:srecanje:824
X-WR-TIMEZONE:Europe/Ljubljana
END:VEVENT
BEGIN:VEVENT
SUMMARY:Verjetnost in statistika (TPL-U) (VS)\, Seminar (S)
DTSTART;TZID=Europe/Ljubljana:20260114T112000
DTEND;TZID=Europe/Ljubljana:20260114T120500
DTSTAMP:20260423T032016Z
UID:fpp-AFLABS-URNIK:premaknjeno-srecanje:14259
ATTENDEE:2. letnik (TPL-U)
CATEGORIES:Entry,Standard
COLOR:darkgreen
DESCRIPTION:Predmet: Verjetnost in statistika (TPL-U) (VS)\, Seminar (S)\n
 Letniki: 2. letnik (TPL-U)\nIzvajalci: Aleksej Turnšek\nProstor: 204
LOCATION:204
ORGANIZER:Aleksej Turnšek
RELATED-TO:fpp-AFLABS-URNIK:srecanje:824
X-WR-TIMEZONE:Europe/Ljubljana
END:VEVENT
BEGIN:VEVENT
SUMMARY:Izbrana poglavja iz višje matematike (POM2) (IPVM)\, Predavanje (
 P)
DTSTART;TZID=Europe/Ljubljana:20251217T162000
DTEND;TZID=Europe/Ljubljana:20251217T193500
DTSTAMP:20260423T032016Z
UID:fpp-AFLABS-URNIK:premaknjeno-srecanje:17408
ATTENDEE:1. letnik (POM2)
CATEGORIES:Entry,Standard
COLOR:darkgreen
DESCRIPTION:Predmet: Izbrana poglavja iz višje matematike (POM2) (IPVM)\,
  Predavanje (P)\nLetniki: 1. letnik (POM2)\nIzvajalci: Aleksej Turnšek\nP
 rostor: P2
LOCATION:P2
ORGANIZER:Aleksej Turnšek
RELATED-TO:fpp-AFLABS-URNIK:srecanje:578
X-WR-TIMEZONE:Europe/Ljubljana
END:VEVENT
BEGIN:VEVENT
SUMMARY:Izbrana poglavja iz višje matematike (POM2) (IPVM)\, Predavanje (
 P)
DTSTART;TZID=Europe/Ljubljana:20251224T162000
DTEND;TZID=Europe/Ljubljana:20251224T193500
DTSTAMP:20260423T032016Z
UID:fpp-AFLABS-URNIK:premaknjeno-srecanje:17409
ATTENDEE:1. letnik (POM2)
CATEGORIES:Entry,Standard
COLOR:darkgreen
DESCRIPTION:Predmet: Izbrana poglavja iz višje matematike (POM2) (IPVM)\,
  Predavanje (P)\nLetniki: 1. letnik (POM2)\nIzvajalci: Aleksej Turnšek\nP
 rostor: P2
LOCATION:P2
ORGANIZER:Aleksej Turnšek
RELATED-TO:fpp-AFLABS-URNIK:srecanje:578
X-WR-TIMEZONE:Europe/Ljubljana
END:VEVENT
BEGIN:VEVENT
SUMMARY:Izbrana poglavja iz višje matematike (POM2) (IPVM)\, Predavanje (
 P)
DTSTART;TZID=Europe/Ljubljana:20251231T162000
DTEND;TZID=Europe/Ljubljana:20251231T193500
DTSTAMP:20260423T032016Z
UID:fpp-AFLABS-URNIK:premaknjeno-srecanje:17410
ATTENDEE:1. letnik (POM2)
CATEGORIES:Entry,Standard
COLOR:darkgreen
DESCRIPTION:Predmet: Izbrana poglavja iz višje matematike (POM2) (IPVM)\,
  Predavanje (P)\nLetniki: 1. letnik (POM2)\nIzvajalci: Aleksej Turnšek\nP
 rostor: P2
LOCATION:P2
ORGANIZER:Aleksej Turnšek
RELATED-TO:fpp-AFLABS-URNIK:srecanje:578
X-WR-TIMEZONE:Europe/Ljubljana
END:VEVENT
BEGIN:VEVENT
SUMMARY:Izbrana poglavja iz višje matematike (POM2) (IPVM)\, Predavanje (
 P)
DTSTART;TZID=Europe/Ljubljana:20260107T162000
DTEND;TZID=Europe/Ljubljana:20260107T193500
DTSTAMP:20260423T032016Z
UID:fpp-AFLABS-URNIK:premaknjeno-srecanje:17411
ATTENDEE:1. letnik (POM2)
CATEGORIES:Entry,Standard
COLOR:darkgreen
DESCRIPTION:Predmet: Izbrana poglavja iz višje matematike (POM2) (IPVM)\,
  Predavanje (P)\nLetniki: 1. letnik (POM2)\nIzvajalci: Aleksej Turnšek\nP
 rostor: P2
LOCATION:P2
ORGANIZER:Aleksej Turnšek
RELATED-TO:fpp-AFLABS-URNIK:srecanje:578
X-WR-TIMEZONE:Europe/Ljubljana
END:VEVENT
BEGIN:VEVENT
SUMMARY:Izbrana poglavja iz višje matematike (POM2) (IPVM)\, Predavanje (
 P)
DTSTART;TZID=Europe/Ljubljana:20260114T162000
DTEND;TZID=Europe/Ljubljana:20260114T193500
DTSTAMP:20260423T032016Z
UID:fpp-AFLABS-URNIK:premaknjeno-srecanje:17412
ATTENDEE:1. letnik (POM2)
CATEGORIES:Entry,Standard
COLOR:darkgreen
DESCRIPTION:Predmet: Izbrana poglavja iz višje matematike (POM2) (IPVM)\,
  Predavanje (P)\nLetniki: 1. letnik (POM2)\nIzvajalci: Aleksej Turnšek\nP
 rostor: P2
LOCATION:P2
ORGANIZER:Aleksej Turnšek
RELATED-TO:fpp-AFLABS-URNIK:srecanje:578
X-WR-TIMEZONE:Europe/Ljubljana
END:VEVENT
BEGIN:VEVENT
SUMMARY:Matematika II (TPL-U) - izredni (MAT2-i)\, Predavanje (P)
DTSTART;TZID=Europe/Ljubljana:20251219T160000
DTEND;TZID=Europe/Ljubljana:20251219T191500
DTSTAMP:20260423T032016Z
UID:fpp-AFLABS-URNIK:premaknjeno-srecanje:32323
ATTENDEE:1. letnik - izredni (TPL-U)
CATEGORIES:Entry,Standard
COLOR:darkgreen
DESCRIPTION:Predmet: Matematika II (TPL-U) - izredni (MAT2-i)\, Predavanje
  (P)\nLetniki: 1. letnik - izredni (TPL-U)\nIzvajalci: Aleksej Turnšek\nP
 rostor: OnLine
LOCATION:OnLine
ORGANIZER:Aleksej Turnšek
RELATED-TO:fpp-AFLABS-URNIK:srecanje:1285
X-WR-TIMEZONE:Europe/Ljubljana
END:VEVENT
BEGIN:VEVENT
SUMMARY:Matematične metode II (PTTL) - izredni (MM2-i)\, Predavanje (P)
DTSTART;TZID=Europe/Ljubljana:20251219T160000
DTEND;TZID=Europe/Ljubljana:20251219T191500
DTSTAMP:20260423T032016Z
UID:fpp-AFLABS-URNIK:premaknjeno-srecanje:32326
ATTENDEE:2. letnik - izredni (PTTL, SS)
CATEGORIES:Entry,Standard
COLOR:darkgreen
DESCRIPTION:Predmet: Matematične metode II (PTTL) - izredni (MM2-i)\, Pre
 davanje (P)\nLetniki: 2. letnik - izredni (PTTL\, SS)\nIzvajalci: Aleksej 
 Turnšek\nProstor: OnLine
LOCATION:OnLine
ORGANIZER:Aleksej Turnšek
RELATED-TO:fpp-AFLABS-URNIK:srecanje:1286
X-WR-TIMEZONE:Europe/Ljubljana
END:VEVENT
BEGIN:VEVENT
SUMMARY:Tehniška matematika 2 (PS) - izredni (TM2-i)\, Predavanje (P)
DTSTART;TZID=Europe/Ljubljana:20251219T160000
DTEND;TZID=Europe/Ljubljana:20251219T191500
DTSTAMP:20260423T032016Z
UID:fpp-AFLABS-URNIK:premaknjeno-srecanje:32332
ATTENDEE:2. letnik - izredni (PS, SS)
CATEGORIES:Entry,Standard
COLOR:darkgreen
DESCRIPTION:Predmet: Tehniška matematika 2 (PS) - izredni (TM2-i)\, Preda
 vanje (P)\nLetniki: 2. letnik - izredni (PS\, SS)\nIzvajalci: Aleksej Turn
 šek\nProstor: OnLine
LOCATION:OnLine
ORGANIZER:Aleksej Turnšek
RELATED-TO:fpp-AFLABS-URNIK:srecanje:1288
X-WR-TIMEZONE:Europe/Ljubljana
END:VEVENT
BEGIN:VEVENT
SUMMARY:Matematika II (TPL-U) - izredni (MAT2-i)\, Predavanje (P)
DTSTART;TZID=Europe/Ljubljana:20251220T090000
DTEND;TZID=Europe/Ljubljana:20251220T121500
DTSTAMP:20260423T032016Z
UID:fpp-AFLABS-URNIK:premaknjeno-srecanje:32335
ATTENDEE:1. letnik - izredni (TPL-U)
CATEGORIES:Entry,Standard
COLOR:darkgreen
DESCRIPTION:Predmet: Matematika II (TPL-U) - izredni (MAT2-i)\, Predavanje
  (P)\nLetniki: 1. letnik - izredni (TPL-U)\nIzvajalci: Aleksej Turnšek\nP
 rostor: OnLine
LOCATION:OnLine
ORGANIZER:Aleksej Turnšek
RELATED-TO:fpp-AFLABS-URNIK:srecanje:1289
X-WR-TIMEZONE:Europe/Ljubljana
END:VEVENT
BEGIN:VEVENT
SUMMARY:Matematične metode II (PTTL) - izredni (MM2-i)\, Predavanje (P)
DTSTART;TZID=Europe/Ljubljana:20251220T090000
DTEND;TZID=Europe/Ljubljana:20251220T121500
DTSTAMP:20260423T032016Z
UID:fpp-AFLABS-URNIK:premaknjeno-srecanje:32341
ATTENDEE:2. letnik - izredni (PTTL, SS)
CATEGORIES:Entry,Standard
COLOR:darkgreen
DESCRIPTION:Predmet: Matematične metode II (PTTL) - izredni (MM2-i)\, Pre
 davanje (P)\nLetniki: 2. letnik - izredni (PTTL\, SS)\nIzvajalci: Aleksej 
 Turnšek\nProstor: OnLine
LOCATION:OnLine
ORGANIZER:Aleksej Turnšek
RELATED-TO:fpp-AFLABS-URNIK:srecanje:1291
X-WR-TIMEZONE:Europe/Ljubljana
END:VEVENT
BEGIN:VEVENT
SUMMARY:Tehniška matematika 2 (PS) - izredni (TM2-i)\, Predavanje (P)
DTSTART;TZID=Europe/Ljubljana:20251220T090000
DTEND;TZID=Europe/Ljubljana:20251220T121500
DTSTAMP:20260423T032016Z
UID:fpp-AFLABS-URNIK:premaknjeno-srecanje:32344
ATTENDEE:2. letnik - izredni (PS, SS)
CATEGORIES:Entry,Standard
COLOR:darkgreen
DESCRIPTION:Predmet: Tehniška matematika 2 (PS) - izredni (TM2-i)\, Preda
 vanje (P)\nLetniki: 2. letnik - izredni (PS\, SS)\nIzvajalci: Aleksej Turn
 šek\nProstor: OnLine
LOCATION:OnLine
ORGANIZER:Aleksej Turnšek
RELATED-TO:fpp-AFLABS-URNIK:srecanje:1292
X-WR-TIMEZONE:Europe/Ljubljana
END:VEVENT
BEGIN:VEVENT
SUMMARY:Verjetnost in statistika (PTTL) - izredni (VS-i)\, Predavanje (P)
DTSTART;TZID=Europe/Ljubljana:20260213T160000
DTEND;TZID=Europe/Ljubljana:20260213T191500
DTSTAMP:20260423T032016Z
UID:fpp-AFLABS-URNIK:premaknjeno-srecanje:32381
ATTENDEE:2. letnik - izredni (PTTL, SS)
CATEGORIES:Entry,Standard
COLOR:darkgreen
DESCRIPTION:Predmet: Verjetnost in statistika (PTTL) - izredni (VS-i)\, Pr
 edavanje (P)\nLetniki: 2. letnik - izredni (PTTL\, SS)\nIzvajalci: Aleksej
  Turnšek\nProstor: OnLine
LOCATION:OnLine
ORGANIZER:Aleksej Turnšek
RELATED-TO:fpp-AFLABS-URNIK:srecanje:1307
X-WR-TIMEZONE:Europe/Ljubljana
END:VEVENT
BEGIN:VEVENT
SUMMARY:Verjetnost in statistika (PTTL) - izredni (VS-i)\, Predavanje (P)
DTSTART;TZID=Europe/Ljubljana:20260220T160000
DTEND;TZID=Europe/Ljubljana:20260220T191500
DTSTAMP:20260423T032016Z
UID:fpp-AFLABS-URNIK:premaknjeno-srecanje:32382
ATTENDEE:2. letnik - izredni (PTTL, SS)
CATEGORIES:Entry,Standard
COLOR:darkgreen
DESCRIPTION:Predmet: Verjetnost in statistika (PTTL) - izredni (VS-i)\, Pr
 edavanje (P)\nLetniki: 2. letnik - izredni (PTTL\, SS)\nIzvajalci: Aleksej
  Turnšek\nProstor: OnLine
LOCATION:OnLine
ORGANIZER:Aleksej Turnšek
RELATED-TO:fpp-AFLABS-URNIK:srecanje:1307
X-WR-TIMEZONE:Europe/Ljubljana
END:VEVENT
BEGIN:VEVENT
SUMMARY:Verjetnost in statistika (TPL-U) - izredni (VS-i)\, Predavanje (P)
DTSTART;TZID=Europe/Ljubljana:20260213T160000
DTEND;TZID=Europe/Ljubljana:20260213T191500
DTSTAMP:20260423T032016Z
UID:fpp-AFLABS-URNIK:premaknjeno-srecanje:32384
ATTENDEE:2. letnik - izredni (TPL-U)
CATEGORIES:Entry,Standard
COLOR:darkgreen
DESCRIPTION:Predmet: Verjetnost in statistika (TPL-U) - izredni (VS-i)\, P
 redavanje (P)\nLetniki: 2. letnik - izredni (TPL-U)\nIzvajalci: Aleksej Tu
 rnšek\nProstor: OnLine
LOCATION:OnLine
ORGANIZER:Aleksej Turnšek
RELATED-TO:fpp-AFLABS-URNIK:srecanje:1308
X-WR-TIMEZONE:Europe/Ljubljana
END:VEVENT
BEGIN:VEVENT
SUMMARY:Verjetnost in statistika (TPL-U) - izredni (VS-i)\, Predavanje (P)
DTSTART;TZID=Europe/Ljubljana:20260220T160000
DTEND;TZID=Europe/Ljubljana:20260220T191500
DTSTAMP:20260423T032016Z
UID:fpp-AFLABS-URNIK:premaknjeno-srecanje:32385
ATTENDEE:2. letnik - izredni (TPL-U)
CATEGORIES:Entry,Standard
COLOR:darkgreen
DESCRIPTION:Predmet: Verjetnost in statistika (TPL-U) - izredni (VS-i)\, P
 redavanje (P)\nLetniki: 2. letnik - izredni (TPL-U)\nIzvajalci: Aleksej Tu
 rnšek\nProstor: OnLine
LOCATION:OnLine
ORGANIZER:Aleksej Turnšek
RELATED-TO:fpp-AFLABS-URNIK:srecanje:1308
X-WR-TIMEZONE:Europe/Ljubljana
END:VEVENT
BEGIN:VEVENT
SUMMARY:Verjetnost in statistika (PTTL) - izredni (VS-i)\, Predavanje (P)
DTSTART;TZID=Europe/Ljubljana:20260214T090000
DTEND;TZID=Europe/Ljubljana:20260214T121500
DTSTAMP:20260423T032016Z
UID:fpp-AFLABS-URNIK:premaknjeno-srecanje:32387
ATTENDEE:2. letnik - izredni (PTTL, SS)
CATEGORIES:Entry,Standard
COLOR:darkgreen
DESCRIPTION:Predmet: Verjetnost in statistika (PTTL) - izredni (VS-i)\, Pr
 edavanje (P)\nLetniki: 2. letnik - izredni (PTTL\, SS)\nIzvajalci: Aleksej
  Turnšek\nProstor: OnLine
LOCATION:OnLine
ORGANIZER:Aleksej Turnšek
RELATED-TO:fpp-AFLABS-URNIK:srecanje:1309
X-WR-TIMEZONE:Europe/Ljubljana
END:VEVENT
BEGIN:VEVENT
SUMMARY:Verjetnost in statistika (PTTL) - izredni (VS-i)\, Predavanje (P)
DTSTART;TZID=Europe/Ljubljana:20260221T090000
DTEND;TZID=Europe/Ljubljana:20260221T121500
DTSTAMP:20260423T032016Z
UID:fpp-AFLABS-URNIK:premaknjeno-srecanje:32388
ATTENDEE:2. letnik - izredni (PTTL, SS)
CATEGORIES:Entry,Standard
COLOR:darkgreen
DESCRIPTION:Predmet: Verjetnost in statistika (PTTL) - izredni (VS-i)\, Pr
 edavanje (P)\nLetniki: 2. letnik - izredni (PTTL\, SS)\nIzvajalci: Aleksej
  Turnšek\nProstor: OnLine
LOCATION:OnLine
ORGANIZER:Aleksej Turnšek
RELATED-TO:fpp-AFLABS-URNIK:srecanje:1309
X-WR-TIMEZONE:Europe/Ljubljana
END:VEVENT
BEGIN:VEVENT
SUMMARY:Verjetnost in statistika (TPL-U) - izredni (VS-i)\, Predavanje (P)
DTSTART;TZID=Europe/Ljubljana:20260214T090000
DTEND;TZID=Europe/Ljubljana:20260214T121500
DTSTAMP:20260423T032016Z
UID:fpp-AFLABS-URNIK:premaknjeno-srecanje:32389
ATTENDEE:2. letnik - izredni (TPL-U)
CATEGORIES:Entry,Standard
COLOR:darkgreen
DESCRIPTION:Predmet: Verjetnost in statistika (TPL-U) - izredni (VS-i)\, P
 redavanje (P)\nLetniki: 2. letnik - izredni (TPL-U)\nIzvajalci: Aleksej Tu
 rnšek\nProstor: OnLine
LOCATION:OnLine
ORGANIZER:Aleksej Turnšek
RELATED-TO:fpp-AFLABS-URNIK:srecanje:1310
X-WR-TIMEZONE:Europe/Ljubljana
END:VEVENT
BEGIN:VEVENT
SUMMARY:Verjetnost in statistika (TPL-U) - izredni (VS-i)\, Predavanje (P)
DTSTART;TZID=Europe/Ljubljana:20260221T090000
DTEND;TZID=Europe/Ljubljana:20260221T121500
DTSTAMP:20260423T032016Z
UID:fpp-AFLABS-URNIK:premaknjeno-srecanje:32390
ATTENDEE:2. letnik - izredni (TPL-U)
CATEGORIES:Entry,Standard
COLOR:darkgreen
DESCRIPTION:Predmet: Verjetnost in statistika (TPL-U) - izredni (VS-i)\, P
 redavanje (P)\nLetniki: 2. letnik - izredni (TPL-U)\nIzvajalci: Aleksej Tu
 rnšek\nProstor: OnLine
LOCATION:OnLine
ORGANIZER:Aleksej Turnšek
RELATED-TO:fpp-AFLABS-URNIK:srecanje:1310
X-WR-TIMEZONE:Europe/Ljubljana
END:VEVENT
BEGIN:VEVENT
SUMMARY:Matematika II (TPL-U) (MAT2)\, Predavanje (P)
DTSTART;TZID=Europe/Ljubljana:20260216T085000
DTEND;TZID=Europe/Ljubljana:20260216T111500
DTSTAMP:20260423T032016Z
UID:fpp-AFLABS-URNIK:premaknjeno-srecanje:31418
ATTENDEE:1. letnik (TPL-U)
CATEGORIES:Entry,Standard
COLOR:darkgreen
DESCRIPTION:Predmet: Matematika II (TPL-U) (MAT2)\, Predavanje (P)\nLetnik
 i: 1. letnik (TPL-U)\nIzvajalci: Aleksej Turnšek\nProstor: 202
LOCATION:202
ORGANIZER:Aleksej Turnšek
RELATED-TO:fpp-AFLABS-URNIK:srecanje:949
X-WR-TIMEZONE:Europe/Ljubljana
END:VEVENT
BEGIN:VEVENT
SUMMARY:Matematika II (TPL-U) (MAT2)\, Predavanje (P)
DTSTART;TZID=Europe/Ljubljana:20260223T085000
DTEND;TZID=Europe/Ljubljana:20260223T111500
DTSTAMP:20260423T032016Z
UID:fpp-AFLABS-URNIK:premaknjeno-srecanje:31419
ATTENDEE:1. letnik (TPL-U)
CATEGORIES:Entry,Standard
COLOR:darkgreen
DESCRIPTION:Predmet: Matematika II (TPL-U) (MAT2)\, Predavanje (P)\nLetnik
 i: 1. letnik (TPL-U)\nIzvajalci: Aleksej Turnšek\nProstor: 202
LOCATION:202
ORGANIZER:Aleksej Turnšek
RELATED-TO:fpp-AFLABS-URNIK:srecanje:949
X-WR-TIMEZONE:Europe/Ljubljana
END:VEVENT
BEGIN:VEVENT
SUMMARY:Verjetnost in statistika (PTTL) (VS)\, Seminar (S)
DTSTART;TZID=Europe/Ljubljana:20260218T080000
DTEND;TZID=Europe/Ljubljana:20260218T084500
DTSTAMP:20260423T032016Z
UID:fpp-AFLABS-URNIK:premaknjeno-srecanje:28291
ATTENDEE:2. letnik (PTTL, SS)
ATTENDEE:2. letnik (PTTL, VS)
CATEGORIES:Entry,Standard
COLOR:darkgreen
DESCRIPTION:Predmet: Verjetnost in statistika (PTTL) (VS)\, Seminar (S)\nL
 etniki: 2. letnik (PTTL\, SS)\, 2. letnik (PTTL\, VS)\nIzvajalci: Aleksej 
 Turnšek\nProstor: 205
LOCATION:205
ORGANIZER:Aleksej Turnšek
RELATED-TO:fpp-AFLABS-URNIK:srecanje:1091
X-WR-TIMEZONE:Europe/Ljubljana
END:VEVENT
BEGIN:VEVENT
SUMMARY:Verjetnost in statistika (PTTL) (VS)\, Predavanje (P)
DTSTART;TZID=Europe/Ljubljana:20260218T085000
DTEND;TZID=Europe/Ljubljana:20260218T102500
DTSTAMP:20260423T032016Z
UID:fpp-AFLABS-URNIK:premaknjeno-srecanje:28307
ATTENDEE:2. letnik (PTTL, SS)
ATTENDEE:2. letnik (PTTL, VS)
CATEGORIES:Entry,Standard
COLOR:darkgreen
DESCRIPTION:Predmet: Verjetnost in statistika (PTTL) (VS)\, Predavanje (P)
 \nLetniki: 2. letnik (PTTL\, SS)\, 2. letnik (PTTL\, VS)\nIzvajalci: Aleks
 ej Turnšek\nProstor: 205
LOCATION:205
ORGANIZER:Aleksej Turnšek
RELATED-TO:fpp-AFLABS-URNIK:srecanje:1090
X-WR-TIMEZONE:Europe/Ljubljana
END:VEVENT
BEGIN:VEVENT
SUMMARY:Izredni izpitni rok
DTSTART;TZID=Europe/Ljubljana:20260112T170000
DTEND;TZID=Europe/Ljubljana:20260112T184500
DTSTAMP:20260423T032016Z
UID:fpp-AFLABS-URNIK:rezervacija:99
CATEGORIES:Reservation
COLOR:royalblue
DESCRIPTION:Predmeti: \nLetniki: \nIzvajalci: Aleksej Turnšek\nProstori: 
 205
LOCATION:205
ORGANIZER:Aleksej Turnšek
X-WR-TIMEZONE:Europe/Ljubljana
END:VEVENT
END:VCALENDAR
