BEGIN:VCALENDAR
VERSION:2.0
PRODID:-//AFLabs urnik izvoz - fpp//aflabs.si//SI
DTSTAMP:20260424T000813Z
NAME:UL FPP Urnik
REFRESH-INTERVAL:PT1H
SOURCE:https://afurnik-fpp.dev.aflabs.org/en/teacher/56?day=2025-08-27&exp
 ort=1
URL:https://afurnik-fpp.dev.aflabs.org/en/teacher/56?day=2025-08-27&export
 =1
X-PUBLISHED-TTL:PT1H
X-WR-CALNAME:UL FPP Urnik
X-WR-TIMEZONE:Europe/Ljubljana
BEGIN:VTIMEZONE
TZID:Europe/Ljubljana
BEGIN:DAYLIGHT
DTSTART:20260329T020000
RDATE:20260329T020000
RDATE:20270328T020000
TZNAME:CEST
TZOFFSETFROM:+0100
TZOFFSETTO:+0200
END:DAYLIGHT
BEGIN:STANDARD
DTSTART:20261025T030000
RDATE:20261025T030000
RDATE:20271031T030000
TZNAME:CET
TZOFFSETFROM:+0200
TZOFFSETTO:+0100
END:STANDARD
END:VTIMEZONE
BEGIN:VEVENT
SUMMARY:Načrtovanje sistemov transporta (TPL-U) (NST)\, Seminar (S)
DTSTART;TZID=Europe/Ljubljana:20251001T085000
DTEND;TZID=Europe/Ljubljana:20251001T093500
DTSTAMP:20260424T000813Z
UID:fpp-AFLABS-URNIK:premaknjeno-srecanje:14501
ATTENDEE:3. letnik (TPL-U)
CATEGORIES:Entry,Standard
COLOR:darkgreen
DESCRIPTION:Predmet: Načrtovanje sistemov transporta (TPL-U) (NST)\, Semi
 nar (S)\nLetniki: 3. letnik (TPL-U)\nIzvajalci: Elen Twrdy\nProstor: 206
LOCATION:206
ORGANIZER:Elen Twrdy
RELATED-TO:fpp-AFLABS-URNIK:srecanje:629
X-WR-TIMEZONE:Europe/Ljubljana
END:VEVENT
BEGIN:VEVENT
SUMMARY:Načrtovanje sistemov transporta (TPL-U) (NST)\, Predavanje (P)
DTSTART;TZID=Europe/Ljubljana:20251001T103000
DTEND;TZID=Europe/Ljubljana:20251001T120500
DTSTAMP:20260424T000813Z
UID:fpp-AFLABS-URNIK:premaknjeno-srecanje:14549
ATTENDEE:3. letnik (TPL-U)
CATEGORIES:Entry,Standard
COLOR:darkgreen
DESCRIPTION:Predmet: Načrtovanje sistemov transporta (TPL-U) (NST)\, Pred
 avanje (P)\nLetniki: 3. letnik (TPL-U)\nIzvajalci: Elen Twrdy\nProstor: 20
 6
LOCATION:206
ORGANIZER:Elen Twrdy
RELATED-TO:fpp-AFLABS-URNIK:srecanje:628
X-WR-TIMEZONE:Europe/Ljubljana
END:VEVENT
END:VCALENDAR
