BEGIN:VCALENDAR
VERSION:2.0
PRODID:-//AFLabs urnik izvoz - fpp//aflabs.si//SI
DTSTAMP:20260422T102411Z
NAME:UL FPP Urnik
REFRESH-INTERVAL:PT1H
SOURCE:https://afurnik-fpp.dev.aflabs.org/en/teacher/6?day=2025-06-23&expo
 rt=1
URL:https://afurnik-fpp.dev.aflabs.org/en/teacher/6?day=2025-06-23&export=
 1
X-PUBLISHED-TTL:PT1H
X-WR-CALNAME:UL FPP Urnik
X-WR-TIMEZONE:Europe/Ljubljana
BEGIN:VTIMEZONE
TZID:Europe/Ljubljana
BEGIN:DAYLIGHT
DTSTART:20260329T020000
RDATE:20260329T020000
RDATE:20270328T020000
TZNAME:CEST
TZOFFSETFROM:+0100
TZOFFSETTO:+0200
END:DAYLIGHT
BEGIN:STANDARD
DTSTART:20261025T030000
RDATE:20261025T030000
RDATE:20271031T030000
TZNAME:CET
TZOFFSETFROM:+0200
TZOFFSETTO:+0100
END:STANDARD
END:VTIMEZONE
BEGIN:VEVENT
SUMMARY:Mehanika v prometu (TPL-U) (MP)\, Avditorne vaje (AV)
DTSTART;TZID=Europe/Ljubljana:20250519T112000
DTEND;TZID=Europe/Ljubljana:20250519T134500
DTSTAMP:20260422T102411Z
UID:fpp-AFLABS-URNIK:premaknjeno-srecanje:6125
ATTENDEE:1. letnik (TPL-U)
CATEGORIES:Entry,Standard
COLOR:darkgreen
DESCRIPTION:Predmet: Mehanika v prometu (TPL-U) (MP)\, Avditorne vaje (AV)
 \nLetniki: 1. letnik (TPL-U)\nIzvajalci: Matej Bažec\nProstor: 202
LOCATION:202
ORGANIZER:Matej Bažec
RELATED-TO:fpp-AFLABS-URNIK:srecanje:407
X-WR-TIMEZONE:Europe/Ljubljana
END:VEVENT
BEGIN:VEVENT
SUMMARY:Mehanika v prometu (TPL-U) (MP)\, Avditorne vaje (AV)
DTSTART;TZID=Europe/Ljubljana:20250526T112000
DTEND;TZID=Europe/Ljubljana:20250526T134500
DTSTAMP:20260422T102411Z
UID:fpp-AFLABS-URNIK:premaknjeno-srecanje:6126
ATTENDEE:1. letnik (TPL-U)
CATEGORIES:Entry,Standard
COLOR:darkgreen
DESCRIPTION:Predmet: Mehanika v prometu (TPL-U) (MP)\, Avditorne vaje (AV)
 \nLetniki: 1. letnik (TPL-U)\nIzvajalci: Matej Bažec\nProstor: 202
LOCATION:202
ORGANIZER:Matej Bažec
RELATED-TO:fpp-AFLABS-URNIK:srecanje:407
X-WR-TIMEZONE:Europe/Ljubljana
END:VEVENT
BEGIN:VEVENT
SUMMARY:Mehanika v prometu (TPL-U) (MP)\, Avditorne vaje (AV)
DTSTART;TZID=Europe/Ljubljana:20250602T112000
DTEND;TZID=Europe/Ljubljana:20250602T134500
DTSTAMP:20260422T102411Z
UID:fpp-AFLABS-URNIK:premaknjeno-srecanje:6127
ATTENDEE:1. letnik (TPL-U)
CATEGORIES:Entry,Standard
COLOR:darkgreen
DESCRIPTION:Predmet: Mehanika v prometu (TPL-U) (MP)\, Avditorne vaje (AV)
 \nLetniki: 1. letnik (TPL-U)\nIzvajalci: Matej Bažec\nProstor: 202
LOCATION:202
ORGANIZER:Matej Bažec
RELATED-TO:fpp-AFLABS-URNIK:srecanje:407
X-WR-TIMEZONE:Europe/Ljubljana
END:VEVENT
BEGIN:VEVENT
SUMMARY:Tehniška mehanika 2 (PS) (TM2)\, Avditorne vaje (AV)
DTSTART;TZID=Europe/Ljubljana:20250519T085000
DTEND;TZID=Europe/Ljubljana:20250519T102500
DTSTAMP:20260422T102411Z
UID:fpp-AFLABS-URNIK:premaknjeno-srecanje:7355
ATTENDEE:2. letnik (PS, SS)
ATTENDEE:2. letnik (PS, VS)
CATEGORIES:Entry,Standard
COLOR:darkgreen
DESCRIPTION:Predmet: Tehniška mehanika 2 (PS) (TM2)\, Avditorne vaje (AV)
 \nLetniki: 2. letnik (PS\, SS)\, 2. letnik (PS\, VS)\nIzvajalci: Matej Ba
 žec\nProstor: PO2
LOCATION:PO2
ORGANIZER:Matej Bažec
RELATED-TO:fpp-AFLABS-URNIK:srecanje:306
X-WR-TIMEZONE:Europe/Ljubljana
END:VEVENT
BEGIN:VEVENT
SUMMARY:Tehniška mehanika 2 (PS) (TM2)\, Avditorne vaje (AV)
DTSTART;TZID=Europe/Ljubljana:20250526T085000
DTEND;TZID=Europe/Ljubljana:20250526T102500
DTSTAMP:20260422T102411Z
UID:fpp-AFLABS-URNIK:premaknjeno-srecanje:7356
ATTENDEE:2. letnik (PS, SS)
ATTENDEE:2. letnik (PS, VS)
CATEGORIES:Entry,Standard
COLOR:darkgreen
DESCRIPTION:Predmet: Tehniška mehanika 2 (PS) (TM2)\, Avditorne vaje (AV)
 \nLetniki: 2. letnik (PS\, SS)\, 2. letnik (PS\, VS)\nIzvajalci: Matej Ba
 žec\nProstor: PO2
LOCATION:PO2
ORGANIZER:Matej Bažec
RELATED-TO:fpp-AFLABS-URNIK:srecanje:306
X-WR-TIMEZONE:Europe/Ljubljana
END:VEVENT
BEGIN:VEVENT
SUMMARY:Tehniška mehanika 2 (PS) (TM2)\, Avditorne vaje (AV)
DTSTART;TZID=Europe/Ljubljana:20250602T085000
DTEND;TZID=Europe/Ljubljana:20250602T102500
DTSTAMP:20260422T102411Z
UID:fpp-AFLABS-URNIK:premaknjeno-srecanje:7357
ATTENDEE:2. letnik (PS, SS)
ATTENDEE:2. letnik (PS, VS)
CATEGORIES:Entry,Standard
COLOR:darkgreen
DESCRIPTION:Predmet: Tehniška mehanika 2 (PS) (TM2)\, Avditorne vaje (AV)
 \nLetniki: 2. letnik (PS\, SS)\, 2. letnik (PS\, VS)\nIzvajalci: Matej Ba
 žec\nProstor: PO2
LOCATION:PO2
ORGANIZER:Matej Bažec
RELATED-TO:fpp-AFLABS-URNIK:srecanje:306
X-WR-TIMEZONE:Europe/Ljubljana
END:VEVENT
BEGIN:VEVENT
SUMMARY:Tehniške meritve (PS) (TeM)\, Laboratorijske vaje (LV)
DTSTART;TZID=Europe/Ljubljana:20250520T112000
DTEND;TZID=Europe/Ljubljana:20250520T125500
DTSTAMP:20260422T102411Z
UID:fpp-AFLABS-URNIK:premaknjeno-srecanje:7385
ATTENDEE:3. letnik (PS, SS)
CATEGORIES:Entry,Standard
COLOR:darkgreen
DESCRIPTION:Predmet: Tehniške meritve (PS) (TeM)\, Laboratorijske vaje (L
 V)\nLetniki: 3. letnik (PS\, SS)\nIzvajalci: Matej Bažec\nProstor: LPI
LOCATION:LPI
ORGANIZER:Matej Bažec
RELATED-TO:fpp-AFLABS-URNIK:srecanje:420
X-WR-TIMEZONE:Europe/Ljubljana
END:VEVENT
BEGIN:VEVENT
SUMMARY:Tehniške meritve (PS) (TeM)\, Laboratorijske vaje (LV)
DTSTART;TZID=Europe/Ljubljana:20250527T112000
DTEND;TZID=Europe/Ljubljana:20250527T125500
DTSTAMP:20260422T102411Z
UID:fpp-AFLABS-URNIK:premaknjeno-srecanje:7386
ATTENDEE:3. letnik (PS, SS)
CATEGORIES:Entry,Standard
COLOR:darkgreen
DESCRIPTION:Predmet: Tehniške meritve (PS) (TeM)\, Laboratorijske vaje (L
 V)\nLetniki: 3. letnik (PS\, SS)\nIzvajalci: Matej Bažec\nProstor: LPI
LOCATION:LPI
ORGANIZER:Matej Bažec
RELATED-TO:fpp-AFLABS-URNIK:srecanje:420
X-WR-TIMEZONE:Europe/Ljubljana
END:VEVENT
BEGIN:VEVENT
SUMMARY:Tehniške meritve (PS) (TeM)\, Laboratorijske vaje (LV)
DTSTART;TZID=Europe/Ljubljana:20250603T112000
DTEND;TZID=Europe/Ljubljana:20250603T125500
DTSTAMP:20260422T102411Z
UID:fpp-AFLABS-URNIK:premaknjeno-srecanje:7387
ATTENDEE:3. letnik (PS, SS)
CATEGORIES:Entry,Standard
COLOR:darkgreen
DESCRIPTION:Predmet: Tehniške meritve (PS) (TeM)\, Laboratorijske vaje (L
 V)\nLetniki: 3. letnik (PS\, SS)\nIzvajalci: Matej Bažec\nProstor: LPI
LOCATION:LPI
ORGANIZER:Matej Bažec
RELATED-TO:fpp-AFLABS-URNIK:srecanje:420
X-WR-TIMEZONE:Europe/Ljubljana
END:VEVENT
BEGIN:VEVENT
SUMMARY:Tehniške meritve (PS) (TeM)\, Seminar (S)
DTSTART;TZID=Europe/Ljubljana:20250520T103000
DTEND;TZID=Europe/Ljubljana:20250520T111500
DTSTAMP:20260422T102411Z
UID:fpp-AFLABS-URNIK:premaknjeno-srecanje:7415
ATTENDEE:3. letnik (PS, SS)
CATEGORIES:Entry,Standard
COLOR:darkgreen
DESCRIPTION:Predmet: Tehniške meritve (PS) (TeM)\, Seminar (S)\nLetniki: 
 3. letnik (PS\, SS)\nIzvajalci: Matej Bažec\nProstor: LPI
LOCATION:LPI
ORGANIZER:Matej Bažec
RELATED-TO:fpp-AFLABS-URNIK:srecanje:418
X-WR-TIMEZONE:Europe/Ljubljana
END:VEVENT
BEGIN:VEVENT
SUMMARY:Tehniške meritve (PS) (TeM)\, Seminar (S)
DTSTART;TZID=Europe/Ljubljana:20250527T103000
DTEND;TZID=Europe/Ljubljana:20250527T111500
DTSTAMP:20260422T102411Z
UID:fpp-AFLABS-URNIK:premaknjeno-srecanje:7416
ATTENDEE:3. letnik (PS, SS)
CATEGORIES:Entry,Standard
COLOR:darkgreen
DESCRIPTION:Predmet: Tehniške meritve (PS) (TeM)\, Seminar (S)\nLetniki: 
 3. letnik (PS\, SS)\nIzvajalci: Matej Bažec\nProstor: LPI
LOCATION:LPI
ORGANIZER:Matej Bažec
RELATED-TO:fpp-AFLABS-URNIK:srecanje:418
X-WR-TIMEZONE:Europe/Ljubljana
END:VEVENT
BEGIN:VEVENT
SUMMARY:Tehniške meritve (PS) (TeM)\, Seminar (S)
DTSTART;TZID=Europe/Ljubljana:20250603T103000
DTEND;TZID=Europe/Ljubljana:20250603T111500
DTSTAMP:20260422T102411Z
UID:fpp-AFLABS-URNIK:premaknjeno-srecanje:7417
ATTENDEE:3. letnik (PS, SS)
CATEGORIES:Entry,Standard
COLOR:darkgreen
DESCRIPTION:Predmet: Tehniške meritve (PS) (TeM)\, Seminar (S)\nLetniki: 
 3. letnik (PS\, SS)\nIzvajalci: Matej Bažec\nProstor: LPI
LOCATION:LPI
ORGANIZER:Matej Bažec
RELATED-TO:fpp-AFLABS-URNIK:srecanje:418
X-WR-TIMEZONE:Europe/Ljubljana
END:VEVENT
BEGIN:VEVENT
SUMMARY:Tehniška fizika (N) (TF)\, Avditorne vaje (AV)
DTSTART;TZID=Europe/Ljubljana:20250521T112000
DTEND;TZID=Europe/Ljubljana:20250521T125500
DTSTAMP:20260422T102411Z
UID:fpp-AFLABS-URNIK:premaknjeno-srecanje:7295
ATTENDEE:1. letnik (N, SS)
ATTENDEE:1. letnik (N, VS)
CATEGORIES:Entry,Standard
COLOR:darkgreen
DESCRIPTION:Predmet: Tehniška fizika (N) (TF)\, Avditorne vaje (AV)\nLetn
 iki: 1. letnik (N\, SS)\, 1. letnik (N\, VS)\nIzvajalci: Matej Bažec\nPro
 stor: NEPTUN (NE1+NE2)
LOCATION:NEPTUN (NE1+NE2)
ORGANIZER:Matej Bažec
RELATED-TO:fpp-AFLABS-URNIK:srecanje:511
X-WR-TIMEZONE:Europe/Ljubljana
END:VEVENT
BEGIN:VEVENT
SUMMARY:Tehniška fizika (N) (TF)\, Avditorne vaje (AV)
DTSTART;TZID=Europe/Ljubljana:20250528T112000
DTEND;TZID=Europe/Ljubljana:20250528T125500
DTSTAMP:20260422T102411Z
UID:fpp-AFLABS-URNIK:premaknjeno-srecanje:7296
ATTENDEE:1. letnik (N, SS)
ATTENDEE:1. letnik (N, VS)
CATEGORIES:Entry,Standard
COLOR:darkgreen
DESCRIPTION:Predmet: Tehniška fizika (N) (TF)\, Avditorne vaje (AV)\nLetn
 iki: 1. letnik (N\, SS)\, 1. letnik (N\, VS)\nIzvajalci: Matej Bažec\nPro
 stor: NEPTUN (NE1+NE2)
LOCATION:NEPTUN (NE1+NE2)
ORGANIZER:Matej Bažec
RELATED-TO:fpp-AFLABS-URNIK:srecanje:511
X-WR-TIMEZONE:Europe/Ljubljana
END:VEVENT
BEGIN:VEVENT
SUMMARY:Tehniška fizika (N) (TF)\, Avditorne vaje (AV)
DTSTART;TZID=Europe/Ljubljana:20250604T112000
DTEND;TZID=Europe/Ljubljana:20250604T125500
DTSTAMP:20260422T102411Z
UID:fpp-AFLABS-URNIK:premaknjeno-srecanje:7297
ATTENDEE:1. letnik (N, SS)
ATTENDEE:1. letnik (N, VS)
CATEGORIES:Entry,Standard
COLOR:darkgreen
DESCRIPTION:Predmet: Tehniška fizika (N) (TF)\, Avditorne vaje (AV)\nLetn
 iki: 1. letnik (N\, SS)\, 1. letnik (N\, VS)\nIzvajalci: Matej Bažec\nPro
 stor: NEPTUN (NE1+NE2)
LOCATION:NEPTUN (NE1+NE2)
ORGANIZER:Matej Bažec
RELATED-TO:fpp-AFLABS-URNIK:srecanje:511
X-WR-TIMEZONE:Europe/Ljubljana
END:VEVENT
BEGIN:VEVENT
SUMMARY:Tehniška fizika (PS) (TF)\, Avditorne vaje (AV)
DTSTART;TZID=Europe/Ljubljana:20250521T112000
DTEND;TZID=Europe/Ljubljana:20250521T125500
DTSTAMP:20260422T102411Z
UID:fpp-AFLABS-URNIK:premaknjeno-srecanje:7325
ATTENDEE:1. letnik (PS, SS)
ATTENDEE:1. letnik (PS, VS)
CATEGORIES:Entry,Standard
COLOR:darkgreen
DESCRIPTION:Predmet: Tehniška fizika (PS) (TF)\, Avditorne vaje (AV)\nLet
 niki: 1. letnik (PS\, SS)\, 1. letnik (PS\, VS)\nIzvajalci: Matej Bažec\n
 Prostor: NEPTUN (NE1+NE2)
LOCATION:NEPTUN (NE1+NE2)
ORGANIZER:Matej Bažec
RELATED-TO:fpp-AFLABS-URNIK:srecanje:331
X-WR-TIMEZONE:Europe/Ljubljana
END:VEVENT
BEGIN:VEVENT
SUMMARY:Tehniška fizika (PS) (TF)\, Avditorne vaje (AV)
DTSTART;TZID=Europe/Ljubljana:20250528T112000
DTEND;TZID=Europe/Ljubljana:20250528T125500
DTSTAMP:20260422T102411Z
UID:fpp-AFLABS-URNIK:premaknjeno-srecanje:7326
ATTENDEE:1. letnik (PS, SS)
ATTENDEE:1. letnik (PS, VS)
CATEGORIES:Entry,Standard
COLOR:darkgreen
DESCRIPTION:Predmet: Tehniška fizika (PS) (TF)\, Avditorne vaje (AV)\nLet
 niki: 1. letnik (PS\, SS)\, 1. letnik (PS\, VS)\nIzvajalci: Matej Bažec\n
 Prostor: NEPTUN (NE1+NE2)
LOCATION:NEPTUN (NE1+NE2)
ORGANIZER:Matej Bažec
RELATED-TO:fpp-AFLABS-URNIK:srecanje:331
X-WR-TIMEZONE:Europe/Ljubljana
END:VEVENT
BEGIN:VEVENT
SUMMARY:Tehniška fizika (PS) (TF)\, Avditorne vaje (AV)
DTSTART;TZID=Europe/Ljubljana:20250604T112000
DTEND;TZID=Europe/Ljubljana:20250604T125500
DTSTAMP:20260422T102411Z
UID:fpp-AFLABS-URNIK:premaknjeno-srecanje:7327
ATTENDEE:1. letnik (PS, SS)
ATTENDEE:1. letnik (PS, VS)
CATEGORIES:Entry,Standard
COLOR:darkgreen
DESCRIPTION:Predmet: Tehniška fizika (PS) (TF)\, Avditorne vaje (AV)\nLet
 niki: 1. letnik (PS\, SS)\, 1. letnik (PS\, VS)\nIzvajalci: Matej Bažec\n
 Prostor: NEPTUN (NE1+NE2)
LOCATION:NEPTUN (NE1+NE2)
ORGANIZER:Matej Bažec
RELATED-TO:fpp-AFLABS-URNIK:srecanje:331
X-WR-TIMEZONE:Europe/Ljubljana
END:VEVENT
BEGIN:VEVENT
SUMMARY:Tehnična mehanika (PTTL) (TM)\, Avditorne vaje (AV)
DTSTART;TZID=Europe/Ljubljana:20250522T112000
DTEND;TZID=Europe/Ljubljana:20250522T134500
DTSTAMP:20260422T102411Z
UID:fpp-AFLABS-URNIK:premaknjeno-srecanje:7250
ATTENDEE:1. letnik (PTTL, SS)
ATTENDEE:1. letnik (PTTL, VS)
CATEGORIES:Entry,Standard
COLOR:darkgreen
DESCRIPTION:Predmet: Tehnična mehanika (PTTL) (TM)\, Avditorne vaje (AV)\
 nLetniki: 1. letnik (PTTL\, SS)\, 1. letnik (PTTL\, VS)\nIzvajalci: Matej 
 Bažec\nProstor: amfiteater
LOCATION:amfiteater
ORGANIZER:Matej Bažec
RELATED-TO:fpp-AFLABS-URNIK:srecanje:487
X-WR-TIMEZONE:Europe/Ljubljana
END:VEVENT
BEGIN:VEVENT
SUMMARY:Tehnična mehanika (PTTL) (TM)\, Avditorne vaje (AV)
DTSTART;TZID=Europe/Ljubljana:20250529T112000
DTEND;TZID=Europe/Ljubljana:20250529T134500
DTSTAMP:20260422T102411Z
UID:fpp-AFLABS-URNIK:premaknjeno-srecanje:7251
ATTENDEE:1. letnik (PTTL, SS)
ATTENDEE:1. letnik (PTTL, VS)
CATEGORIES:Entry,Standard
COLOR:darkgreen
DESCRIPTION:Predmet: Tehnična mehanika (PTTL) (TM)\, Avditorne vaje (AV)\
 nLetniki: 1. letnik (PTTL\, SS)\, 1. letnik (PTTL\, VS)\nIzvajalci: Matej 
 Bažec\nProstor: amfiteater
LOCATION:amfiteater
ORGANIZER:Matej Bažec
RELATED-TO:fpp-AFLABS-URNIK:srecanje:487
X-WR-TIMEZONE:Europe/Ljubljana
END:VEVENT
BEGIN:VEVENT
SUMMARY:Tehnična mehanika (PTTL) (TM)\, Avditorne vaje (AV)
DTSTART;TZID=Europe/Ljubljana:20250605T112000
DTEND;TZID=Europe/Ljubljana:20250605T134500
DTSTAMP:20260422T102411Z
UID:fpp-AFLABS-URNIK:premaknjeno-srecanje:7252
ATTENDEE:1. letnik (PTTL, SS)
ATTENDEE:1. letnik (PTTL, VS)
CATEGORIES:Entry,Standard
COLOR:darkgreen
DESCRIPTION:Predmet: Tehnična mehanika (PTTL) (TM)\, Avditorne vaje (AV)\
 nLetniki: 1. letnik (PTTL\, SS)\, 1. letnik (PTTL\, VS)\nIzvajalci: Matej 
 Bažec\nProstor: amfiteater
LOCATION:amfiteater
ORGANIZER:Matej Bažec
RELATED-TO:fpp-AFLABS-URNIK:srecanje:487
X-WR-TIMEZONE:Europe/Ljubljana
END:VEVENT
BEGIN:VEVENT
SUMMARY:Tehnična mehanika (PTTL) (TM)\, Avditorne vaje (AV)
DTSTART;TZID=Europe/Ljubljana:20250522T135000
DTEND;TZID=Europe/Ljubljana:20250522T161500
DTSTAMP:20260422T102411Z
UID:fpp-AFLABS-URNIK:premaknjeno-srecanje:7265
ATTENDEE:1. letnik (PTTL, SS)
ATTENDEE:1. letnik (PTTL, VS)
CATEGORIES:Entry,Standard
COLOR:darkgreen
DESCRIPTION:Predmet: Tehnična mehanika (PTTL) (TM)\, Avditorne vaje (AV)\
 nLetniki: 1. letnik (PTTL\, SS)\, 1. letnik (PTTL\, VS)\nIzvajalci: Matej 
 Bažec\nProstor: amfiteater
LOCATION:amfiteater
ORGANIZER:Matej Bažec
RELATED-TO:fpp-AFLABS-URNIK:srecanje:497
X-WR-TIMEZONE:Europe/Ljubljana
END:VEVENT
BEGIN:VEVENT
SUMMARY:Tehnična mehanika (PTTL) (TM)\, Avditorne vaje (AV)
DTSTART;TZID=Europe/Ljubljana:20250529T135000
DTEND;TZID=Europe/Ljubljana:20250529T161500
DTSTAMP:20260422T102411Z
UID:fpp-AFLABS-URNIK:premaknjeno-srecanje:7266
ATTENDEE:1. letnik (PTTL, SS)
ATTENDEE:1. letnik (PTTL, VS)
CATEGORIES:Entry,Standard
COLOR:darkgreen
DESCRIPTION:Predmet: Tehnična mehanika (PTTL) (TM)\, Avditorne vaje (AV)\
 nLetniki: 1. letnik (PTTL\, SS)\, 1. letnik (PTTL\, VS)\nIzvajalci: Matej 
 Bažec\nProstor: amfiteater
LOCATION:amfiteater
ORGANIZER:Matej Bažec
RELATED-TO:fpp-AFLABS-URNIK:srecanje:497
X-WR-TIMEZONE:Europe/Ljubljana
END:VEVENT
BEGIN:VEVENT
SUMMARY:Tehnična mehanika (PTTL) (TM)\, Avditorne vaje (AV)
DTSTART;TZID=Europe/Ljubljana:20250605T135000
DTEND;TZID=Europe/Ljubljana:20250605T161500
DTSTAMP:20260422T102411Z
UID:fpp-AFLABS-URNIK:premaknjeno-srecanje:7267
ATTENDEE:1. letnik (PTTL, SS)
ATTENDEE:1. letnik (PTTL, VS)
CATEGORIES:Entry,Standard
COLOR:darkgreen
DESCRIPTION:Predmet: Tehnična mehanika (PTTL) (TM)\, Avditorne vaje (AV)\
 nLetniki: 1. letnik (PTTL\, SS)\, 1. letnik (PTTL\, VS)\nIzvajalci: Matej 
 Bažec\nProstor: amfiteater
LOCATION:amfiteater
ORGANIZER:Matej Bažec
RELATED-TO:fpp-AFLABS-URNIK:srecanje:497
X-WR-TIMEZONE:Europe/Ljubljana
END:VEVENT
BEGIN:VEVENT
SUMMARY:Elektrotehnika v prometu (TPL-U) (EL)\, Laboratorijske vaje (LV)
DTSTART;TZID=Europe/Ljubljana:20250523T112000
DTEND;TZID=Europe/Ljubljana:20250523T125500
DTSTAMP:20260422T102411Z
UID:fpp-AFLABS-URNIK:premaknjeno-srecanje:5510
ATTENDEE:1. letnik (TPL-U)
CATEGORIES:Entry,Standard
COLOR:darkgreen
DESCRIPTION:Predmet: Elektrotehnika v prometu (TPL-U) (EL)\, Laboratorijsk
 e vaje (LV)\nLetniki: 1. letnik (TPL-U)\nIzvajalci: Matej Bažec\nProstor:
  LEA
LOCATION:LEA
ORGANIZER:Matej Bažec
RELATED-TO:fpp-AFLABS-URNIK:srecanje:410
X-WR-TIMEZONE:Europe/Ljubljana
END:VEVENT
BEGIN:VEVENT
SUMMARY:Elektrotehnika v prometu (TPL-U) (EL)\, Laboratorijske vaje (LV)
DTSTART;TZID=Europe/Ljubljana:20250530T112000
DTEND;TZID=Europe/Ljubljana:20250530T125500
DTSTAMP:20260422T102411Z
UID:fpp-AFLABS-URNIK:premaknjeno-srecanje:5511
ATTENDEE:1. letnik (TPL-U)
CATEGORIES:Entry,Standard
COLOR:darkgreen
DESCRIPTION:Predmet: Elektrotehnika v prometu (TPL-U) (EL)\, Laboratorijsk
 e vaje (LV)\nLetniki: 1. letnik (TPL-U)\nIzvajalci: Matej Bažec\nProstor:
  LEA
LOCATION:LEA
ORGANIZER:Matej Bažec
RELATED-TO:fpp-AFLABS-URNIK:srecanje:410
X-WR-TIMEZONE:Europe/Ljubljana
END:VEVENT
BEGIN:VEVENT
SUMMARY:Elektrotehnika v prometu (TPL-U) (EL)\, Laboratorijske vaje (LV)
DTSTART;TZID=Europe/Ljubljana:20250606T112000
DTEND;TZID=Europe/Ljubljana:20250606T125500
DTSTAMP:20260422T102411Z
UID:fpp-AFLABS-URNIK:premaknjeno-srecanje:5512
ATTENDEE:1. letnik (TPL-U)
CATEGORIES:Entry,Standard
COLOR:darkgreen
DESCRIPTION:Predmet: Elektrotehnika v prometu (TPL-U) (EL)\, Laboratorijsk
 e vaje (LV)\nLetniki: 1. letnik (TPL-U)\nIzvajalci: Matej Bažec\nProstor:
  LEA
LOCATION:LEA
ORGANIZER:Matej Bažec
RELATED-TO:fpp-AFLABS-URNIK:srecanje:410
X-WR-TIMEZONE:Europe/Ljubljana
END:VEVENT
BEGIN:VEVENT
SUMMARY:Elektrotehnika v prometu (TPL-U) (EL)\, Laboratorijske vaje (LV)
DTSTART;TZID=Europe/Ljubljana:20250523T130000
DTEND;TZID=Europe/Ljubljana:20250523T143500
DTSTAMP:20260422T102411Z
UID:fpp-AFLABS-URNIK:premaknjeno-srecanje:5525
ATTENDEE:1. letnik (TPL-U)
CATEGORIES:Entry,Standard
COLOR:darkgreen
DESCRIPTION:Predmet: Elektrotehnika v prometu (TPL-U) (EL)\, Laboratorijsk
 e vaje (LV)\nLetniki: 1. letnik (TPL-U)\nIzvajalci: Matej Bažec\nProstor:
  LEA
LOCATION:LEA
ORGANIZER:Matej Bažec
RELATED-TO:fpp-AFLABS-URNIK:srecanje:413
X-WR-TIMEZONE:Europe/Ljubljana
END:VEVENT
BEGIN:VEVENT
SUMMARY:Elektrotehnika v prometu (TPL-U) (EL)\, Laboratorijske vaje (LV)
DTSTART;TZID=Europe/Ljubljana:20250530T130000
DTEND;TZID=Europe/Ljubljana:20250530T143500
DTSTAMP:20260422T102411Z
UID:fpp-AFLABS-URNIK:premaknjeno-srecanje:5526
ATTENDEE:1. letnik (TPL-U)
CATEGORIES:Entry,Standard
COLOR:darkgreen
DESCRIPTION:Predmet: Elektrotehnika v prometu (TPL-U) (EL)\, Laboratorijsk
 e vaje (LV)\nLetniki: 1. letnik (TPL-U)\nIzvajalci: Matej Bažec\nProstor:
  LEA
LOCATION:LEA
ORGANIZER:Matej Bažec
RELATED-TO:fpp-AFLABS-URNIK:srecanje:413
X-WR-TIMEZONE:Europe/Ljubljana
END:VEVENT
BEGIN:VEVENT
SUMMARY:Elektrotehnika v prometu (TPL-U) (EL)\, Laboratorijske vaje (LV)
DTSTART;TZID=Europe/Ljubljana:20250606T130000
DTEND;TZID=Europe/Ljubljana:20250606T143500
DTSTAMP:20260422T102411Z
UID:fpp-AFLABS-URNIK:premaknjeno-srecanje:5527
ATTENDEE:1. letnik (TPL-U)
CATEGORIES:Entry,Standard
COLOR:darkgreen
DESCRIPTION:Predmet: Elektrotehnika v prometu (TPL-U) (EL)\, Laboratorijsk
 e vaje (LV)\nLetniki: 1. letnik (TPL-U)\nIzvajalci: Matej Bažec\nProstor:
  LEA
LOCATION:LEA
ORGANIZER:Matej Bažec
RELATED-TO:fpp-AFLABS-URNIK:srecanje:413
X-WR-TIMEZONE:Europe/Ljubljana
END:VEVENT
END:VCALENDAR
