BEGIN:VCALENDAR
VERSION:2.0
PRODID:-//AFLabs urnik izvoz - fpp//aflabs.si//SI
DTSTAMP:20260422T113715Z
NAME:UL FPP Urnik
REFRESH-INTERVAL:PT1H
SOURCE:https://afurnik-fpp.dev.aflabs.org/en/teacher/6?day=2026-01-26&expo
 rt=1
URL:https://afurnik-fpp.dev.aflabs.org/en/teacher/6?day=2026-01-26&export=
 1
X-PUBLISHED-TTL:PT1H
X-WR-CALNAME:UL FPP Urnik
X-WR-TIMEZONE:Europe/Ljubljana
BEGIN:VTIMEZONE
TZID:Europe/Ljubljana
BEGIN:DAYLIGHT
DTSTART:20260329T020000
RDATE:20260329T020000
RDATE:20270328T020000
TZNAME:CEST
TZOFFSETFROM:+0100
TZOFFSETTO:+0200
END:DAYLIGHT
BEGIN:STANDARD
DTSTART:20261025T030000
RDATE:20261025T030000
RDATE:20271031T030000
TZNAME:CET
TZOFFSETFROM:+0200
TZOFFSETTO:+0100
END:STANDARD
END:VTIMEZONE
BEGIN:VEVENT
SUMMARY:Tehniška mehanika 1 (PS) (TeHM1)\, Avditorne vaje (AV)
DTSTART;TZID=Europe/Ljubljana:20251223T121000
DTEND;TZID=Europe/Ljubljana:20251223T134500
DTSTAMP:20260422T113715Z
UID:fpp-AFLABS-URNIK:premaknjeno-srecanje:18844
ATTENDEE:1. letnik (PS, SS)
ATTENDEE:1. letnik (PS, VS)
CATEGORIES:Entry,Standard
COLOR:darkgreen
DESCRIPTION:Predmet: Tehniška mehanika 1 (PS) (TeHM1)\, Avditorne vaje (A
 V)\nLetniki: 1. letnik (PS\, SS)\, 1. letnik (PS\, VS)\nIzvajalci: Matej B
 ažec\nProstor: NEPTUN (NE1+NE2)
LOCATION:NEPTUN (NE1+NE2)
ORGANIZER:Matej Bažec
RELATED-TO:fpp-AFLABS-URNIK:srecanje:1175
X-WR-TIMEZONE:Europe/Ljubljana
END:VEVENT
BEGIN:VEVENT
SUMMARY:Tehniška mehanika 1 (PS) (TeHM1)\, Avditorne vaje (AV)
DTSTART;TZID=Europe/Ljubljana:20251230T121000
DTEND;TZID=Europe/Ljubljana:20251230T134500
DTSTAMP:20260422T113715Z
UID:fpp-AFLABS-URNIK:premaknjeno-srecanje:18845
ATTENDEE:1. letnik (PS, SS)
ATTENDEE:1. letnik (PS, VS)
CATEGORIES:Entry,Standard
COLOR:darkgreen
DESCRIPTION:Predmet: Tehniška mehanika 1 (PS) (TeHM1)\, Avditorne vaje (A
 V)\nLetniki: 1. letnik (PS\, SS)\, 1. letnik (PS\, VS)\nIzvajalci: Matej B
 ažec\nProstor: NEPTUN (NE1+NE2)
LOCATION:NEPTUN (NE1+NE2)
ORGANIZER:Matej Bažec
RELATED-TO:fpp-AFLABS-URNIK:srecanje:1175
X-WR-TIMEZONE:Europe/Ljubljana
END:VEVENT
BEGIN:VEVENT
SUMMARY:Tehniška mehanika 1 (PS) (TeHM1)\, Avditorne vaje (AV)
DTSTART;TZID=Europe/Ljubljana:20260106T121000
DTEND;TZID=Europe/Ljubljana:20260106T134500
DTSTAMP:20260422T113715Z
UID:fpp-AFLABS-URNIK:premaknjeno-srecanje:18846
ATTENDEE:1. letnik (PS, SS)
ATTENDEE:1. letnik (PS, VS)
CATEGORIES:Entry,Standard
COLOR:darkgreen
DESCRIPTION:Predmet: Tehniška mehanika 1 (PS) (TeHM1)\, Avditorne vaje (A
 V)\nLetniki: 1. letnik (PS\, SS)\, 1. letnik (PS\, VS)\nIzvajalci: Matej B
 ažec\nProstor: NEPTUN (NE1+NE2)
LOCATION:NEPTUN (NE1+NE2)
ORGANIZER:Matej Bažec
RELATED-TO:fpp-AFLABS-URNIK:srecanje:1175
X-WR-TIMEZONE:Europe/Ljubljana
END:VEVENT
BEGIN:VEVENT
SUMMARY:Tehniška mehanika 1 (PS) (TeHM1)\, Avditorne vaje (AV)
DTSTART;TZID=Europe/Ljubljana:20260113T121000
DTEND;TZID=Europe/Ljubljana:20260113T134500
DTSTAMP:20260422T113715Z
UID:fpp-AFLABS-URNIK:premaknjeno-srecanje:18847
ATTENDEE:1. letnik (PS, SS)
ATTENDEE:1. letnik (PS, VS)
CATEGORIES:Entry,Standard
COLOR:darkgreen
DESCRIPTION:Predmet: Tehniška mehanika 1 (PS) (TeHM1)\, Avditorne vaje (A
 V)\nLetniki: 1. letnik (PS\, SS)\, 1. letnik (PS\, VS)\nIzvajalci: Matej B
 ažec\nProstor: NEPTUN (NE1+NE2)
LOCATION:NEPTUN (NE1+NE2)
ORGANIZER:Matej Bažec
RELATED-TO:fpp-AFLABS-URNIK:srecanje:1175
X-WR-TIMEZONE:Europe/Ljubljana
END:VEVENT
BEGIN:VEVENT
SUMMARY:Intelligent Transportation Systems and Services (ITSS)\, Seminar (
 S)
DTSTART;TZID=Europe/Ljubljana:20260109T103000
DTEND;TZID=Europe/Ljubljana:20260109T120500
DTSTAMP:20260422T113715Z
UID:fpp-AFLABS-URNIK:premaknjeno-srecanje:14756
ATTENDEE:3. letnik (TPL-U)
CATEGORIES:Entry,Standard
COLOR:darkgreen
DESCRIPTION:Predmet: Intelligent Transportation Systems and Services (ITSS
 )\, Seminar (S)\nLetniki: 3. letnik (TPL-U)\nIzvajalci: Matej Bažec\nPros
 tor: R1
LOCATION:R1
ORGANIZER:Matej Bažec
RELATED-TO:fpp-AFLABS-URNIK:srecanje:558
X-WR-TIMEZONE:Europe/Ljubljana
END:VEVENT
BEGIN:VEVENT
SUMMARY:Intelligent Transportation Systems and Services (ITSS)\, Seminar (
 S)
DTSTART;TZID=Europe/Ljubljana:20260116T103000
DTEND;TZID=Europe/Ljubljana:20260116T120500
DTSTAMP:20260422T113715Z
UID:fpp-AFLABS-URNIK:premaknjeno-srecanje:14757
ATTENDEE:3. letnik (TPL-U)
CATEGORIES:Entry,Standard
COLOR:darkgreen
DESCRIPTION:Predmet: Intelligent Transportation Systems and Services (ITSS
 )\, Seminar (S)\nLetniki: 3. letnik (TPL-U)\nIzvajalci: Matej Bažec\nPros
 tor: R1
LOCATION:R1
ORGANIZER:Matej Bažec
RELATED-TO:fpp-AFLABS-URNIK:srecanje:558
X-WR-TIMEZONE:Europe/Ljubljana
END:VEVENT
BEGIN:VEVENT
SUMMARY:Intelligent Transportation Systems and Services (ITSS)\, Laborator
 ijske vaje (LV)
DTSTART;TZID=Europe/Ljubljana:20260109T121000
DTEND;TZID=Europe/Ljubljana:20260109T134500
DTSTAMP:20260422T113715Z
UID:fpp-AFLABS-URNIK:premaknjeno-srecanje:14770
ATTENDEE:3. letnik (TPL-U)
CATEGORIES:Entry,Standard
COLOR:darkgreen
DESCRIPTION:Predmet: Intelligent Transportation Systems and Services (ITSS
 )\, Laboratorijske vaje (LV)\nLetniki: 3. letnik (TPL-U)\nIzvajalci: Matej
  Bažec\nProstor: R1
LOCATION:R1
ORGANIZER:Matej Bažec
RELATED-TO:fpp-AFLABS-URNIK:srecanje:556
X-WR-TIMEZONE:Europe/Ljubljana
END:VEVENT
BEGIN:VEVENT
SUMMARY:Intelligent Transportation Systems and Services (ITSS)\, Laborator
 ijske vaje (LV)
DTSTART;TZID=Europe/Ljubljana:20260116T121000
DTEND;TZID=Europe/Ljubljana:20260116T134500
DTSTAMP:20260422T113715Z
UID:fpp-AFLABS-URNIK:premaknjeno-srecanje:14771
ATTENDEE:3. letnik (TPL-U)
CATEGORIES:Entry,Standard
COLOR:darkgreen
DESCRIPTION:Predmet: Intelligent Transportation Systems and Services (ITSS
 )\, Laboratorijske vaje (LV)\nLetniki: 3. letnik (TPL-U)\nIzvajalci: Matej
  Bažec\nProstor: R1
LOCATION:R1
ORGANIZER:Matej Bažec
RELATED-TO:fpp-AFLABS-URNIK:srecanje:556
X-WR-TIMEZONE:Europe/Ljubljana
END:VEVENT
BEGIN:VEVENT
SUMMARY:Tehniška mehanika 2 (PS) (TM2)\, Avditorne vaje (AV)
DTSTART;TZID=Europe/Ljubljana:20260216T085000
DTEND;TZID=Europe/Ljubljana:20260216T102500
DTSTAMP:20260422T113715Z
UID:fpp-AFLABS-URNIK:premaknjeno-srecanje:31194
ATTENDEE:2. letnik (PS, SS)
ATTENDEE:2. letnik (PS, VS)
CATEGORIES:Entry,Standard
COLOR:darkgreen
DESCRIPTION:Predmet: Tehniška mehanika 2 (PS) (TM2)\, Avditorne vaje (AV)
 \nLetniki: 2. letnik (PS\, SS)\, 2. letnik (PS\, VS)\nIzvajalci: Matej Ba
 žec\nProstor: PO2
LOCATION:PO2
ORGANIZER:Matej Bažec
RELATED-TO:fpp-AFLABS-URNIK:srecanje:1038
X-WR-TIMEZONE:Europe/Ljubljana
END:VEVENT
BEGIN:VEVENT
SUMMARY:Tehniška mehanika 2 (PS) (TM2)\, Avditorne vaje (AV)
DTSTART;TZID=Europe/Ljubljana:20260223T085000
DTEND;TZID=Europe/Ljubljana:20260223T102500
DTSTAMP:20260422T113715Z
UID:fpp-AFLABS-URNIK:premaknjeno-srecanje:31195
ATTENDEE:2. letnik (PS, SS)
ATTENDEE:2. letnik (PS, VS)
CATEGORIES:Entry,Standard
COLOR:darkgreen
DESCRIPTION:Predmet: Tehniška mehanika 2 (PS) (TM2)\, Avditorne vaje (AV)
 \nLetniki: 2. letnik (PS\, SS)\, 2. letnik (PS\, VS)\nIzvajalci: Matej Ba
 žec\nProstor: PO2
LOCATION:PO2
ORGANIZER:Matej Bažec
RELATED-TO:fpp-AFLABS-URNIK:srecanje:1038
X-WR-TIMEZONE:Europe/Ljubljana
END:VEVENT
BEGIN:VEVENT
SUMMARY:Tehniška mehanika 2 (PS) (TM2)\, Avditorne vaje (AV)
DTSTART;TZID=Europe/Ljubljana:20260302T085000
DTEND;TZID=Europe/Ljubljana:20260302T102500
DTSTAMP:20260422T113715Z
UID:fpp-AFLABS-URNIK:premaknjeno-srecanje:31196
ATTENDEE:2. letnik (PS, SS)
ATTENDEE:2. letnik (PS, VS)
CATEGORIES:Entry,Standard
COLOR:darkgreen
DESCRIPTION:Predmet: Tehniška mehanika 2 (PS) (TM2)\, Avditorne vaje (AV)
 \nLetniki: 2. letnik (PS\, SS)\, 2. letnik (PS\, VS)\nIzvajalci: Matej Ba
 žec\nProstor: PO2
LOCATION:PO2
ORGANIZER:Matej Bažec
RELATED-TO:fpp-AFLABS-URNIK:srecanje:1038
X-WR-TIMEZONE:Europe/Ljubljana
END:VEVENT
BEGIN:VEVENT
SUMMARY:Mehanika v prometu (TPL-U) (MP)\, Avditorne vaje (AV)
DTSTART;TZID=Europe/Ljubljana:20260216T112000
DTEND;TZID=Europe/Ljubljana:20260216T134500
DTSTAMP:20260422T113715Z
UID:fpp-AFLABS-URNIK:premaknjeno-srecanje:31474
ATTENDEE:1. letnik (TPL-U)
CATEGORIES:Entry,Standard
COLOR:darkgreen
DESCRIPTION:Predmet: Mehanika v prometu (TPL-U) (MP)\, Avditorne vaje (AV)
 \nLetniki: 1. letnik (TPL-U)\nIzvajalci: Matej Bažec\nProstor: 202
LOCATION:202
ORGANIZER:Matej Bažec
RELATED-TO:fpp-AFLABS-URNIK:srecanje:956
X-WR-TIMEZONE:Europe/Ljubljana
END:VEVENT
BEGIN:VEVENT
SUMMARY:Mehanika v prometu (TPL-U) (MP)\, Avditorne vaje (AV)
DTSTART;TZID=Europe/Ljubljana:20260223T112000
DTEND;TZID=Europe/Ljubljana:20260223T134500
DTSTAMP:20260422T113715Z
UID:fpp-AFLABS-URNIK:premaknjeno-srecanje:31475
ATTENDEE:1. letnik (TPL-U)
CATEGORIES:Entry,Standard
COLOR:darkgreen
DESCRIPTION:Predmet: Mehanika v prometu (TPL-U) (MP)\, Avditorne vaje (AV)
 \nLetniki: 1. letnik (TPL-U)\nIzvajalci: Matej Bažec\nProstor: 202
LOCATION:202
ORGANIZER:Matej Bažec
RELATED-TO:fpp-AFLABS-URNIK:srecanje:956
X-WR-TIMEZONE:Europe/Ljubljana
END:VEVENT
BEGIN:VEVENT
SUMMARY:Mehanika v prometu (TPL-U) (MP)\, Avditorne vaje (AV)
DTSTART;TZID=Europe/Ljubljana:20260302T112000
DTEND;TZID=Europe/Ljubljana:20260302T134500
DTSTAMP:20260422T113715Z
UID:fpp-AFLABS-URNIK:premaknjeno-srecanje:31476
ATTENDEE:1. letnik (TPL-U)
CATEGORIES:Entry,Standard
COLOR:darkgreen
DESCRIPTION:Predmet: Mehanika v prometu (TPL-U) (MP)\, Avditorne vaje (AV)
 \nLetniki: 1. letnik (TPL-U)\nIzvajalci: Matej Bažec\nProstor: 202
LOCATION:202
ORGANIZER:Matej Bažec
RELATED-TO:fpp-AFLABS-URNIK:srecanje:956
X-WR-TIMEZONE:Europe/Ljubljana
END:VEVENT
BEGIN:VEVENT
SUMMARY:Tehniške meritve (PS) (TeM)\, Laboratorijske vaje (LV)
DTSTART;TZID=Europe/Ljubljana:20260217T112000
DTEND;TZID=Europe/Ljubljana:20260217T125500
DTSTAMP:20260422T113715Z
UID:fpp-AFLABS-URNIK:premaknjeno-srecanje:23405
ATTENDEE:3. letnik (PS, SS)
CATEGORIES:Entry,Standard
COLOR:darkgreen
DESCRIPTION:Predmet: Tehniške meritve (PS) (TeM)\, Laboratorijske vaje (L
 V)\nLetniki: 3. letnik (PS\, SS)\nIzvajalci: Matej Bažec\nProstor: LPI
LOCATION:LPI
ORGANIZER:Matej Bažec
RELATED-TO:fpp-AFLABS-URNIK:srecanje:1040
X-WR-TIMEZONE:Europe/Ljubljana
END:VEVENT
BEGIN:VEVENT
SUMMARY:Tehniške meritve (PS) (TeM)\, Laboratorijske vaje (LV)
DTSTART;TZID=Europe/Ljubljana:20260224T112000
DTEND;TZID=Europe/Ljubljana:20260224T125500
DTSTAMP:20260422T113715Z
UID:fpp-AFLABS-URNIK:premaknjeno-srecanje:23406
ATTENDEE:3. letnik (PS, SS)
CATEGORIES:Entry,Standard
COLOR:darkgreen
DESCRIPTION:Predmet: Tehniške meritve (PS) (TeM)\, Laboratorijske vaje (L
 V)\nLetniki: 3. letnik (PS\, SS)\nIzvajalci: Matej Bažec\nProstor: LPI
LOCATION:LPI
ORGANIZER:Matej Bažec
RELATED-TO:fpp-AFLABS-URNIK:srecanje:1040
X-WR-TIMEZONE:Europe/Ljubljana
END:VEVENT
BEGIN:VEVENT
SUMMARY:Tehniške meritve (PS) (TeM)\, Seminar (S)
DTSTART;TZID=Europe/Ljubljana:20260217T103000
DTEND;TZID=Europe/Ljubljana:20260217T111500
DTSTAMP:20260422T113715Z
UID:fpp-AFLABS-URNIK:premaknjeno-srecanje:23437
ATTENDEE:3. letnik (PS, SS)
CATEGORIES:Entry,Standard
COLOR:darkgreen
DESCRIPTION:Predmet: Tehniške meritve (PS) (TeM)\, Seminar (S)\nLetniki: 
 3. letnik (PS\, SS)\nIzvajalci: Matej Bažec\nProstor: LPI
LOCATION:LPI
ORGANIZER:Matej Bažec
RELATED-TO:fpp-AFLABS-URNIK:srecanje:1042
X-WR-TIMEZONE:Europe/Ljubljana
END:VEVENT
BEGIN:VEVENT
SUMMARY:Tehniške meritve (PS) (TeM)\, Seminar (S)
DTSTART;TZID=Europe/Ljubljana:20260224T103000
DTEND;TZID=Europe/Ljubljana:20260224T111500
DTSTAMP:20260422T113715Z
UID:fpp-AFLABS-URNIK:premaknjeno-srecanje:23438
ATTENDEE:3. letnik (PS, SS)
CATEGORIES:Entry,Standard
COLOR:darkgreen
DESCRIPTION:Predmet: Tehniške meritve (PS) (TeM)\, Seminar (S)\nLetniki: 
 3. letnik (PS\, SS)\nIzvajalci: Matej Bažec\nProstor: LPI
LOCATION:LPI
ORGANIZER:Matej Bažec
RELATED-TO:fpp-AFLABS-URNIK:srecanje:1042
X-WR-TIMEZONE:Europe/Ljubljana
END:VEVENT
BEGIN:VEVENT
SUMMARY:Tehniška fizika (N) (TF)\, Avditorne vaje (AV)
DTSTART;TZID=Europe/Ljubljana:20260218T112000
DTEND;TZID=Europe/Ljubljana:20260218T125500
DTSTAMP:20260422T113715Z
UID:fpp-AFLABS-URNIK:premaknjeno-srecanje:23309
ATTENDEE:1. letnik (N, SS)
ATTENDEE:1. letnik (N, VS)
CATEGORIES:Entry,Standard
COLOR:darkgreen
DESCRIPTION:Predmet: Tehniška fizika (N) (TF)\, Avditorne vaje (AV)\nLetn
 iki: 1. letnik (N\, SS)\, 1. letnik (N\, VS)\nIzvajalci: Matej Bažec\nPro
 stor: NEPTUN (NE1+NE2)
LOCATION:NEPTUN (NE1+NE2)
ORGANIZER:Matej Bažec
RELATED-TO:fpp-AFLABS-URNIK:srecanje:1034
X-WR-TIMEZONE:Europe/Ljubljana
END:VEVENT
BEGIN:VEVENT
SUMMARY:Tehniška fizika (N) (TF)\, Avditorne vaje (AV)
DTSTART;TZID=Europe/Ljubljana:20260225T112000
DTEND;TZID=Europe/Ljubljana:20260225T125500
DTSTAMP:20260422T113715Z
UID:fpp-AFLABS-URNIK:premaknjeno-srecanje:23310
ATTENDEE:1. letnik (N, SS)
ATTENDEE:1. letnik (N, VS)
CATEGORIES:Entry,Standard
COLOR:darkgreen
DESCRIPTION:Predmet: Tehniška fizika (N) (TF)\, Avditorne vaje (AV)\nLetn
 iki: 1. letnik (N\, SS)\, 1. letnik (N\, VS)\nIzvajalci: Matej Bažec\nPro
 stor: NEPTUN (NE1+NE2)
LOCATION:NEPTUN (NE1+NE2)
ORGANIZER:Matej Bažec
RELATED-TO:fpp-AFLABS-URNIK:srecanje:1034
X-WR-TIMEZONE:Europe/Ljubljana
END:VEVENT
BEGIN:VEVENT
SUMMARY:Tehniška fizika (PS) (TF)\, Avditorne vaje (AV)
DTSTART;TZID=Europe/Ljubljana:20260218T112000
DTEND;TZID=Europe/Ljubljana:20260218T125500
DTSTAMP:20260422T113715Z
UID:fpp-AFLABS-URNIK:premaknjeno-srecanje:23341
ATTENDEE:1. letnik (PS, SS)
ATTENDEE:1. letnik (PS, VS)
CATEGORIES:Entry,Standard
COLOR:darkgreen
DESCRIPTION:Predmet: Tehniška fizika (PS) (TF)\, Avditorne vaje (AV)\nLet
 niki: 1. letnik (PS\, SS)\, 1. letnik (PS\, VS)\nIzvajalci: Matej Bažec\n
 Prostor: NEPTUN (NE1+NE2)
LOCATION:NEPTUN (NE1+NE2)
ORGANIZER:Matej Bažec
RELATED-TO:fpp-AFLABS-URNIK:srecanje:1036
X-WR-TIMEZONE:Europe/Ljubljana
END:VEVENT
BEGIN:VEVENT
SUMMARY:Tehniška fizika (PS) (TF)\, Avditorne vaje (AV)
DTSTART;TZID=Europe/Ljubljana:20260225T112000
DTEND;TZID=Europe/Ljubljana:20260225T125500
DTSTAMP:20260422T113715Z
UID:fpp-AFLABS-URNIK:premaknjeno-srecanje:23342
ATTENDEE:1. letnik (PS, SS)
ATTENDEE:1. letnik (PS, VS)
CATEGORIES:Entry,Standard
COLOR:darkgreen
DESCRIPTION:Predmet: Tehniška fizika (PS) (TF)\, Avditorne vaje (AV)\nLet
 niki: 1. letnik (PS\, SS)\, 1. letnik (PS\, VS)\nIzvajalci: Matej Bažec\n
 Prostor: NEPTUN (NE1+NE2)
LOCATION:NEPTUN (NE1+NE2)
ORGANIZER:Matej Bažec
RELATED-TO:fpp-AFLABS-URNIK:srecanje:1036
X-WR-TIMEZONE:Europe/Ljubljana
END:VEVENT
BEGIN:VEVENT
SUMMARY:Tehnična mehanika (PTTL) (TM)\, Avditorne vaje (AV)\, [_sk 2]
DTSTART;TZID=Europe/Ljubljana:20260219T112000
DTEND;TZID=Europe/Ljubljana:20260219T134500
DTSTAMP:20260422T113715Z
UID:fpp-AFLABS-URNIK:premaknjeno-srecanje:27499
ATTENDEE:1. letnik (PTTL, SS)
ATTENDEE:1. letnik (PTTL, VS)
CATEGORIES:Entry,Standard
COLOR:darkgreen
DESCRIPTION:Predmet: Tehnična mehanika (PTTL) (TM)\, Avditorne vaje (AV)\
 , [_sk 2]\nLetniki: 1. letnik (PTTL\, SS)\, 1. letnik (PTTL\, VS)\nIzvajal
 ci: Matej Bažec\nProstor: amfiteater
LOCATION:amfiteater
ORGANIZER:Matej Bažec
RELATED-TO:fpp-AFLABS-URNIK:srecanje:1031
X-WR-TIMEZONE:Europe/Ljubljana
END:VEVENT
BEGIN:VEVENT
SUMMARY:Tehnična mehanika (PTTL) (TM)\, Avditorne vaje (AV)\, [_sk 2]
DTSTART;TZID=Europe/Ljubljana:20260226T112000
DTEND;TZID=Europe/Ljubljana:20260226T134500
DTSTAMP:20260422T113715Z
UID:fpp-AFLABS-URNIK:premaknjeno-srecanje:27500
ATTENDEE:1. letnik (PTTL, SS)
ATTENDEE:1. letnik (PTTL, VS)
CATEGORIES:Entry,Standard
COLOR:darkgreen
DESCRIPTION:Predmet: Tehnična mehanika (PTTL) (TM)\, Avditorne vaje (AV)\
 , [_sk 2]\nLetniki: 1. letnik (PTTL\, SS)\, 1. letnik (PTTL\, VS)\nIzvajal
 ci: Matej Bažec\nProstor: amfiteater
LOCATION:amfiteater
ORGANIZER:Matej Bažec
RELATED-TO:fpp-AFLABS-URNIK:srecanje:1031
X-WR-TIMEZONE:Europe/Ljubljana
END:VEVENT
BEGIN:VEVENT
SUMMARY:Tehnična mehanika (PTTL) (TM)\, Avditorne vaje (AV)\, [_sk 1]
DTSTART;TZID=Europe/Ljubljana:20260219T135000
DTEND;TZID=Europe/Ljubljana:20260219T161500
DTSTAMP:20260422T113715Z
UID:fpp-AFLABS-URNIK:premaknjeno-srecanje:27544
ATTENDEE:1. letnik (PTTL, SS)
ATTENDEE:1. letnik (PTTL, VS)
CATEGORIES:Entry,Standard
COLOR:darkgreen
DESCRIPTION:Predmet: Tehnična mehanika (PTTL) (TM)\, Avditorne vaje (AV)\
 , [_sk 1]\nLetniki: 1. letnik (PTTL\, SS)\, 1. letnik (PTTL\, VS)\nIzvajal
 ci: Matej Bažec\nProstor: amfiteater
LOCATION:amfiteater
ORGANIZER:Matej Bažec
RELATED-TO:fpp-AFLABS-URNIK:srecanje:1032
X-WR-TIMEZONE:Europe/Ljubljana
END:VEVENT
BEGIN:VEVENT
SUMMARY:Tehnična mehanika (PTTL) (TM)\, Avditorne vaje (AV)\, [_sk 1]
DTSTART;TZID=Europe/Ljubljana:20260226T135000
DTEND;TZID=Europe/Ljubljana:20260226T161500
DTSTAMP:20260422T113715Z
UID:fpp-AFLABS-URNIK:premaknjeno-srecanje:27545
ATTENDEE:1. letnik (PTTL, SS)
ATTENDEE:1. letnik (PTTL, VS)
CATEGORIES:Entry,Standard
COLOR:darkgreen
DESCRIPTION:Predmet: Tehnična mehanika (PTTL) (TM)\, Avditorne vaje (AV)\
 , [_sk 1]\nLetniki: 1. letnik (PTTL\, SS)\, 1. letnik (PTTL\, VS)\nIzvajal
 ci: Matej Bažec\nProstor: amfiteater
LOCATION:amfiteater
ORGANIZER:Matej Bažec
RELATED-TO:fpp-AFLABS-URNIK:srecanje:1032
X-WR-TIMEZONE:Europe/Ljubljana
END:VEVENT
BEGIN:VEVENT
SUMMARY:Elektrotehnika v prometu (TPL-U) (EL)\, Laboratorijske vaje (LV)\,
  [_sk 1.1]
DTSTART;TZID=Europe/Ljubljana:20260220T112000
DTEND;TZID=Europe/Ljubljana:20260220T125500
DTSTAMP:20260422T113715Z
UID:fpp-AFLABS-URNIK:premaknjeno-srecanje:27079
ATTENDEE:1. letnik (TPL-U)
CATEGORIES:Entry,Standard
COLOR:darkgreen
DESCRIPTION:Predmet: Elektrotehnika v prometu (TPL-U) (EL)\, Laboratorijsk
 e vaje (LV)\, [_sk 1.1]\nLetniki: 1. letnik (TPL-U)\nIzvajalci: Matej Baž
 ec\nProstor: LEA
LOCATION:LEA
ORGANIZER:Matej Bažec
RELATED-TO:fpp-AFLABS-URNIK:srecanje:915
X-WR-TIMEZONE:Europe/Ljubljana
END:VEVENT
BEGIN:VEVENT
SUMMARY:Elektrotehnika v prometu (TPL-U) (EL)\, Laboratorijske vaje (LV)\,
  [_sk 1.1]
DTSTART;TZID=Europe/Ljubljana:20260227T112000
DTEND;TZID=Europe/Ljubljana:20260227T125500
DTSTAMP:20260422T113715Z
UID:fpp-AFLABS-URNIK:premaknjeno-srecanje:27080
ATTENDEE:1. letnik (TPL-U)
CATEGORIES:Entry,Standard
COLOR:darkgreen
DESCRIPTION:Predmet: Elektrotehnika v prometu (TPL-U) (EL)\, Laboratorijsk
 e vaje (LV)\, [_sk 1.1]\nLetniki: 1. letnik (TPL-U)\nIzvajalci: Matej Baž
 ec\nProstor: LEA
LOCATION:LEA
ORGANIZER:Matej Bažec
RELATED-TO:fpp-AFLABS-URNIK:srecanje:915
X-WR-TIMEZONE:Europe/Ljubljana
END:VEVENT
BEGIN:VEVENT
SUMMARY:Elektrotehnika v prometu (TPL-U) (EL)\, Laboratorijske vaje (LV)\,
  [_sk 1.2]
DTSTART;TZID=Europe/Ljubljana:20260220T130000
DTEND;TZID=Europe/Ljubljana:20260220T143500
DTSTAMP:20260422T113715Z
UID:fpp-AFLABS-URNIK:premaknjeno-srecanje:27094
ATTENDEE:1. letnik (TPL-U)
CATEGORIES:Entry,Standard
COLOR:darkgreen
DESCRIPTION:Predmet: Elektrotehnika v prometu (TPL-U) (EL)\, Laboratorijsk
 e vaje (LV)\, [_sk 1.2]\nLetniki: 1. letnik (TPL-U)\nIzvajalci: Matej Baž
 ec\nProstor: LEA
LOCATION:LEA
ORGANIZER:Matej Bažec
RELATED-TO:fpp-AFLABS-URNIK:srecanje:916
X-WR-TIMEZONE:Europe/Ljubljana
END:VEVENT
BEGIN:VEVENT
SUMMARY:Elektrotehnika v prometu (TPL-U) (EL)\, Laboratorijske vaje (LV)\,
  [_sk 1.2]
DTSTART;TZID=Europe/Ljubljana:20260227T130000
DTEND;TZID=Europe/Ljubljana:20260227T143500
DTSTAMP:20260422T113715Z
UID:fpp-AFLABS-URNIK:premaknjeno-srecanje:27095
ATTENDEE:1. letnik (TPL-U)
CATEGORIES:Entry,Standard
COLOR:darkgreen
DESCRIPTION:Predmet: Elektrotehnika v prometu (TPL-U) (EL)\, Laboratorijsk
 e vaje (LV)\, [_sk 1.2]\nLetniki: 1. letnik (TPL-U)\nIzvajalci: Matej Baž
 ec\nProstor: LEA
LOCATION:LEA
ORGANIZER:Matej Bažec
RELATED-TO:fpp-AFLABS-URNIK:srecanje:916
X-WR-TIMEZONE:Europe/Ljubljana
END:VEVENT
END:VCALENDAR
