BEGIN:VCALENDAR
VERSION:2.0
PRODID:-//AFLabs urnik izvoz - fpp//aflabs.si//SI
DTSTAMP:20260422T075802Z
NAME:UL FPP Urnik
REFRESH-INTERVAL:PT1H
SOURCE:https://afurnik-fpp.dev.aflabs.org/en/teacher/72?day=2026-01-19&exp
 ort=1
URL:https://afurnik-fpp.dev.aflabs.org/en/teacher/72?day=2026-01-19&export
 =1
X-PUBLISHED-TTL:PT1H
X-WR-CALNAME:UL FPP Urnik
X-WR-TIMEZONE:Europe/Ljubljana
BEGIN:VTIMEZONE
TZID:Europe/Ljubljana
BEGIN:DAYLIGHT
DTSTART:20260329T020000
RDATE:20260329T020000
RDATE:20270328T020000
TZNAME:CEST
TZOFFSETFROM:+0100
TZOFFSETTO:+0200
END:DAYLIGHT
BEGIN:STANDARD
DTSTART:20261025T030000
RDATE:20261025T030000
RDATE:20271031T030000
TZNAME:CET
TZOFFSETFROM:+0200
TZOFFSETTO:+0100
END:STANDARD
END:VTIMEZONE
BEGIN:VEVENT
SUMMARY:Elektronska navigacija (N) (EN)\, Avditorne vaje (AV)
DTSTART;TZID=Europe/Ljubljana:20251215T112000
DTEND;TZID=Europe/Ljubljana:20251215T125500
DTSTAMP:20260422T075802Z
UID:fpp-AFLABS-URNIK:premaknjeno-srecanje:19143
ATTENDEE:2. letnik (N, SS)
ATTENDEE:2. letnik (N, VS)
CATEGORIES:Entry,Standard
COLOR:darkgreen
DESCRIPTION:Predmet: Elektronska navigacija (N) (EN)\, Avditorne vaje (AV)
 \nLetniki: 2. letnik (N\, SS)\, 2. letnik (N\, VS)\nIzvajalci: Urban Pegan
 \nProstor: 202
LOCATION:202
ORGANIZER:Urban Pegan
RELATED-TO:fpp-AFLABS-URNIK:srecanje:540
X-WR-TIMEZONE:Europe/Ljubljana
END:VEVENT
BEGIN:VEVENT
SUMMARY:Elektronska navigacija (N) (EN)\, Avditorne vaje (AV)
DTSTART;TZID=Europe/Ljubljana:20251222T112000
DTEND;TZID=Europe/Ljubljana:20251222T125500
DTSTAMP:20260422T075802Z
UID:fpp-AFLABS-URNIK:premaknjeno-srecanje:19144
ATTENDEE:2. letnik (N, SS)
ATTENDEE:2. letnik (N, VS)
CATEGORIES:Entry,Standard
COLOR:darkgreen
DESCRIPTION:Predmet: Elektronska navigacija (N) (EN)\, Avditorne vaje (AV)
 \nLetniki: 2. letnik (N\, SS)\, 2. letnik (N\, VS)\nIzvajalci: Urban Pegan
 \nProstor: 202
LOCATION:202
ORGANIZER:Urban Pegan
RELATED-TO:fpp-AFLABS-URNIK:srecanje:540
X-WR-TIMEZONE:Europe/Ljubljana
END:VEVENT
BEGIN:VEVENT
SUMMARY:Elektronska navigacija (N) (EN)\, Avditorne vaje (AV)
DTSTART;TZID=Europe/Ljubljana:20251229T112000
DTEND;TZID=Europe/Ljubljana:20251229T125500
DTSTAMP:20260422T075802Z
UID:fpp-AFLABS-URNIK:premaknjeno-srecanje:19145
ATTENDEE:2. letnik (N, SS)
ATTENDEE:2. letnik (N, VS)
CATEGORIES:Entry,Standard
COLOR:darkgreen
DESCRIPTION:Predmet: Elektronska navigacija (N) (EN)\, Avditorne vaje (AV)
 \nLetniki: 2. letnik (N\, SS)\, 2. letnik (N\, VS)\nIzvajalci: Urban Pegan
 \nProstor: 202
LOCATION:202
ORGANIZER:Urban Pegan
RELATED-TO:fpp-AFLABS-URNIK:srecanje:540
X-WR-TIMEZONE:Europe/Ljubljana
END:VEVENT
BEGIN:VEVENT
SUMMARY:Elektronska navigacija (N) (EN)\, Avditorne vaje (AV)
DTSTART;TZID=Europe/Ljubljana:20260105T112000
DTEND;TZID=Europe/Ljubljana:20260105T125500
DTSTAMP:20260422T075802Z
UID:fpp-AFLABS-URNIK:premaknjeno-srecanje:19146
ATTENDEE:2. letnik (N, SS)
ATTENDEE:2. letnik (N, VS)
CATEGORIES:Entry,Standard
COLOR:darkgreen
DESCRIPTION:Predmet: Elektronska navigacija (N) (EN)\, Avditorne vaje (AV)
 \nLetniki: 2. letnik (N\, SS)\, 2. letnik (N\, VS)\nIzvajalci: Urban Pegan
 \nProstor: 202
LOCATION:202
ORGANIZER:Urban Pegan
RELATED-TO:fpp-AFLABS-URNIK:srecanje:540
X-WR-TIMEZONE:Europe/Ljubljana
END:VEVENT
BEGIN:VEVENT
SUMMARY:Elektronska navigacija (N) (EN)\, Avditorne vaje (AV)
DTSTART;TZID=Europe/Ljubljana:20260112T112000
DTEND;TZID=Europe/Ljubljana:20260112T125500
DTSTAMP:20260422T075802Z
UID:fpp-AFLABS-URNIK:premaknjeno-srecanje:19147
ATTENDEE:2. letnik (N, SS)
ATTENDEE:2. letnik (N, VS)
CATEGORIES:Entry,Standard
COLOR:darkgreen
DESCRIPTION:Predmet: Elektronska navigacija (N) (EN)\, Avditorne vaje (AV)
 \nLetniki: 2. letnik (N\, SS)\, 2. letnik (N\, VS)\nIzvajalci: Urban Pegan
 \nProstor: 202
LOCATION:202
ORGANIZER:Urban Pegan
RELATED-TO:fpp-AFLABS-URNIK:srecanje:540
X-WR-TIMEZONE:Europe/Ljubljana
END:VEVENT
BEGIN:VEVENT
SUMMARY:Elektronska navigacija (N) (EN)\, Laboratorijske vaje (LV)
DTSTART;TZID=Europe/Ljubljana:20251217T135000
DTEND;TZID=Europe/Ljubljana:20251217T152500
DTSTAMP:20260422T075802Z
UID:fpp-AFLABS-URNIK:premaknjeno-srecanje:19159
ATTENDEE:2. letnik (N, SS)
ATTENDEE:2. letnik (N, VS)
CATEGORIES:Entry,Standard
COLOR:darkgreen
DESCRIPTION:Predmet: Elektronska navigacija (N) (EN)\, Laboratorijske vaje
  (LV)\nLetniki: 2. letnik (N\, SS)\, 2. letnik (N\, VS)\nIzvajalci: Urban 
 Pegan\nProstor: NSIM (GEPŠ)
LOCATION:NSIM (GEPŠ)
ORGANIZER:Urban Pegan
RELATED-TO:fpp-AFLABS-URNIK:srecanje:541
X-WR-TIMEZONE:Europe/Ljubljana
END:VEVENT
BEGIN:VEVENT
SUMMARY:Elektronska navigacija (N) (EN)\, Laboratorijske vaje (LV)
DTSTART;TZID=Europe/Ljubljana:20251224T135000
DTEND;TZID=Europe/Ljubljana:20251224T152500
DTSTAMP:20260422T075802Z
UID:fpp-AFLABS-URNIK:premaknjeno-srecanje:19160
ATTENDEE:2. letnik (N, SS)
ATTENDEE:2. letnik (N, VS)
CATEGORIES:Entry,Standard
COLOR:darkgreen
DESCRIPTION:Predmet: Elektronska navigacija (N) (EN)\, Laboratorijske vaje
  (LV)\nLetniki: 2. letnik (N\, SS)\, 2. letnik (N\, VS)\nIzvajalci: Urban 
 Pegan\nProstor: NSIM (GEPŠ)
LOCATION:NSIM (GEPŠ)
ORGANIZER:Urban Pegan
RELATED-TO:fpp-AFLABS-URNIK:srecanje:541
X-WR-TIMEZONE:Europe/Ljubljana
END:VEVENT
BEGIN:VEVENT
SUMMARY:Elektronska navigacija (N) (EN)\, Laboratorijske vaje (LV)
DTSTART;TZID=Europe/Ljubljana:20251231T135000
DTEND;TZID=Europe/Ljubljana:20251231T152500
DTSTAMP:20260422T075802Z
UID:fpp-AFLABS-URNIK:premaknjeno-srecanje:19161
ATTENDEE:2. letnik (N, SS)
ATTENDEE:2. letnik (N, VS)
CATEGORIES:Entry,Standard
COLOR:darkgreen
DESCRIPTION:Predmet: Elektronska navigacija (N) (EN)\, Laboratorijske vaje
  (LV)\nLetniki: 2. letnik (N\, SS)\, 2. letnik (N\, VS)\nIzvajalci: Urban 
 Pegan\nProstor: NSIM (GEPŠ)
LOCATION:NSIM (GEPŠ)
ORGANIZER:Urban Pegan
RELATED-TO:fpp-AFLABS-URNIK:srecanje:541
X-WR-TIMEZONE:Europe/Ljubljana
END:VEVENT
BEGIN:VEVENT
SUMMARY:Elektronska navigacija (N) (EN)\, Laboratorijske vaje (LV)
DTSTART;TZID=Europe/Ljubljana:20260107T135000
DTEND;TZID=Europe/Ljubljana:20260107T152500
DTSTAMP:20260422T075802Z
UID:fpp-AFLABS-URNIK:premaknjeno-srecanje:19162
ATTENDEE:2. letnik (N, SS)
ATTENDEE:2. letnik (N, VS)
CATEGORIES:Entry,Standard
COLOR:darkgreen
DESCRIPTION:Predmet: Elektronska navigacija (N) (EN)\, Laboratorijske vaje
  (LV)\nLetniki: 2. letnik (N\, SS)\, 2. letnik (N\, VS)\nIzvajalci: Urban 
 Pegan\nProstor: NSIM (GEPŠ)
LOCATION:NSIM (GEPŠ)
ORGANIZER:Urban Pegan
RELATED-TO:fpp-AFLABS-URNIK:srecanje:541
X-WR-TIMEZONE:Europe/Ljubljana
END:VEVENT
BEGIN:VEVENT
SUMMARY:Elektronska navigacija (N) (EN)\, Laboratorijske vaje (LV)
DTSTART;TZID=Europe/Ljubljana:20260114T135000
DTEND;TZID=Europe/Ljubljana:20260114T152500
DTSTAMP:20260422T075802Z
UID:fpp-AFLABS-URNIK:premaknjeno-srecanje:19163
ATTENDEE:2. letnik (N, SS)
ATTENDEE:2. letnik (N, VS)
CATEGORIES:Entry,Standard
COLOR:darkgreen
DESCRIPTION:Predmet: Elektronska navigacija (N) (EN)\, Laboratorijske vaje
  (LV)\nLetniki: 2. letnik (N\, SS)\, 2. letnik (N\, VS)\nIzvajalci: Urban 
 Pegan\nProstor: NSIM (GEPŠ)
LOCATION:NSIM (GEPŠ)
ORGANIZER:Urban Pegan
RELATED-TO:fpp-AFLABS-URNIK:srecanje:541
X-WR-TIMEZONE:Europe/Ljubljana
END:VEVENT
BEGIN:VEVENT
SUMMARY:Terestrična navigacija (N) (TeN)\, Avditorne vaje (AV)
DTSTART;TZID=Europe/Ljubljana:20251218T121000
DTEND;TZID=Europe/Ljubljana:20251218T134500
DTSTAMP:20260422T075802Z
UID:fpp-AFLABS-URNIK:premaknjeno-srecanje:30225
ATTENDEE:1. letnik (N, SS)
ATTENDEE:1. letnik (N, VS)
CATEGORIES:Entry,Standard
COLOR:darkgreen
DESCRIPTION:Predmet: Terestrična navigacija (N) (TeN)\, Avditorne vaje (A
 V)\nLetniki: 1. letnik (N\, SS)\, 1. letnik (N\, VS)\nIzvajalci: Urban Peg
 an\nProstor: 202
LOCATION:202
ORGANIZER:Urban Pegan
RELATED-TO:fpp-AFLABS-URNIK:srecanje:792
X-WR-TIMEZONE:Europe/Ljubljana
END:VEVENT
BEGIN:VEVENT
SUMMARY:Terestrična navigacija (N) (TeN)\, Avditorne vaje (AV)
DTSTART;TZID=Europe/Ljubljana:20260108T121000
DTEND;TZID=Europe/Ljubljana:20260108T134500
DTSTAMP:20260422T075802Z
UID:fpp-AFLABS-URNIK:premaknjeno-srecanje:30226
ATTENDEE:1. letnik (N, SS)
ATTENDEE:1. letnik (N, VS)
CATEGORIES:Entry,Standard
COLOR:darkgreen
DESCRIPTION:Predmet: Terestrična navigacija (N) (TeN)\, Avditorne vaje (A
 V)\nLetniki: 1. letnik (N\, SS)\, 1. letnik (N\, VS)\nIzvajalci: Urban Peg
 an\nProstor: 202
LOCATION:202
ORGANIZER:Urban Pegan
RELATED-TO:fpp-AFLABS-URNIK:srecanje:792
X-WR-TIMEZONE:Europe/Ljubljana
END:VEVENT
BEGIN:VEVENT
SUMMARY:Terestrična navigacija (N) (TeN)\, Avditorne vaje (AV)
DTSTART;TZID=Europe/Ljubljana:20260115T121000
DTEND;TZID=Europe/Ljubljana:20260115T134500
DTSTAMP:20260422T075802Z
UID:fpp-AFLABS-URNIK:premaknjeno-srecanje:30227
ATTENDEE:1. letnik (N, SS)
ATTENDEE:1. letnik (N, VS)
CATEGORIES:Entry,Standard
COLOR:darkgreen
DESCRIPTION:Predmet: Terestrična navigacija (N) (TeN)\, Avditorne vaje (A
 V)\nLetniki: 1. letnik (N\, SS)\, 1. letnik (N\, VS)\nIzvajalci: Urban Peg
 an\nProstor: 202
LOCATION:202
ORGANIZER:Urban Pegan
RELATED-TO:fpp-AFLABS-URNIK:srecanje:792
X-WR-TIMEZONE:Europe/Ljubljana
END:VEVENT
BEGIN:VEVENT
SUMMARY:Terestrična navigacija (N) (TeN)\, Laboratorijske vaje (LV)\, [sk
  1.1]
DTSTART;TZID=Europe/Ljubljana:20251218T135000
DTEND;TZID=Europe/Ljubljana:20251218T143500
DTSTAMP:20260422T075802Z
UID:fpp-AFLABS-URNIK:premaknjeno-srecanje:30239
ATTENDEE:1. letnik (N, SS)
ATTENDEE:1. letnik (N, VS)
CATEGORIES:Entry,Standard
COLOR:darkgreen
DESCRIPTION:Predmet: Terestrična navigacija (N) (TeN)\, Laboratorijske va
 je (LV)\, [sk 1.1]\nLetniki: 1. letnik (N\, SS)\, 1. letnik (N\, VS)\nIzva
 jalci: Urban Pegan\nProstor: 202
LOCATION:202
ORGANIZER:Urban Pegan
RELATED-TO:fpp-AFLABS-URNIK:srecanje:793
X-WR-TIMEZONE:Europe/Ljubljana
END:VEVENT
BEGIN:VEVENT
SUMMARY:Terestrična navigacija (N) (TeN)\, Laboratorijske vaje (LV)\, [sk
  1.1]
DTSTART;TZID=Europe/Ljubljana:20260108T135000
DTEND;TZID=Europe/Ljubljana:20260108T143500
DTSTAMP:20260422T075802Z
UID:fpp-AFLABS-URNIK:premaknjeno-srecanje:30240
ATTENDEE:1. letnik (N, SS)
ATTENDEE:1. letnik (N, VS)
CATEGORIES:Entry,Standard
COLOR:darkgreen
DESCRIPTION:Predmet: Terestrična navigacija (N) (TeN)\, Laboratorijske va
 je (LV)\, [sk 1.1]\nLetniki: 1. letnik (N\, SS)\, 1. letnik (N\, VS)\nIzva
 jalci: Urban Pegan\nProstor: 202
LOCATION:202
ORGANIZER:Urban Pegan
RELATED-TO:fpp-AFLABS-URNIK:srecanje:793
X-WR-TIMEZONE:Europe/Ljubljana
END:VEVENT
BEGIN:VEVENT
SUMMARY:Terestrična navigacija (N) (TeN)\, Laboratorijske vaje (LV)\, [sk
  1.1]
DTSTART;TZID=Europe/Ljubljana:20260115T135000
DTEND;TZID=Europe/Ljubljana:20260115T143500
DTSTAMP:20260422T075802Z
UID:fpp-AFLABS-URNIK:premaknjeno-srecanje:30241
ATTENDEE:1. letnik (N, SS)
ATTENDEE:1. letnik (N, VS)
CATEGORIES:Entry,Standard
COLOR:darkgreen
DESCRIPTION:Predmet: Terestrična navigacija (N) (TeN)\, Laboratorijske va
 je (LV)\, [sk 1.1]\nLetniki: 1. letnik (N\, SS)\, 1. letnik (N\, VS)\nIzva
 jalci: Urban Pegan\nProstor: 202
LOCATION:202
ORGANIZER:Urban Pegan
RELATED-TO:fpp-AFLABS-URNIK:srecanje:793
X-WR-TIMEZONE:Europe/Ljubljana
END:VEVENT
BEGIN:VEVENT
SUMMARY:Terestrična navigacija (N) (TeN)\, Laboratorijske vaje (LV)\, [sk
  1.2]
DTSTART;TZID=Europe/Ljubljana:20251218T144000
DTEND;TZID=Europe/Ljubljana:20251218T152500
DTSTAMP:20260422T075802Z
UID:fpp-AFLABS-URNIK:premaknjeno-srecanje:30253
ATTENDEE:1. letnik (N, SS)
ATTENDEE:1. letnik (N, VS)
CATEGORIES:Entry,Standard
COLOR:darkgreen
DESCRIPTION:Predmet: Terestrična navigacija (N) (TeN)\, Laboratorijske va
 je (LV)\, [sk 1.2]\nLetniki: 1. letnik (N\, SS)\, 1. letnik (N\, VS)\nIzva
 jalci: Urban Pegan\nProstor: 202
LOCATION:202
ORGANIZER:Urban Pegan
RELATED-TO:fpp-AFLABS-URNIK:srecanje:794
X-WR-TIMEZONE:Europe/Ljubljana
END:VEVENT
BEGIN:VEVENT
SUMMARY:Terestrična navigacija (N) (TeN)\, Laboratorijske vaje (LV)\, [sk
  1.2]
DTSTART;TZID=Europe/Ljubljana:20260108T144000
DTEND;TZID=Europe/Ljubljana:20260108T152500
DTSTAMP:20260422T075802Z
UID:fpp-AFLABS-URNIK:premaknjeno-srecanje:30254
ATTENDEE:1. letnik (N, SS)
ATTENDEE:1. letnik (N, VS)
CATEGORIES:Entry,Standard
COLOR:darkgreen
DESCRIPTION:Predmet: Terestrična navigacija (N) (TeN)\, Laboratorijske va
 je (LV)\, [sk 1.2]\nLetniki: 1. letnik (N\, SS)\, 1. letnik (N\, VS)\nIzva
 jalci: Urban Pegan\nProstor: 202
LOCATION:202
ORGANIZER:Urban Pegan
RELATED-TO:fpp-AFLABS-URNIK:srecanje:794
X-WR-TIMEZONE:Europe/Ljubljana
END:VEVENT
BEGIN:VEVENT
SUMMARY:Terestrična navigacija (N) (TeN)\, Laboratorijske vaje (LV)\, [sk
  1.2]
DTSTART;TZID=Europe/Ljubljana:20260115T144000
DTEND;TZID=Europe/Ljubljana:20260115T152500
DTSTAMP:20260422T075802Z
UID:fpp-AFLABS-URNIK:premaknjeno-srecanje:30255
ATTENDEE:1. letnik (N, SS)
ATTENDEE:1. letnik (N, VS)
CATEGORIES:Entry,Standard
COLOR:darkgreen
DESCRIPTION:Predmet: Terestrična navigacija (N) (TeN)\, Laboratorijske va
 je (LV)\, [sk 1.2]\nLetniki: 1. letnik (N\, SS)\, 1. letnik (N\, VS)\nIzva
 jalci: Urban Pegan\nProstor: 202
LOCATION:202
ORGANIZER:Urban Pegan
RELATED-TO:fpp-AFLABS-URNIK:srecanje:794
X-WR-TIMEZONE:Europe/Ljubljana
END:VEVENT
BEGIN:VEVENT
SUMMARY:Vodenje navigacijske straže (N) (VNS)\, Avditorne vaje (AV)
DTSTART;TZID=Europe/Ljubljana:20260217T121000
DTEND;TZID=Europe/Ljubljana:20260217T125500
DTSTAMP:20260422T075802Z
UID:fpp-AFLABS-URNIK:premaknjeno-srecanje:24226
ATTENDEE:2. letnik (N, SS)
ATTENDEE:2. letnik (N, VS)
CATEGORIES:Entry,Standard
COLOR:darkgreen
DESCRIPTION:Predmet: Vodenje navigacijske straže (N) (VNS)\, Avditorne va
 je (AV)\nLetniki: 2. letnik (N\, SS)\, 2. letnik (N\, VS)\nIzvajalci: Urba
 n Pegan\nProstor: NE1
LOCATION:NE1
ORGANIZER:Urban Pegan
RELATED-TO:fpp-AFLABS-URNIK:srecanje:1092
X-WR-TIMEZONE:Europe/Ljubljana
END:VEVENT
BEGIN:VEVENT
SUMMARY:Varnost na ladji (N) (VL)\, Avditorne vaje (AV)
DTSTART;TZID=Europe/Ljubljana:20260218T112000
DTEND;TZID=Europe/Ljubljana:20260218T125500
DTSTAMP:20260422T075802Z
UID:fpp-AFLABS-URNIK:premaknjeno-srecanje:23907
ATTENDEE:2. letnik (N, VS)
ATTENDEE:3. letnik (N, SS)
CATEGORIES:Entry,Standard
COLOR:darkgreen
DESCRIPTION:Predmet: Varnost na ladji (N) (VL)\, Avditorne vaje (AV)\nLetn
 iki: 3. letnik (N\, SS)\, 2. letnik (N\, VS)\nIzvajalci: Urban Pegan\nPros
 tor: NE1
LOCATION:NE1
ORGANIZER:Urban Pegan
RELATED-TO:fpp-AFLABS-URNIK:srecanje:1072
X-WR-TIMEZONE:Europe/Ljubljana
END:VEVENT
BEGIN:VEVENT
SUMMARY:Varnost na ladji (PS) (VL)\, Avditorne vaje (AV)
DTSTART;TZID=Europe/Ljubljana:20260218T135000
DTEND;TZID=Europe/Ljubljana:20260218T152500
DTSTAMP:20260422T075802Z
UID:fpp-AFLABS-URNIK:premaknjeno-srecanje:23971
ATTENDEE:2. letnik (PS, VS)
ATTENDEE:3. letnik (PS, SS)
CATEGORIES:Entry,Standard
COLOR:darkgreen
DESCRIPTION:Predmet: Varnost na ladji (PS) (VL)\, Avditorne vaje (AV)\nLet
 niki: 3. letnik (PS\, SS)\, 2. letnik (PS\, VS)\nIzvajalci: Urban Pegan\nP
 rostor: NE1
LOCATION:NE1
ORGANIZER:Urban Pegan
RELATED-TO:fpp-AFLABS-URNIK:srecanje:1076
X-WR-TIMEZONE:Europe/Ljubljana
END:VEVENT
BEGIN:VEVENT
SUMMARY:Astronomska navigacija (N) (AsN)\, Laboratorijske vaje (LV)
DTSTART;TZID=Europe/Ljubljana:20260219T112000
DTEND;TZID=Europe/Ljubljana:20260219T125500
DTSTAMP:20260422T075802Z
UID:fpp-AFLABS-URNIK:premaknjeno-srecanje:21163
ATTENDEE:1. letnik (N, SS)
ATTENDEE:1. letnik (N, VS)
CATEGORIES:Entry,Standard
COLOR:darkgreen
DESCRIPTION:Predmet: Astronomska navigacija (N) (AsN)\, Laboratorijske vaj
 e (LV)\nLetniki: 1. letnik (N\, SS)\, 1. letnik (N\, VS)\nIzvajalci: Urban
  Pegan\nProstor: NE1
LOCATION:NE1
ORGANIZER:Urban Pegan
RELATED-TO:fpp-AFLABS-URNIK:srecanje:896
X-WR-TIMEZONE:Europe/Ljubljana
END:VEVENT
BEGIN:VEVENT
SUMMARY:Astronomska navigacija (N) (AsN)\, Laboratorijske vaje (LV)
DTSTART;TZID=Europe/Ljubljana:20260219T130000
DTEND;TZID=Europe/Ljubljana:20260219T143500
DTSTAMP:20260422T075802Z
UID:fpp-AFLABS-URNIK:premaknjeno-srecanje:21178
ATTENDEE:1. letnik (N, SS)
ATTENDEE:1. letnik (N, VS)
CATEGORIES:Entry,Standard
COLOR:darkgreen
DESCRIPTION:Predmet: Astronomska navigacija (N) (AsN)\, Laboratorijske vaj
 e (LV)\nLetniki: 1. letnik (N\, SS)\, 1. letnik (N\, VS)\nIzvajalci: Urban
  Pegan\nProstor: NE1
LOCATION:NE1
ORGANIZER:Urban Pegan
RELATED-TO:fpp-AFLABS-URNIK:srecanje:897
X-WR-TIMEZONE:Europe/Ljubljana
END:VEVENT
BEGIN:VEVENT
SUMMARY:Vabilo na Pomlad na Japonskem
DTSTART;TZID=Europe/Ljubljana:20260204T120000
DTEND;TZID=Europe/Ljubljana:20260204T133000
DTSTAMP:20260422T075802Z
UID:fpp-AFLABS-URNIK:rezervacija:112
CATEGORIES:Reservation
COLOR:royalblue
DESCRIPTION:Predmeti: \nLetniki: \nIzvajalci: Franc Dimc\, Urban Pegan\nPr
 ostori: 204
LOCATION:204
ORGANIZER:Franc Dimc, Urban Pegan
X-WR-TIMEZONE:Europe/Ljubljana
END:VEVENT
END:VCALENDAR
