BEGIN:VCALENDAR
VERSION:2.0
PRODID:-//AFLabs urnik izvoz - fpp//aflabs.si//SI
DTSTAMP:20260422T091215Z
NAME:UL FPP Urnik
REFRESH-INTERVAL:PT1H
SOURCE:https://afurnik-fpp.dev.aflabs.org/en/teacher/7?day=2025-06-23&expo
 rt=1
URL:https://afurnik-fpp.dev.aflabs.org/en/teacher/7?day=2025-06-23&export=
 1
X-PUBLISHED-TTL:PT1H
X-WR-CALNAME:UL FPP Urnik
X-WR-TIMEZONE:Europe/Ljubljana
BEGIN:VTIMEZONE
TZID:Europe/Ljubljana
BEGIN:DAYLIGHT
DTSTART:20260329T020000
RDATE:20260329T020000
RDATE:20270328T020000
TZNAME:CEST
TZOFFSETFROM:+0100
TZOFFSETTO:+0200
END:DAYLIGHT
BEGIN:STANDARD
DTSTART:20261025T030000
RDATE:20261025T030000
RDATE:20271031T030000
TZNAME:CET
TZOFFSETFROM:+0200
TZOFFSETTO:+0100
END:STANDARD
END:VTIMEZONE
BEGIN:VEVENT
SUMMARY:Intermodalni terminali (PROM2) (InT)\, Predavanje (P)
DTSTART;TZID=Europe/Ljubljana:20250519T162000
DTEND;TZID=Europe/Ljubljana:20250519T184500
DTSTAMP:20260422T091215Z
UID:fpp-AFLABS-URNIK:premaknjeno-srecanje:5690
ATTENDEE:1. letnik (PROM2)
CATEGORIES:Entry,Standard
COLOR:darkgreen
DESCRIPTION:Predmet: Intermodalni terminali (PROM2) (InT)\, Predavanje (P)
 \nLetniki: 1. letnik (PROM2)\nIzvajalci: Bojan Beškovnik\nProstor: 205
LOCATION:205
ORGANIZER:Bojan Beškovnik
RELATED-TO:fpp-AFLABS-URNIK:srecanje:360
X-WR-TIMEZONE:Europe/Ljubljana
END:VEVENT
BEGIN:VEVENT
SUMMARY:Intermodalni terminali (PROM2) (InT)\, Predavanje (P)
DTSTART;TZID=Europe/Ljubljana:20250526T162000
DTEND;TZID=Europe/Ljubljana:20250526T184500
DTSTAMP:20260422T091215Z
UID:fpp-AFLABS-URNIK:premaknjeno-srecanje:5691
ATTENDEE:1. letnik (PROM2)
CATEGORIES:Entry,Standard
COLOR:darkgreen
DESCRIPTION:Predmet: Intermodalni terminali (PROM2) (InT)\, Predavanje (P)
 \nLetniki: 1. letnik (PROM2)\nIzvajalci: Bojan Beškovnik\nProstor: 205
LOCATION:205
ORGANIZER:Bojan Beškovnik
RELATED-TO:fpp-AFLABS-URNIK:srecanje:360
X-WR-TIMEZONE:Europe/Ljubljana
END:VEVENT
BEGIN:VEVENT
SUMMARY:Intermodalni terminali (PROM2) (InT)\, Predavanje (P)
DTSTART;TZID=Europe/Ljubljana:20250602T162000
DTEND;TZID=Europe/Ljubljana:20250602T184500
DTSTAMP:20260422T091215Z
UID:fpp-AFLABS-URNIK:premaknjeno-srecanje:5692
ATTENDEE:1. letnik (PROM2)
CATEGORIES:Entry,Standard
COLOR:darkgreen
DESCRIPTION:Predmet: Intermodalni terminali (PROM2) (InT)\, Predavanje (P)
 \nLetniki: 1. letnik (PROM2)\nIzvajalci: Bojan Beškovnik\nProstor: 205
LOCATION:205
ORGANIZER:Bojan Beškovnik
RELATED-TO:fpp-AFLABS-URNIK:srecanje:360
X-WR-TIMEZONE:Europe/Ljubljana
END:VEVENT
BEGIN:VEVENT
SUMMARY:Intermodalni terminali (PROM2) (InT)\, Seminar (S)
DTSTART;TZID=Europe/Ljubljana:20250519T185000
DTEND;TZID=Europe/Ljubljana:20250519T202500
DTSTAMP:20260422T091215Z
UID:fpp-AFLABS-URNIK:premaknjeno-srecanje:5705
ATTENDEE:1. letnik (PROM2)
CATEGORIES:Entry,Standard
COLOR:darkgreen
DESCRIPTION:Predmet: Intermodalni terminali (PROM2) (InT)\, Seminar (S)\nL
 etniki: 1. letnik (PROM2)\nIzvajalci: Bojan Beškovnik\nProstor: 205
LOCATION:205
ORGANIZER:Bojan Beškovnik
RELATED-TO:fpp-AFLABS-URNIK:srecanje:365
X-WR-TIMEZONE:Europe/Ljubljana
END:VEVENT
BEGIN:VEVENT
SUMMARY:Intermodalni terminali (PROM2) (InT)\, Seminar (S)
DTSTART;TZID=Europe/Ljubljana:20250526T185000
DTEND;TZID=Europe/Ljubljana:20250526T202500
DTSTAMP:20260422T091215Z
UID:fpp-AFLABS-URNIK:premaknjeno-srecanje:5706
ATTENDEE:1. letnik (PROM2)
CATEGORIES:Entry,Standard
COLOR:darkgreen
DESCRIPTION:Predmet: Intermodalni terminali (PROM2) (InT)\, Seminar (S)\nL
 etniki: 1. letnik (PROM2)\nIzvajalci: Bojan Beškovnik\nProstor: 205
LOCATION:205
ORGANIZER:Bojan Beškovnik
RELATED-TO:fpp-AFLABS-URNIK:srecanje:365
X-WR-TIMEZONE:Europe/Ljubljana
END:VEVENT
BEGIN:VEVENT
SUMMARY:Intermodalni terminali (PROM2) (InT)\, Seminar (S)
DTSTART;TZID=Europe/Ljubljana:20250602T185000
DTEND;TZID=Europe/Ljubljana:20250602T202500
DTSTAMP:20260422T091215Z
UID:fpp-AFLABS-URNIK:premaknjeno-srecanje:5707
ATTENDEE:1. letnik (PROM2)
CATEGORIES:Entry,Standard
COLOR:darkgreen
DESCRIPTION:Predmet: Intermodalni terminali (PROM2) (InT)\, Seminar (S)\nL
 etniki: 1. letnik (PROM2)\nIzvajalci: Bojan Beškovnik\nProstor: 205
LOCATION:205
ORGANIZER:Bojan Beškovnik
RELATED-TO:fpp-AFLABS-URNIK:srecanje:365
X-WR-TIMEZONE:Europe/Ljubljana
END:VEVENT
BEGIN:VEVENT
SUMMARY:Tehnologija prometa (TPL-U) (TP)\, Predavanje (P)
DTSTART;TZID=Europe/Ljubljana:20250521T085000
DTEND;TZID=Europe/Ljubljana:20250521T111500
DTSTAMP:20260422T091215Z
UID:fpp-AFLABS-URNIK:premaknjeno-srecanje:7460
ATTENDEE:2. letnik (TPL-U)
CATEGORIES:Entry,Standard
COLOR:darkgreen
DESCRIPTION:Predmet: Tehnologija prometa (TPL-U) (TP)\, Predavanje (P)\nLe
 tniki: 2. letnik (TPL-U)\nIzvajalci: Bojan Beškovnik\nProstor: 204
LOCATION:204
ORGANIZER:Bojan Beškovnik
RELATED-TO:fpp-AFLABS-URNIK:srecanje:423
X-WR-TIMEZONE:Europe/Ljubljana
END:VEVENT
BEGIN:VEVENT
SUMMARY:Tehnologija prometa (TPL-U) (TP)\, Predavanje (P)
DTSTART;TZID=Europe/Ljubljana:20250528T085000
DTEND;TZID=Europe/Ljubljana:20250528T111500
DTSTAMP:20260422T091215Z
UID:fpp-AFLABS-URNIK:premaknjeno-srecanje:7461
ATTENDEE:2. letnik (TPL-U)
CATEGORIES:Entry,Standard
COLOR:darkgreen
DESCRIPTION:Predmet: Tehnologija prometa (TPL-U) (TP)\, Predavanje (P)\nLe
 tniki: 2. letnik (TPL-U)\nIzvajalci: Bojan Beškovnik\nProstor: 204
LOCATION:204
ORGANIZER:Bojan Beškovnik
RELATED-TO:fpp-AFLABS-URNIK:srecanje:423
X-WR-TIMEZONE:Europe/Ljubljana
END:VEVENT
BEGIN:VEVENT
SUMMARY:Tehnologija prometa (TPL-U) (TP)\, Predavanje (P)
DTSTART;TZID=Europe/Ljubljana:20250604T085000
DTEND;TZID=Europe/Ljubljana:20250604T111500
DTSTAMP:20260422T091215Z
UID:fpp-AFLABS-URNIK:premaknjeno-srecanje:7462
ATTENDEE:2. letnik (TPL-U)
CATEGORIES:Entry,Standard
COLOR:darkgreen
DESCRIPTION:Predmet: Tehnologija prometa (TPL-U) (TP)\, Predavanje (P)\nLe
 tniki: 2. letnik (TPL-U)\nIzvajalci: Bojan Beškovnik\nProstor: 204
LOCATION:204
ORGANIZER:Bojan Beškovnik
RELATED-TO:fpp-AFLABS-URNIK:srecanje:423
X-WR-TIMEZONE:Europe/Ljubljana
END:VEVENT
BEGIN:VEVENT
SUMMARY:Tehnologija prometa (TPL-U) (TP)\, Seminar (S)
DTSTART;TZID=Europe/Ljubljana:20250521T112000
DTEND;TZID=Europe/Ljubljana:20250521T120500
DTSTAMP:20260422T091215Z
UID:fpp-AFLABS-URNIK:premaknjeno-srecanje:7475
ATTENDEE:2. letnik (TPL-U)
CATEGORIES:Entry,Standard
COLOR:darkgreen
DESCRIPTION:Predmet: Tehnologija prometa (TPL-U) (TP)\, Seminar (S)\nLetni
 ki: 2. letnik (TPL-U)\nIzvajalci: Bojan Beškovnik\nProstor: 204
LOCATION:204
ORGANIZER:Bojan Beškovnik
RELATED-TO:fpp-AFLABS-URNIK:srecanje:431
X-WR-TIMEZONE:Europe/Ljubljana
END:VEVENT
BEGIN:VEVENT
SUMMARY:Tehnologija prometa (TPL-U) (TP)\, Seminar (S)
DTSTART;TZID=Europe/Ljubljana:20250528T112000
DTEND;TZID=Europe/Ljubljana:20250528T120500
DTSTAMP:20260422T091215Z
UID:fpp-AFLABS-URNIK:premaknjeno-srecanje:7476
ATTENDEE:2. letnik (TPL-U)
CATEGORIES:Entry,Standard
COLOR:darkgreen
DESCRIPTION:Predmet: Tehnologija prometa (TPL-U) (TP)\, Seminar (S)\nLetni
 ki: 2. letnik (TPL-U)\nIzvajalci: Bojan Beškovnik\nProstor: 204
LOCATION:204
ORGANIZER:Bojan Beškovnik
RELATED-TO:fpp-AFLABS-URNIK:srecanje:431
X-WR-TIMEZONE:Europe/Ljubljana
END:VEVENT
BEGIN:VEVENT
SUMMARY:Tehnologija prometa (TPL-U) (TP)\, Seminar (S)
DTSTART;TZID=Europe/Ljubljana:20250604T112000
DTEND;TZID=Europe/Ljubljana:20250604T120500
DTSTAMP:20260422T091215Z
UID:fpp-AFLABS-URNIK:premaknjeno-srecanje:7477
ATTENDEE:2. letnik (TPL-U)
CATEGORIES:Entry,Standard
COLOR:darkgreen
DESCRIPTION:Predmet: Tehnologija prometa (TPL-U) (TP)\, Seminar (S)\nLetni
 ki: 2. letnik (TPL-U)\nIzvajalci: Bojan Beškovnik\nProstor: 204
LOCATION:204
ORGANIZER:Bojan Beškovnik
RELATED-TO:fpp-AFLABS-URNIK:srecanje:431
X-WR-TIMEZONE:Europe/Ljubljana
END:VEVENT
BEGIN:VEVENT
SUMMARY:Teorija logistike in oskrbovalnih verig (TPL-U) (TLOV)\, Predavanj
 e (P)
DTSTART;TZID=Europe/Ljubljana:20250522T085000
DTEND;TZID=Europe/Ljubljana:20250522T111500
DTSTAMP:20260422T091215Z
UID:fpp-AFLABS-URNIK:premaknjeno-srecanje:7535
ATTENDEE:2. letnik (TPL-U)
CATEGORIES:Entry,Standard
COLOR:darkgreen
DESCRIPTION:Predmet: Teorija logistike in oskrbovalnih verig (TPL-U) (TLOV
 )\, Predavanje (P)\nLetniki: 2. letnik (TPL-U)\nIzvajalci: Bojan Beškovni
 k\nProstor: 204
LOCATION:204
ORGANIZER:Bojan Beškovnik
RELATED-TO:fpp-AFLABS-URNIK:srecanje:424
X-WR-TIMEZONE:Europe/Ljubljana
END:VEVENT
BEGIN:VEVENT
SUMMARY:Teorija logistike in oskrbovalnih verig (TPL-U) (TLOV)\, Predavanj
 e (P)
DTSTART;TZID=Europe/Ljubljana:20250529T085000
DTEND;TZID=Europe/Ljubljana:20250529T111500
DTSTAMP:20260422T091215Z
UID:fpp-AFLABS-URNIK:premaknjeno-srecanje:7536
ATTENDEE:2. letnik (TPL-U)
CATEGORIES:Entry,Standard
COLOR:darkgreen
DESCRIPTION:Predmet: Teorija logistike in oskrbovalnih verig (TPL-U) (TLOV
 )\, Predavanje (P)\nLetniki: 2. letnik (TPL-U)\nIzvajalci: Bojan Beškovni
 k\nProstor: 204
LOCATION:204
ORGANIZER:Bojan Beškovnik
RELATED-TO:fpp-AFLABS-URNIK:srecanje:424
X-WR-TIMEZONE:Europe/Ljubljana
END:VEVENT
BEGIN:VEVENT
SUMMARY:Teorija logistike in oskrbovalnih verig (TPL-U) (TLOV)\, Predavanj
 e (P)
DTSTART;TZID=Europe/Ljubljana:20250605T085000
DTEND;TZID=Europe/Ljubljana:20250605T111500
DTSTAMP:20260422T091215Z
UID:fpp-AFLABS-URNIK:premaknjeno-srecanje:7537
ATTENDEE:2. letnik (TPL-U)
CATEGORIES:Entry,Standard
COLOR:darkgreen
DESCRIPTION:Predmet: Teorija logistike in oskrbovalnih verig (TPL-U) (TLOV
 )\, Predavanje (P)\nLetniki: 2. letnik (TPL-U)\nIzvajalci: Bojan Beškovni
 k\nProstor: 204
LOCATION:204
ORGANIZER:Bojan Beškovnik
RELATED-TO:fpp-AFLABS-URNIK:srecanje:424
X-WR-TIMEZONE:Europe/Ljubljana
END:VEVENT
END:VCALENDAR
