BEGIN:VCALENDAR
VERSION:2.0
PRODID:-//AFLabs urnik izvoz - fpp//aflabs.si//SI
DTSTAMP:20260422T053631Z
NAME:UL FPP Urnik
REFRESH-INTERVAL:PT1H
SOURCE:https://afurnik-fpp.dev.aflabs.org/en/teacher/9?day=2026-02-09&expo
 rt=1
URL:https://afurnik-fpp.dev.aflabs.org/en/teacher/9?day=2026-02-09&export=
 1
X-PUBLISHED-TTL:PT1H
X-WR-CALNAME:UL FPP Urnik
X-WR-TIMEZONE:Europe/Ljubljana
BEGIN:VTIMEZONE
TZID:Europe/Ljubljana
BEGIN:DAYLIGHT
DTSTART:20260329T020000
RDATE:20260329T020000
RDATE:20270328T020000
TZNAME:CEST
TZOFFSETFROM:+0100
TZOFFSETTO:+0200
END:DAYLIGHT
BEGIN:STANDARD
DTSTART:20261025T030000
RDATE:20261025T030000
RDATE:20271031T030000
TZNAME:CET
TZOFFSETFROM:+0200
TZOFFSETTO:+0100
END:STANDARD
END:VTIMEZONE
BEGIN:VEVENT
SUMMARY:Ladijske komunikacijske naprave (N) (LKN)\, Predavanje (P)
DTSTART;TZID=Europe/Ljubljana:20260105T085000
DTEND;TZID=Europe/Ljubljana:20260105T102500
DTSTAMP:20260422T053631Z
UID:fpp-AFLABS-URNIK:premaknjeno-srecanje:19798
ATTENDEE:3. letnik (N, SS)
ATTENDEE:3. letnik (N, VS)
CATEGORIES:Entry,Standard
COLOR:darkgreen
DESCRIPTION:Predmet: Ladijske komunikacijske naprave (N) (LKN)\, Predavanj
 e (P)\nLetniki: 3. letnik (N\, SS)\, 3. letnik (N\, VS)\nIzvajalci: Tanja 
 Brcko Satler\nProstor: PO1
LOCATION:PO1
ORGANIZER:Tanja Brcko Satler
RELATED-TO:fpp-AFLABS-URNIK:srecanje:584
X-WR-TIMEZONE:Europe/Ljubljana
END:VEVENT
BEGIN:VEVENT
SUMMARY:Ladijske komunikacijske naprave (N) (LKN)\, Predavanje (P)
DTSTART;TZID=Europe/Ljubljana:20260112T085000
DTEND;TZID=Europe/Ljubljana:20260112T102500
DTSTAMP:20260422T053631Z
UID:fpp-AFLABS-URNIK:premaknjeno-srecanje:19799
ATTENDEE:3. letnik (N, SS)
ATTENDEE:3. letnik (N, VS)
CATEGORIES:Entry,Standard
COLOR:darkgreen
DESCRIPTION:Predmet: Ladijske komunikacijske naprave (N) (LKN)\, Predavanj
 e (P)\nLetniki: 3. letnik (N\, SS)\, 3. letnik (N\, VS)\nIzvajalci: Tanja 
 Brcko Satler\nProstor: PO1
LOCATION:PO1
ORGANIZER:Tanja Brcko Satler
RELATED-TO:fpp-AFLABS-URNIK:srecanje:584
X-WR-TIMEZONE:Europe/Ljubljana
END:VEVENT
BEGIN:VEVENT
SUMMARY:Ro-Ro in potniške ladje (PS) (RORO)\, Seminar (S)
DTSTART;TZID=Europe/Ljubljana:20260105T153000
DTEND;TZID=Europe/Ljubljana:20260105T161500
DTSTAMP:20260422T053631Z
UID:fpp-AFLABS-URNIK:premaknjeno-srecanje:20122
ATTENDEE:3. letnik (PS, SS)
ATTENDEE:3. letnik (PS, VS)
CATEGORIES:Entry,Standard
COLOR:darkgreen
DESCRIPTION:Predmet: Ro-Ro in potniške ladje (PS) (RORO)\, Seminar (S)\nL
 etniki: 3. letnik (PS\, SS)\, 3. letnik (PS\, VS)\nIzvajalci: Tanja Brcko 
 Satler\nProstor: PO2
LOCATION:PO2
ORGANIZER:Tanja Brcko Satler
RELATED-TO:fpp-AFLABS-URNIK:srecanje:747
X-WR-TIMEZONE:Europe/Ljubljana
END:VEVENT
BEGIN:VEVENT
SUMMARY:Ro-Ro in potniške ladje (PS) (RORO)\, Seminar (S)
DTSTART;TZID=Europe/Ljubljana:20260112T153000
DTEND;TZID=Europe/Ljubljana:20260112T161500
DTSTAMP:20260422T053631Z
UID:fpp-AFLABS-URNIK:premaknjeno-srecanje:20123
ATTENDEE:3. letnik (PS, SS)
ATTENDEE:3. letnik (PS, VS)
CATEGORIES:Entry,Standard
COLOR:darkgreen
DESCRIPTION:Predmet: Ro-Ro in potniške ladje (PS) (RORO)\, Seminar (S)\nL
 etniki: 3. letnik (PS\, SS)\, 3. letnik (PS\, VS)\nIzvajalci: Tanja Brcko 
 Satler\nProstor: PO2
LOCATION:PO2
ORGANIZER:Tanja Brcko Satler
RELATED-TO:fpp-AFLABS-URNIK:srecanje:747
X-WR-TIMEZONE:Europe/Ljubljana
END:VEVENT
BEGIN:VEVENT
SUMMARY:Ro-Ro in potniške ladje (N) (RORO)\, Seminar (S)
DTSTART;TZID=Europe/Ljubljana:20260105T153000
DTEND;TZID=Europe/Ljubljana:20260105T161500
DTSTAMP:20260422T053631Z
UID:fpp-AFLABS-URNIK:premaknjeno-srecanje:20137
ATTENDEE:3. letnik (N, SS)
ATTENDEE:3. letnik (N, VS)
CATEGORIES:Entry,Standard
COLOR:darkgreen
DESCRIPTION:Predmet: Ro-Ro in potniške ladje (N) (RORO)\, Seminar (S)\nLe
 tniki: 3. letnik (N\, SS)\, 3. letnik (N\, VS)\nIzvajalci: Tanja Brcko Sat
 ler\nProstor: PO2
LOCATION:PO2
ORGANIZER:Tanja Brcko Satler
RELATED-TO:fpp-AFLABS-URNIK:srecanje:744
X-WR-TIMEZONE:Europe/Ljubljana
END:VEVENT
BEGIN:VEVENT
SUMMARY:Ro-Ro in potniške ladje (N) (RORO)\, Seminar (S)
DTSTART;TZID=Europe/Ljubljana:20260112T153000
DTEND;TZID=Europe/Ljubljana:20260112T161500
DTSTAMP:20260422T053631Z
UID:fpp-AFLABS-URNIK:premaknjeno-srecanje:20138
ATTENDEE:3. letnik (N, SS)
ATTENDEE:3. letnik (N, VS)
CATEGORIES:Entry,Standard
COLOR:darkgreen
DESCRIPTION:Predmet: Ro-Ro in potniške ladje (N) (RORO)\, Seminar (S)\nLe
 tniki: 3. letnik (N\, SS)\, 3. letnik (N\, VS)\nIzvajalci: Tanja Brcko Sat
 ler\nProstor: PO2
LOCATION:PO2
ORGANIZER:Tanja Brcko Satler
RELATED-TO:fpp-AFLABS-URNIK:srecanje:744
X-WR-TIMEZONE:Europe/Ljubljana
END:VEVENT
BEGIN:VEVENT
SUMMARY:Ro-Ro in potniške ladje (N) (RORO)\, Predavanje (P)
DTSTART;TZID=Europe/Ljubljana:20260105T130000
DTEND;TZID=Europe/Ljubljana:20260105T152500
DTSTAMP:20260422T053631Z
UID:fpp-AFLABS-URNIK:premaknjeno-srecanje:20152
ATTENDEE:3. letnik (N, SS)
ATTENDEE:3. letnik (N, VS)
CATEGORIES:Entry,Standard
COLOR:darkgreen
DESCRIPTION:Predmet: Ro-Ro in potniške ladje (N) (RORO)\, Predavanje (P)\
 nLetniki: 3. letnik (N\, SS)\, 3. letnik (N\, VS)\nIzvajalci: Tanja Brcko 
 Satler\nProstor: PO2
LOCATION:PO2
ORGANIZER:Tanja Brcko Satler
RELATED-TO:fpp-AFLABS-URNIK:srecanje:743
X-WR-TIMEZONE:Europe/Ljubljana
END:VEVENT
BEGIN:VEVENT
SUMMARY:Ro-Ro in potniške ladje (N) (RORO)\, Predavanje (P)
DTSTART;TZID=Europe/Ljubljana:20260112T130000
DTEND;TZID=Europe/Ljubljana:20260112T152500
DTSTAMP:20260422T053631Z
UID:fpp-AFLABS-URNIK:premaknjeno-srecanje:20153
ATTENDEE:3. letnik (N, SS)
ATTENDEE:3. letnik (N, VS)
CATEGORIES:Entry,Standard
COLOR:darkgreen
DESCRIPTION:Predmet: Ro-Ro in potniške ladje (N) (RORO)\, Predavanje (P)\
 nLetniki: 3. letnik (N\, SS)\, 3. letnik (N\, VS)\nIzvajalci: Tanja Brcko 
 Satler\nProstor: PO2
LOCATION:PO2
ORGANIZER:Tanja Brcko Satler
RELATED-TO:fpp-AFLABS-URNIK:srecanje:743
X-WR-TIMEZONE:Europe/Ljubljana
END:VEVENT
BEGIN:VEVENT
SUMMARY:Ro-Ro in potniške ladje (PS) (RORO)\, Predavanje (P)
DTSTART;TZID=Europe/Ljubljana:20260105T130000
DTEND;TZID=Europe/Ljubljana:20260105T152500
DTSTAMP:20260422T053631Z
UID:fpp-AFLABS-URNIK:premaknjeno-srecanje:20167
ATTENDEE:3. letnik (PS, SS)
ATTENDEE:3. letnik (PS, VS)
CATEGORIES:Entry,Standard
COLOR:darkgreen
DESCRIPTION:Predmet: Ro-Ro in potniške ladje (PS) (RORO)\, Predavanje (P)
 \nLetniki: 3. letnik (PS\, SS)\, 3. letnik (PS\, VS)\nIzvajalci: Tanja Brc
 ko Satler\nProstor: PO2
LOCATION:PO2
ORGANIZER:Tanja Brcko Satler
RELATED-TO:fpp-AFLABS-URNIK:srecanje:746
X-WR-TIMEZONE:Europe/Ljubljana
END:VEVENT
BEGIN:VEVENT
SUMMARY:Ro-Ro in potniške ladje (PS) (RORO)\, Predavanje (P)
DTSTART;TZID=Europe/Ljubljana:20260112T130000
DTEND;TZID=Europe/Ljubljana:20260112T152500
DTSTAMP:20260422T053631Z
UID:fpp-AFLABS-URNIK:premaknjeno-srecanje:20168
ATTENDEE:3. letnik (PS, SS)
ATTENDEE:3. letnik (PS, VS)
CATEGORIES:Entry,Standard
COLOR:darkgreen
DESCRIPTION:Predmet: Ro-Ro in potniške ladje (PS) (RORO)\, Predavanje (P)
 \nLetniki: 3. letnik (PS\, SS)\, 3. letnik (PS\, VS)\nIzvajalci: Tanja Brc
 ko Satler\nProstor: PO2
LOCATION:PO2
ORGANIZER:Tanja Brcko Satler
RELATED-TO:fpp-AFLABS-URNIK:srecanje:746
X-WR-TIMEZONE:Europe/Ljubljana
END:VEVENT
BEGIN:VEVENT
SUMMARY:Projektno delo na navtičnih simulatorjih (N\, SS) (PDNS-ss)\, Pre
 davanje (P)
DTSTART;TZID=Europe/Ljubljana:20260216T130000
DTEND;TZID=Europe/Ljubljana:20260216T143500
DTSTAMP:20260422T053631Z
UID:fpp-AFLABS-URNIK:premaknjeno-srecanje:33457
ATTENDEE:3. letnik (N, SS)
CATEGORIES:Entry,Standard
COLOR:darkgreen
DESCRIPTION:Predmet: Projektno delo na navtičnih simulatorjih (N\, SS) (P
 DNS-ss)\, Predavanje (P)\nLetniki: 3. letnik (N\, SS)\nIzvajalci: Tanja Br
 cko Satler\, Marko Perkovič\nProstor: NSIM (GEPŠ)
LOCATION:NSIM (GEPŠ)
ORGANIZER:Tanja Brcko Satler, Marko Perkovič
RELATED-TO:fpp-AFLABS-URNIK:srecanje:1586
X-WR-TIMEZONE:Europe/Ljubljana
END:VEVENT
BEGIN:VEVENT
SUMMARY:Projektno delo na navtičnih simulatorjih (N\, SS) (PDNS-ss)\, Pre
 davanje (P)
DTSTART;TZID=Europe/Ljubljana:20260223T130000
DTEND;TZID=Europe/Ljubljana:20260223T143500
DTSTAMP:20260422T053631Z
UID:fpp-AFLABS-URNIK:premaknjeno-srecanje:33458
ATTENDEE:3. letnik (N, SS)
CATEGORIES:Entry,Standard
COLOR:darkgreen
DESCRIPTION:Predmet: Projektno delo na navtičnih simulatorjih (N\, SS) (P
 DNS-ss)\, Predavanje (P)\nLetniki: 3. letnik (N\, SS)\nIzvajalci: Tanja Br
 cko Satler\, Marko Perkovič\nProstor: NSIM (GEPŠ)
LOCATION:NSIM (GEPŠ)
ORGANIZER:Tanja Brcko Satler, Marko Perkovič
RELATED-TO:fpp-AFLABS-URNIK:srecanje:1586
X-WR-TIMEZONE:Europe/Ljubljana
END:VEVENT
BEGIN:VEVENT
SUMMARY:Projektno delo na navtičnih simulatorjih (N\, SS) (PDNS-ss)\, Pre
 davanje (P)
DTSTART;TZID=Europe/Ljubljana:20260302T130000
DTEND;TZID=Europe/Ljubljana:20260302T143500
DTSTAMP:20260422T053631Z
UID:fpp-AFLABS-URNIK:premaknjeno-srecanje:33459
ATTENDEE:3. letnik (N, SS)
CATEGORIES:Entry,Standard
COLOR:darkgreen
DESCRIPTION:Predmet: Projektno delo na navtičnih simulatorjih (N\, SS) (P
 DNS-ss)\, Predavanje (P)\nLetniki: 3. letnik (N\, SS)\nIzvajalci: Tanja Br
 cko Satler\, Marko Perkovič\nProstor: NSIM (GEPŠ)
LOCATION:NSIM (GEPŠ)
ORGANIZER:Tanja Brcko Satler, Marko Perkovič
RELATED-TO:fpp-AFLABS-URNIK:srecanje:1586
X-WR-TIMEZONE:Europe/Ljubljana
END:VEVENT
BEGIN:VEVENT
SUMMARY:Projektno delo na navtičnih simulatorjih (N\, SS) (PDNS-ss)\, Pre
 davanje (P)
DTSTART;TZID=Europe/Ljubljana:20260309T130000
DTEND;TZID=Europe/Ljubljana:20260309T143500
DTSTAMP:20260422T053631Z
UID:fpp-AFLABS-URNIK:premaknjeno-srecanje:33460
ATTENDEE:3. letnik (N, SS)
CATEGORIES:Entry,Standard
COLOR:darkgreen
DESCRIPTION:Predmet: Projektno delo na navtičnih simulatorjih (N\, SS) (P
 DNS-ss)\, Predavanje (P)\nLetniki: 3. letnik (N\, SS)\nIzvajalci: Tanja Br
 cko Satler\, Marko Perkovič\nProstor: NSIM (GEPŠ)
LOCATION:NSIM (GEPŠ)
ORGANIZER:Tanja Brcko Satler, Marko Perkovič
RELATED-TO:fpp-AFLABS-URNIK:srecanje:1586
X-WR-TIMEZONE:Europe/Ljubljana
END:VEVENT
BEGIN:VEVENT
SUMMARY:Projektno delo na navtičnih simulatorjih (N\, SS) (PDNS-ss)\, Pre
 davanje (P)
DTSTART;TZID=Europe/Ljubljana:20260316T130000
DTEND;TZID=Europe/Ljubljana:20260316T143500
DTSTAMP:20260422T053631Z
UID:fpp-AFLABS-URNIK:premaknjeno-srecanje:33461
ATTENDEE:3. letnik (N, SS)
CATEGORIES:Entry,Standard
COLOR:darkgreen
DESCRIPTION:Predmet: Projektno delo na navtičnih simulatorjih (N\, SS) (P
 DNS-ss)\, Predavanje (P)\nLetniki: 3. letnik (N\, SS)\nIzvajalci: Tanja Br
 cko Satler\, Marko Perkovič\nProstor: NSIM (GEPŠ)
LOCATION:NSIM (GEPŠ)
ORGANIZER:Tanja Brcko Satler, Marko Perkovič
RELATED-TO:fpp-AFLABS-URNIK:srecanje:1586
X-WR-TIMEZONE:Europe/Ljubljana
END:VEVENT
BEGIN:VEVENT
SUMMARY:Projektno delo na navtičnih simulatorjih (N\, SS) (PDNS-ss)\, Sem
 inar (S)
DTSTART;TZID=Europe/Ljubljana:20260216T144000
DTEND;TZID=Europe/Ljubljana:20260216T152500
DTSTAMP:20260422T053631Z
UID:fpp-AFLABS-URNIK:premaknjeno-srecanje:33471
ATTENDEE:3. letnik (N, SS)
CATEGORIES:Entry,Standard
COLOR:darkgreen
DESCRIPTION:Predmet: Projektno delo na navtičnih simulatorjih (N\, SS) (P
 DNS-ss)\, Seminar (S)\nLetniki: 3. letnik (N\, SS)\nIzvajalci: Tanja Brcko
  Satler\, Marko Perkovič\nProstor: NSIM (GEPŠ)
LOCATION:NSIM (GEPŠ)
ORGANIZER:Tanja Brcko Satler, Marko Perkovič
RELATED-TO:fpp-AFLABS-URNIK:srecanje:1587
X-WR-TIMEZONE:Europe/Ljubljana
END:VEVENT
BEGIN:VEVENT
SUMMARY:Projektno delo na navtičnih simulatorjih (N\, SS) (PDNS-ss)\, Sem
 inar (S)
DTSTART;TZID=Europe/Ljubljana:20260223T144000
DTEND;TZID=Europe/Ljubljana:20260223T152500
DTSTAMP:20260422T053631Z
UID:fpp-AFLABS-URNIK:premaknjeno-srecanje:33472
ATTENDEE:3. letnik (N, SS)
CATEGORIES:Entry,Standard
COLOR:darkgreen
DESCRIPTION:Predmet: Projektno delo na navtičnih simulatorjih (N\, SS) (P
 DNS-ss)\, Seminar (S)\nLetniki: 3. letnik (N\, SS)\nIzvajalci: Tanja Brcko
  Satler\, Marko Perkovič\nProstor: NSIM (GEPŠ)
LOCATION:NSIM (GEPŠ)
ORGANIZER:Tanja Brcko Satler, Marko Perkovič
RELATED-TO:fpp-AFLABS-URNIK:srecanje:1587
X-WR-TIMEZONE:Europe/Ljubljana
END:VEVENT
BEGIN:VEVENT
SUMMARY:Projektno delo na navtičnih simulatorjih (N\, SS) (PDNS-ss)\, Sem
 inar (S)
DTSTART;TZID=Europe/Ljubljana:20260302T144000
DTEND;TZID=Europe/Ljubljana:20260302T152500
DTSTAMP:20260422T053631Z
UID:fpp-AFLABS-URNIK:premaknjeno-srecanje:33473
ATTENDEE:3. letnik (N, SS)
CATEGORIES:Entry,Standard
COLOR:darkgreen
DESCRIPTION:Predmet: Projektno delo na navtičnih simulatorjih (N\, SS) (P
 DNS-ss)\, Seminar (S)\nLetniki: 3. letnik (N\, SS)\nIzvajalci: Tanja Brcko
  Satler\, Marko Perkovič\nProstor: NSIM (GEPŠ)
LOCATION:NSIM (GEPŠ)
ORGANIZER:Tanja Brcko Satler, Marko Perkovič
RELATED-TO:fpp-AFLABS-URNIK:srecanje:1587
X-WR-TIMEZONE:Europe/Ljubljana
END:VEVENT
BEGIN:VEVENT
SUMMARY:Projektno delo na navtičnih simulatorjih (N\, SS) (PDNS-ss)\, Sem
 inar (S)
DTSTART;TZID=Europe/Ljubljana:20260309T144000
DTEND;TZID=Europe/Ljubljana:20260309T152500
DTSTAMP:20260422T053631Z
UID:fpp-AFLABS-URNIK:premaknjeno-srecanje:33474
ATTENDEE:3. letnik (N, SS)
CATEGORIES:Entry,Standard
COLOR:darkgreen
DESCRIPTION:Predmet: Projektno delo na navtičnih simulatorjih (N\, SS) (P
 DNS-ss)\, Seminar (S)\nLetniki: 3. letnik (N\, SS)\nIzvajalci: Tanja Brcko
  Satler\, Marko Perkovič\nProstor: NSIM (GEPŠ)
LOCATION:NSIM (GEPŠ)
ORGANIZER:Tanja Brcko Satler, Marko Perkovič
RELATED-TO:fpp-AFLABS-URNIK:srecanje:1587
X-WR-TIMEZONE:Europe/Ljubljana
END:VEVENT
BEGIN:VEVENT
SUMMARY:Projektno delo na navtičnih simulatorjih (N\, SS) (PDNS-ss)\, Sem
 inar (S)
DTSTART;TZID=Europe/Ljubljana:20260316T144000
DTEND;TZID=Europe/Ljubljana:20260316T152500
DTSTAMP:20260422T053631Z
UID:fpp-AFLABS-URNIK:premaknjeno-srecanje:33475
ATTENDEE:3. letnik (N, SS)
CATEGORIES:Entry,Standard
COLOR:darkgreen
DESCRIPTION:Predmet: Projektno delo na navtičnih simulatorjih (N\, SS) (P
 DNS-ss)\, Seminar (S)\nLetniki: 3. letnik (N\, SS)\nIzvajalci: Tanja Brcko
  Satler\, Marko Perkovič\nProstor: NSIM (GEPŠ)
LOCATION:NSIM (GEPŠ)
ORGANIZER:Tanja Brcko Satler, Marko Perkovič
RELATED-TO:fpp-AFLABS-URNIK:srecanje:1587
X-WR-TIMEZONE:Europe/Ljubljana
END:VEVENT
BEGIN:VEVENT
SUMMARY:Pomorski praktikum (N) (PPR)\, Predavanje (P)
DTSTART;TZID=Europe/Ljubljana:20260217T085000
DTEND;TZID=Europe/Ljubljana:20260217T111500
DTSTAMP:20260422T053631Z
UID:fpp-AFLABS-URNIK:premaknjeno-srecanje:22440
ATTENDEE:1. letnik (N, SS)
ATTENDEE:1. letnik (N, VS)
CATEGORIES:Entry,Standard
COLOR:darkgreen
DESCRIPTION:Predmet: Pomorski praktikum (N) (PPR)\, Predavanje (P)\nLetnik
 i: 1. letnik (N\, SS)\, 1. letnik (N\, VS)\nIzvajalci: Tanja Brcko Satler\
 nProstor: NEPTUN (NE1+NE2)
LOCATION:NEPTUN (NE1+NE2)
ORGANIZER:Tanja Brcko Satler
RELATED-TO:fpp-AFLABS-URNIK:srecanje:978
X-WR-TIMEZONE:Europe/Ljubljana
END:VEVENT
BEGIN:VEVENT
SUMMARY:Pomorski praktikum (N) (PPR)\, Predavanje (P)
DTSTART;TZID=Europe/Ljubljana:20260224T085000
DTEND;TZID=Europe/Ljubljana:20260224T111500
DTSTAMP:20260422T053631Z
UID:fpp-AFLABS-URNIK:premaknjeno-srecanje:22441
ATTENDEE:1. letnik (N, SS)
ATTENDEE:1. letnik (N, VS)
CATEGORIES:Entry,Standard
COLOR:darkgreen
DESCRIPTION:Predmet: Pomorski praktikum (N) (PPR)\, Predavanje (P)\nLetnik
 i: 1. letnik (N\, SS)\, 1. letnik (N\, VS)\nIzvajalci: Tanja Brcko Satler\
 nProstor: NEPTUN (NE1+NE2)
LOCATION:NEPTUN (NE1+NE2)
ORGANIZER:Tanja Brcko Satler
RELATED-TO:fpp-AFLABS-URNIK:srecanje:978
X-WR-TIMEZONE:Europe/Ljubljana
END:VEVENT
BEGIN:VEVENT
SUMMARY:Pomorski praktikum (N) (PPR)\, Predavanje (P)
DTSTART;TZID=Europe/Ljubljana:20260303T085000
DTEND;TZID=Europe/Ljubljana:20260303T111500
DTSTAMP:20260422T053631Z
UID:fpp-AFLABS-URNIK:premaknjeno-srecanje:22442
ATTENDEE:1. letnik (N, SS)
ATTENDEE:1. letnik (N, VS)
CATEGORIES:Entry,Standard
COLOR:darkgreen
DESCRIPTION:Predmet: Pomorski praktikum (N) (PPR)\, Predavanje (P)\nLetnik
 i: 1. letnik (N\, SS)\, 1. letnik (N\, VS)\nIzvajalci: Tanja Brcko Satler\
 nProstor: NEPTUN (NE1+NE2)
LOCATION:NEPTUN (NE1+NE2)
ORGANIZER:Tanja Brcko Satler
RELATED-TO:fpp-AFLABS-URNIK:srecanje:978
X-WR-TIMEZONE:Europe/Ljubljana
END:VEVENT
BEGIN:VEVENT
SUMMARY:Pomorski praktikum (N) (PPR)\, Predavanje (P)
DTSTART;TZID=Europe/Ljubljana:20260310T085000
DTEND;TZID=Europe/Ljubljana:20260310T111500
DTSTAMP:20260422T053631Z
UID:fpp-AFLABS-URNIK:premaknjeno-srecanje:22443
ATTENDEE:1. letnik (N, SS)
ATTENDEE:1. letnik (N, VS)
CATEGORIES:Entry,Standard
COLOR:darkgreen
DESCRIPTION:Predmet: Pomorski praktikum (N) (PPR)\, Predavanje (P)\nLetnik
 i: 1. letnik (N\, SS)\, 1. letnik (N\, VS)\nIzvajalci: Tanja Brcko Satler\
 nProstor: NEPTUN (NE1+NE2)
LOCATION:NEPTUN (NE1+NE2)
ORGANIZER:Tanja Brcko Satler
RELATED-TO:fpp-AFLABS-URNIK:srecanje:978
X-WR-TIMEZONE:Europe/Ljubljana
END:VEVENT
BEGIN:VEVENT
SUMMARY:Pomorski praktikum (PS) (PPr)\, Predavanje (P)
DTSTART;TZID=Europe/Ljubljana:20260217T085000
DTEND;TZID=Europe/Ljubljana:20260217T111500
DTSTAMP:20260422T053631Z
UID:fpp-AFLABS-URNIK:premaknjeno-srecanje:22471
ATTENDEE:1. letnik (PS, SS)
ATTENDEE:1. letnik (PS, VS)
CATEGORIES:Entry,Standard
COLOR:darkgreen
DESCRIPTION:Predmet: Pomorski praktikum (PS) (PPr)\, Predavanje (P)\nLetni
 ki: 1. letnik (PS\, SS)\, 1. letnik (PS\, VS)\nIzvajalci: Tanja Brcko Satl
 er\nProstor: NEPTUN (NE1+NE2)
LOCATION:NEPTUN (NE1+NE2)
ORGANIZER:Tanja Brcko Satler
RELATED-TO:fpp-AFLABS-URNIK:srecanje:980
X-WR-TIMEZONE:Europe/Ljubljana
END:VEVENT
BEGIN:VEVENT
SUMMARY:Pomorski praktikum (PS) (PPr)\, Predavanje (P)
DTSTART;TZID=Europe/Ljubljana:20260224T085000
DTEND;TZID=Europe/Ljubljana:20260224T111500
DTSTAMP:20260422T053631Z
UID:fpp-AFLABS-URNIK:premaknjeno-srecanje:22472
ATTENDEE:1. letnik (PS, SS)
ATTENDEE:1. letnik (PS, VS)
CATEGORIES:Entry,Standard
COLOR:darkgreen
DESCRIPTION:Predmet: Pomorski praktikum (PS) (PPr)\, Predavanje (P)\nLetni
 ki: 1. letnik (PS\, SS)\, 1. letnik (PS\, VS)\nIzvajalci: Tanja Brcko Satl
 er\nProstor: NEPTUN (NE1+NE2)
LOCATION:NEPTUN (NE1+NE2)
ORGANIZER:Tanja Brcko Satler
RELATED-TO:fpp-AFLABS-URNIK:srecanje:980
X-WR-TIMEZONE:Europe/Ljubljana
END:VEVENT
BEGIN:VEVENT
SUMMARY:Pomorski praktikum (PS) (PPr)\, Predavanje (P)
DTSTART;TZID=Europe/Ljubljana:20260303T085000
DTEND;TZID=Europe/Ljubljana:20260303T111500
DTSTAMP:20260422T053631Z
UID:fpp-AFLABS-URNIK:premaknjeno-srecanje:22473
ATTENDEE:1. letnik (PS, SS)
ATTENDEE:1. letnik (PS, VS)
CATEGORIES:Entry,Standard
COLOR:darkgreen
DESCRIPTION:Predmet: Pomorski praktikum (PS) (PPr)\, Predavanje (P)\nLetni
 ki: 1. letnik (PS\, SS)\, 1. letnik (PS\, VS)\nIzvajalci: Tanja Brcko Satl
 er\nProstor: NEPTUN (NE1+NE2)
LOCATION:NEPTUN (NE1+NE2)
ORGANIZER:Tanja Brcko Satler
RELATED-TO:fpp-AFLABS-URNIK:srecanje:980
X-WR-TIMEZONE:Europe/Ljubljana
END:VEVENT
BEGIN:VEVENT
SUMMARY:Pomorski praktikum (PS) (PPr)\, Predavanje (P)
DTSTART;TZID=Europe/Ljubljana:20260310T085000
DTEND;TZID=Europe/Ljubljana:20260310T111500
DTSTAMP:20260422T053631Z
UID:fpp-AFLABS-URNIK:premaknjeno-srecanje:22474
ATTENDEE:1. letnik (PS, SS)
ATTENDEE:1. letnik (PS, VS)
CATEGORIES:Entry,Standard
COLOR:darkgreen
DESCRIPTION:Predmet: Pomorski praktikum (PS) (PPr)\, Predavanje (P)\nLetni
 ki: 1. letnik (PS\, SS)\, 1. letnik (PS\, VS)\nIzvajalci: Tanja Brcko Satl
 er\nProstor: NEPTUN (NE1+NE2)
LOCATION:NEPTUN (NE1+NE2)
ORGANIZER:Tanja Brcko Satler
RELATED-TO:fpp-AFLABS-URNIK:srecanje:980
X-WR-TIMEZONE:Europe/Ljubljana
END:VEVENT
BEGIN:VEVENT
SUMMARY:Vodenje navigacijske straže (N) (VNS)\, Laboratorijske vaje (LV)
DTSTART;TZID=Europe/Ljubljana:20260218T144000
DTEND;TZID=Europe/Ljubljana:20260218T161500
DTSTAMP:20260422T053631Z
UID:fpp-AFLABS-URNIK:premaknjeno-srecanje:24242
ATTENDEE:2. letnik (N, SS)
ATTENDEE:2. letnik (N, VS)
CATEGORIES:Entry,Standard
COLOR:darkgreen
DESCRIPTION:Predmet: Vodenje navigacijske straže (N) (VNS)\, Laboratorijs
 ke vaje (LV)\nLetniki: 2. letnik (N\, SS)\, 2. letnik (N\, VS)\nIzvajalci:
  Tanja Brcko Satler\nProstor: NSIM (GEPŠ)
LOCATION:NSIM (GEPŠ)
ORGANIZER:Tanja Brcko Satler
RELATED-TO:fpp-AFLABS-URNIK:srecanje:1093
X-WR-TIMEZONE:Europe/Ljubljana
END:VEVENT
BEGIN:VEVENT
SUMMARY:Vodenje navigacijske straže (N) (VNS)\, Laboratorijske vaje (LV)
DTSTART;TZID=Europe/Ljubljana:20260225T144000
DTEND;TZID=Europe/Ljubljana:20260225T161500
DTSTAMP:20260422T053631Z
UID:fpp-AFLABS-URNIK:premaknjeno-srecanje:24243
ATTENDEE:2. letnik (N, SS)
ATTENDEE:2. letnik (N, VS)
CATEGORIES:Entry,Standard
COLOR:darkgreen
DESCRIPTION:Predmet: Vodenje navigacijske straže (N) (VNS)\, Laboratorijs
 ke vaje (LV)\nLetniki: 2. letnik (N\, SS)\, 2. letnik (N\, VS)\nIzvajalci:
  Tanja Brcko Satler\nProstor: NSIM (GEPŠ)
LOCATION:NSIM (GEPŠ)
ORGANIZER:Tanja Brcko Satler
RELATED-TO:fpp-AFLABS-URNIK:srecanje:1093
X-WR-TIMEZONE:Europe/Ljubljana
END:VEVENT
BEGIN:VEVENT
SUMMARY:Vodenje navigacijske straže (N) (VNS)\, Laboratorijske vaje (LV)
DTSTART;TZID=Europe/Ljubljana:20260304T144000
DTEND;TZID=Europe/Ljubljana:20260304T161500
DTSTAMP:20260422T053631Z
UID:fpp-AFLABS-URNIK:premaknjeno-srecanje:24244
ATTENDEE:2. letnik (N, SS)
ATTENDEE:2. letnik (N, VS)
CATEGORIES:Entry,Standard
COLOR:darkgreen
DESCRIPTION:Predmet: Vodenje navigacijske straže (N) (VNS)\, Laboratorijs
 ke vaje (LV)\nLetniki: 2. letnik (N\, SS)\, 2. letnik (N\, VS)\nIzvajalci:
  Tanja Brcko Satler\nProstor: NSIM (GEPŠ)
LOCATION:NSIM (GEPŠ)
ORGANIZER:Tanja Brcko Satler
RELATED-TO:fpp-AFLABS-URNIK:srecanje:1093
X-WR-TIMEZONE:Europe/Ljubljana
END:VEVENT
BEGIN:VEVENT
SUMMARY:Vodenje navigacijske straže (N) (VNS)\, Laboratorijske vaje (LV)
DTSTART;TZID=Europe/Ljubljana:20260311T144000
DTEND;TZID=Europe/Ljubljana:20260311T161500
DTSTAMP:20260422T053631Z
UID:fpp-AFLABS-URNIK:premaknjeno-srecanje:24245
ATTENDEE:2. letnik (N, SS)
ATTENDEE:2. letnik (N, VS)
CATEGORIES:Entry,Standard
COLOR:darkgreen
DESCRIPTION:Predmet: Vodenje navigacijske straže (N) (VNS)\, Laboratorijs
 ke vaje (LV)\nLetniki: 2. letnik (N\, SS)\, 2. letnik (N\, VS)\nIzvajalci:
  Tanja Brcko Satler\nProstor: NSIM (GEPŠ)
LOCATION:NSIM (GEPŠ)
ORGANIZER:Tanja Brcko Satler
RELATED-TO:fpp-AFLABS-URNIK:srecanje:1093
X-WR-TIMEZONE:Europe/Ljubljana
END:VEVENT
BEGIN:VEVENT
SUMMARY:Vodenje navigacijske straže (N) (VNS)\, Predavanje (P)
DTSTART;TZID=Europe/Ljubljana:20260218T135000
DTEND;TZID=Europe/Ljubljana:20260218T143500
DTSTAMP:20260422T053631Z
UID:fpp-AFLABS-URNIK:premaknjeno-srecanje:24274
ATTENDEE:2. letnik (N, SS)
ATTENDEE:2. letnik (N, VS)
CATEGORIES:Entry,Standard
COLOR:darkgreen
DESCRIPTION:Predmet: Vodenje navigacijske straže (N) (VNS)\, Predavanje (
 P)\nLetniki: 2. letnik (N\, SS)\, 2. letnik (N\, VS)\nIzvajalci: Tanja Brc
 ko Satler\nProstor: NSIM (GEPŠ)
LOCATION:NSIM (GEPŠ)
ORGANIZER:Tanja Brcko Satler
RELATED-TO:fpp-AFLABS-URNIK:srecanje:1095
X-WR-TIMEZONE:Europe/Ljubljana
END:VEVENT
BEGIN:VEVENT
SUMMARY:Vodenje navigacijske straže (N) (VNS)\, Predavanje (P)
DTSTART;TZID=Europe/Ljubljana:20260225T135000
DTEND;TZID=Europe/Ljubljana:20260225T143500
DTSTAMP:20260422T053631Z
UID:fpp-AFLABS-URNIK:premaknjeno-srecanje:24275
ATTENDEE:2. letnik (N, SS)
ATTENDEE:2. letnik (N, VS)
CATEGORIES:Entry,Standard
COLOR:darkgreen
DESCRIPTION:Predmet: Vodenje navigacijske straže (N) (VNS)\, Predavanje (
 P)\nLetniki: 2. letnik (N\, SS)\, 2. letnik (N\, VS)\nIzvajalci: Tanja Brc
 ko Satler\nProstor: NSIM (GEPŠ)
LOCATION:NSIM (GEPŠ)
ORGANIZER:Tanja Brcko Satler
RELATED-TO:fpp-AFLABS-URNIK:srecanje:1095
X-WR-TIMEZONE:Europe/Ljubljana
END:VEVENT
BEGIN:VEVENT
SUMMARY:Vodenje navigacijske straže (N) (VNS)\, Predavanje (P)
DTSTART;TZID=Europe/Ljubljana:20260304T135000
DTEND;TZID=Europe/Ljubljana:20260304T143500
DTSTAMP:20260422T053631Z
UID:fpp-AFLABS-URNIK:premaknjeno-srecanje:24276
ATTENDEE:2. letnik (N, SS)
ATTENDEE:2. letnik (N, VS)
CATEGORIES:Entry,Standard
COLOR:darkgreen
DESCRIPTION:Predmet: Vodenje navigacijske straže (N) (VNS)\, Predavanje (
 P)\nLetniki: 2. letnik (N\, SS)\, 2. letnik (N\, VS)\nIzvajalci: Tanja Brc
 ko Satler\nProstor: NSIM (GEPŠ)
LOCATION:NSIM (GEPŠ)
ORGANIZER:Tanja Brcko Satler
RELATED-TO:fpp-AFLABS-URNIK:srecanje:1095
X-WR-TIMEZONE:Europe/Ljubljana
END:VEVENT
BEGIN:VEVENT
SUMMARY:Vodenje navigacijske straže (N) (VNS)\, Predavanje (P)
DTSTART;TZID=Europe/Ljubljana:20260311T135000
DTEND;TZID=Europe/Ljubljana:20260311T143500
DTSTAMP:20260422T053631Z
UID:fpp-AFLABS-URNIK:premaknjeno-srecanje:24277
ATTENDEE:2. letnik (N, SS)
ATTENDEE:2. letnik (N, VS)
CATEGORIES:Entry,Standard
COLOR:darkgreen
DESCRIPTION:Predmet: Vodenje navigacijske straže (N) (VNS)\, Predavanje (
 P)\nLetniki: 2. letnik (N\, SS)\, 2. letnik (N\, VS)\nIzvajalci: Tanja Brc
 ko Satler\nProstor: NSIM (GEPŠ)
LOCATION:NSIM (GEPŠ)
ORGANIZER:Tanja Brcko Satler
RELATED-TO:fpp-AFLABS-URNIK:srecanje:1095
X-WR-TIMEZONE:Europe/Ljubljana
END:VEVENT
BEGIN:VEVENT
SUMMARY:Projektno delo na navtičnih simulatorjih (N\, SS) (PDNS-ss)\, Pre
 davanje (P)
DTSTART;TZID=Europe/Ljubljana:20260223T130000
DTEND;TZID=Europe/Ljubljana:20260223T143500
DTSTAMP:20260422T053631Z
UID:fpp-AFLABS-URNIK:premaknjeno-srecanje:33431
ATTENDEE:3. letnik (N, SS)
CATEGORIES:Entry,Standard
COLOR:darkgreen
DESCRIPTION:Predmet: Projektno delo na navtičnih simulatorjih (N\, SS) (P
 DNS-ss)\, Predavanje (P)\nLetniki: 3. letnik (N\, SS)\nIzvajalci: Tanja Br
 cko Satler\, Marko Perkovič\nProstor: NSIM (GEPŠ)
LOCATION:NSIM (GEPŠ)
ORGANIZER:Tanja Brcko Satler, Marko Perkovič
RELATED-TO:fpp-AFLABS-URNIK:srecanje:1584
X-WR-TIMEZONE:Europe/Ljubljana
END:VEVENT
BEGIN:VEVENT
SUMMARY:Projektno delo na navtičnih simulatorjih (N\, SS) (PDNS-ss)\, Pre
 davanje (P)
DTSTART;TZID=Europe/Ljubljana:20260302T130000
DTEND;TZID=Europe/Ljubljana:20260302T143500
DTSTAMP:20260422T053631Z
UID:fpp-AFLABS-URNIK:premaknjeno-srecanje:33432
ATTENDEE:3. letnik (N, SS)
CATEGORIES:Entry,Standard
COLOR:darkgreen
DESCRIPTION:Predmet: Projektno delo na navtičnih simulatorjih (N\, SS) (P
 DNS-ss)\, Predavanje (P)\nLetniki: 3. letnik (N\, SS)\nIzvajalci: Tanja Br
 cko Satler\, Marko Perkovič\nProstor: NSIM (GEPŠ)
LOCATION:NSIM (GEPŠ)
ORGANIZER:Tanja Brcko Satler, Marko Perkovič
RELATED-TO:fpp-AFLABS-URNIK:srecanje:1584
X-WR-TIMEZONE:Europe/Ljubljana
END:VEVENT
BEGIN:VEVENT
SUMMARY:Projektno delo na navtičnih simulatorjih (N\, SS) (PDNS-ss)\, Pre
 davanje (P)
DTSTART;TZID=Europe/Ljubljana:20260309T130000
DTEND;TZID=Europe/Ljubljana:20260309T143500
DTSTAMP:20260422T053631Z
UID:fpp-AFLABS-URNIK:premaknjeno-srecanje:33433
ATTENDEE:3. letnik (N, SS)
CATEGORIES:Entry,Standard
COLOR:darkgreen
DESCRIPTION:Predmet: Projektno delo na navtičnih simulatorjih (N\, SS) (P
 DNS-ss)\, Predavanje (P)\nLetniki: 3. letnik (N\, SS)\nIzvajalci: Tanja Br
 cko Satler\, Marko Perkovič\nProstor: NSIM (GEPŠ)
LOCATION:NSIM (GEPŠ)
ORGANIZER:Tanja Brcko Satler, Marko Perkovič
RELATED-TO:fpp-AFLABS-URNIK:srecanje:1584
X-WR-TIMEZONE:Europe/Ljubljana
END:VEVENT
BEGIN:VEVENT
SUMMARY:Projektno delo na navtičnih simulatorjih (N\, SS) (PDNS-ss)\, Pre
 davanje (P)
DTSTART;TZID=Europe/Ljubljana:20260316T130000
DTEND;TZID=Europe/Ljubljana:20260316T143500
DTSTAMP:20260422T053631Z
UID:fpp-AFLABS-URNIK:premaknjeno-srecanje:33434
ATTENDEE:3. letnik (N, SS)
CATEGORIES:Entry,Standard
COLOR:darkgreen
DESCRIPTION:Predmet: Projektno delo na navtičnih simulatorjih (N\, SS) (P
 DNS-ss)\, Predavanje (P)\nLetniki: 3. letnik (N\, SS)\nIzvajalci: Tanja Br
 cko Satler\, Marko Perkovič\nProstor: NSIM (GEPŠ)
LOCATION:NSIM (GEPŠ)
ORGANIZER:Tanja Brcko Satler, Marko Perkovič
RELATED-TO:fpp-AFLABS-URNIK:srecanje:1584
X-WR-TIMEZONE:Europe/Ljubljana
END:VEVENT
END:VCALENDAR
