BEGIN:VCALENDAR
VERSION:2.0
PRODID:-//AFLabs urnik izvoz - fpp//aflabs.si//SI
DTSTAMP:20260425T182739Z
NAME:UL FPP Urnik
REFRESH-INTERVAL:PT1H
SOURCE:https://afurnik-fpp.dev.aflabs.org/teacher/16?day=2024-08-27&export
 =1
URL:https://afurnik-fpp.dev.aflabs.org/teacher/16?day=2024-08-27&export=1
X-PUBLISHED-TTL:PT1H
X-WR-CALNAME:UL FPP Urnik
X-WR-TIMEZONE:Europe/Ljubljana
BEGIN:VTIMEZONE
TZID:Europe/Ljubljana
BEGIN:DAYLIGHT
DTSTART:20260329T020000
RDATE:20260329T020000
RDATE:20270328T020000
TZNAME:CEST
TZOFFSETFROM:+0100
TZOFFSETTO:+0200
END:DAYLIGHT
BEGIN:STANDARD
DTSTART:20261025T030000
RDATE:20261025T030000
RDATE:20271031T030000
TZNAME:CET
TZOFFSETFROM:+0200
TZOFFSETTO:+0100
END:STANDARD
END:VTIMEZONE
BEGIN:VEVENT
SUMMARY:Prometno logistična infrastruktura (PTTL) (PLI)\, Laboratorijske 
 vaje (LV)
DTSTART;TZID=Europe/Ljubljana:20241001T135000
DTEND;TZID=Europe/Ljubljana:20241001T143500
DTSTAMP:20260425T182739Z
UID:fpp-AFLABS-URNIK:premaknjeno-srecanje:51
ATTENDEE:2. letnik (PTTL, SS)
ATTENDEE:2. letnik (PTTL, VS)
CATEGORIES:Entry,Standard
COLOR:darkgreen
DESCRIPTION:Predmet: Prometno logistična infrastruktura (PTTL) (PLI)\, La
 boratorijske vaje (LV)\nLetniki: 2. letnik (PTTL\, SS)\, 2. letnik (PTTL\,
  VS)\nIzvajalci: Marko Golnar\nProstor: R4
LOCATION:R4
ORGANIZER:Marko Golnar
RELATED-TO:fpp-AFLABS-URNIK:srecanje:51
X-WR-TIMEZONE:Europe/Ljubljana
END:VEVENT
BEGIN:VEVENT
SUMMARY:Prometno logistična infrastruktura (PTTL) (PLI)\, Laboratorijske 
 vaje (LV)
DTSTART;TZID=Europe/Ljubljana:20241001T144000
DTEND;TZID=Europe/Ljubljana:20241001T152500
DTSTAMP:20260425T182739Z
UID:fpp-AFLABS-URNIK:premaknjeno-srecanje:55
ATTENDEE:2. letnik (PTTL, SS)
ATTENDEE:2. letnik (PTTL, VS)
CATEGORIES:Entry,Standard
COLOR:darkgreen
DESCRIPTION:Predmet: Prometno logistična infrastruktura (PTTL) (PLI)\, La
 boratorijske vaje (LV)\nLetniki: 2. letnik (PTTL\, SS)\, 2. letnik (PTTL\,
  VS)\nIzvajalci: Marko Golnar\nProstor: R4
LOCATION:R4
ORGANIZER:Marko Golnar
RELATED-TO:fpp-AFLABS-URNIK:srecanje:55
X-WR-TIMEZONE:Europe/Ljubljana
END:VEVENT
BEGIN:VEVENT
SUMMARY:Prometno logistična infrastruktura (PTTL) (PLI)\, Laboratorijske 
 vaje (LV)
DTSTART;TZID=Europe/Ljubljana:20241001T153000
DTEND;TZID=Europe/Ljubljana:20241001T161500
DTSTAMP:20260425T182739Z
UID:fpp-AFLABS-URNIK:premaknjeno-srecanje:56
ATTENDEE:2. letnik (PTTL, SS)
ATTENDEE:2. letnik (PTTL, VS)
CATEGORIES:Entry,Standard
COLOR:darkgreen
DESCRIPTION:Predmet: Prometno logistična infrastruktura (PTTL) (PLI)\, La
 boratorijske vaje (LV)\nLetniki: 2. letnik (PTTL\, SS)\, 2. letnik (PTTL\,
  VS)\nIzvajalci: Marko Golnar\nProstor: R4
LOCATION:R4
ORGANIZER:Marko Golnar
RELATED-TO:fpp-AFLABS-URNIK:srecanje:56
X-WR-TIMEZONE:Europe/Ljubljana
END:VEVENT
BEGIN:VEVENT
SUMMARY:Prometni sistem (TPL-U) (PS)\, Avditorne vaje (AV)
DTSTART;TZID=Europe/Ljubljana:20241001T121000
DTEND;TZID=Europe/Ljubljana:20241001T134500
DTSTAMP:20260425T182739Z
UID:fpp-AFLABS-URNIK:premaknjeno-srecanje:168
ATTENDEE:1. letnik (TPL-U)
CATEGORIES:Entry,Standard
COLOR:darkgreen
DESCRIPTION:Predmet: Prometni sistem (TPL-U) (PS)\, Avditorne vaje (AV)\nL
 etniki: 1. letnik (TPL-U)\nIzvajalci: Marko Golnar\nProstor: 202
LOCATION:202
ORGANIZER:Marko Golnar
RELATED-TO:fpp-AFLABS-URNIK:srecanje:168
X-WR-TIMEZONE:Europe/Ljubljana
END:VEVENT
END:VCALENDAR
