BEGIN:VCALENDAR
VERSION:2.0
PRODID:-//AFLabs urnik izvoz - fpp//aflabs.si//SI
DTSTAMP:20260422T031245Z
NAME:UL FPP Urnik
REFRESH-INTERVAL:PT1H
SOURCE:https://afurnik-fpp.dev.aflabs.org/teacher/18?day=2026-01-26&export
 =1
URL:https://afurnik-fpp.dev.aflabs.org/teacher/18?day=2026-01-26&export=1
X-PUBLISHED-TTL:PT1H
X-WR-CALNAME:UL FPP Urnik
X-WR-TIMEZONE:Europe/Ljubljana
BEGIN:VTIMEZONE
TZID:Europe/Ljubljana
BEGIN:DAYLIGHT
DTSTART:20260329T020000
RDATE:20260329T020000
RDATE:20270328T020000
TZNAME:CEST
TZOFFSETFROM:+0100
TZOFFSETTO:+0200
END:DAYLIGHT
BEGIN:STANDARD
DTSTART:20261025T030000
RDATE:20261025T030000
RDATE:20271031T030000
TZNAME:CET
TZOFFSETFROM:+0200
TZOFFSETTO:+0100
END:STANDARD
END:VTIMEZONE
BEGIN:VEVENT
SUMMARY:Nauk o ladji 1 (PS) (NOL1)\, Predavanje (P)
DTSTART;TZID=Europe/Ljubljana:20251224T162000
DTEND;TZID=Europe/Ljubljana:20251224T193500
DTSTAMP:20260422T031245Z
UID:fpp-AFLABS-URNIK:premaknjeno-srecanje:33934
ATTENDEE:1. letnik (PS, SS)
ATTENDEE:1. letnik (PS, VS)
CATEGORIES:Entry,Standard
COLOR:darkgreen
DESCRIPTION:Predmet: Nauk o ladji 1 (PS) (NOL1)\, Predavanje (P)\nLetniki:
  1. letnik (PS\, SS)\, 1. letnik (PS\, VS)\nIzvajalci: Aleksander Grm\nPro
 stor: Videokonferenca
LOCATION:Videokonferenca
ORGANIZER:Aleksander Grm
RELATED-TO:fpp-AFLABS-URNIK:srecanje:1762
X-WR-TIMEZONE:Europe/Ljubljana
END:VEVENT
BEGIN:VEVENT
SUMMARY:Nauk o ladji 1 (PS) (NOL1)\, Predavanje (P)
DTSTART;TZID=Europe/Ljubljana:20251231T162000
DTEND;TZID=Europe/Ljubljana:20251231T193500
DTSTAMP:20260422T031245Z
UID:fpp-AFLABS-URNIK:premaknjeno-srecanje:33935
ATTENDEE:1. letnik (PS, SS)
ATTENDEE:1. letnik (PS, VS)
CATEGORIES:Entry,Standard
COLOR:darkgreen
DESCRIPTION:Predmet: Nauk o ladji 1 (PS) (NOL1)\, Predavanje (P)\nLetniki:
  1. letnik (PS\, SS)\, 1. letnik (PS\, VS)\nIzvajalci: Aleksander Grm\nPro
 stor: Videokonferenca
LOCATION:Videokonferenca
ORGANIZER:Aleksander Grm
RELATED-TO:fpp-AFLABS-URNIK:srecanje:1762
X-WR-TIMEZONE:Europe/Ljubljana
END:VEVENT
BEGIN:VEVENT
SUMMARY:Nauk o ladji 1 (PS) (NOL1)\, Predavanje (P)
DTSTART;TZID=Europe/Ljubljana:20251224T103000
DTEND;TZID=Europe/Ljubljana:20251224T134500
DTSTAMP:20260422T031245Z
UID:fpp-AFLABS-URNIK:premaknjeno-srecanje:33954
ATTENDEE:1. letnik (PS, SS)
ATTENDEE:1. letnik (PS, VS)
CATEGORIES:Entry,Standard
COLOR:darkgreen
DESCRIPTION:Predmet: Nauk o ladji 1 (PS) (NOL1)\, Predavanje (P)\nLetniki:
  1. letnik (PS\, SS)\, 1. letnik (PS\, VS)\nIzvajalci: Aleksander Grm\nPro
 stor: NEPTUN (NE1+NE2)
LOCATION:NEPTUN (NE1+NE2)
ORGANIZER:Aleksander Grm
RELATED-TO:fpp-AFLABS-URNIK:srecanje:1790
X-WR-TIMEZONE:Europe/Ljubljana
END:VEVENT
BEGIN:VEVENT
SUMMARY:Nauk o ladji 1 (PS) (NOL1)\, Predavanje (P)
DTSTART;TZID=Europe/Ljubljana:20251231T103000
DTEND;TZID=Europe/Ljubljana:20251231T134500
DTSTAMP:20260422T031245Z
UID:fpp-AFLABS-URNIK:premaknjeno-srecanje:33955
ATTENDEE:1. letnik (PS, SS)
ATTENDEE:1. letnik (PS, VS)
CATEGORIES:Entry,Standard
COLOR:darkgreen
DESCRIPTION:Predmet: Nauk o ladji 1 (PS) (NOL1)\, Predavanje (P)\nLetniki:
  1. letnik (PS\, SS)\, 1. letnik (PS\, VS)\nIzvajalci: Aleksander Grm\nPro
 stor: NEPTUN (NE1+NE2)
LOCATION:NEPTUN (NE1+NE2)
ORGANIZER:Aleksander Grm
RELATED-TO:fpp-AFLABS-URNIK:srecanje:1790
X-WR-TIMEZONE:Europe/Ljubljana
END:VEVENT
BEGIN:VEVENT
SUMMARY:Nauk o ladji 1 (PS) (NOL1)\, Predavanje (P)
DTSTART;TZID=Europe/Ljubljana:20260107T103000
DTEND;TZID=Europe/Ljubljana:20260107T134500
DTSTAMP:20260422T031245Z
UID:fpp-AFLABS-URNIK:premaknjeno-srecanje:33956
ATTENDEE:1. letnik (PS, SS)
ATTENDEE:1. letnik (PS, VS)
CATEGORIES:Entry,Standard
COLOR:darkgreen
DESCRIPTION:Predmet: Nauk o ladji 1 (PS) (NOL1)\, Predavanje (P)\nLetniki:
  1. letnik (PS\, SS)\, 1. letnik (PS\, VS)\nIzvajalci: Aleksander Grm\nPro
 stor: NEPTUN (NE1+NE2)
LOCATION:NEPTUN (NE1+NE2)
ORGANIZER:Aleksander Grm
RELATED-TO:fpp-AFLABS-URNIK:srecanje:1790
X-WR-TIMEZONE:Europe/Ljubljana
END:VEVENT
BEGIN:VEVENT
SUMMARY:Nauk o ladji 1 (PS) (NOL1)\, Predavanje (P)
DTSTART;TZID=Europe/Ljubljana:20260114T103000
DTEND;TZID=Europe/Ljubljana:20260114T134500
DTSTAMP:20260422T031245Z
UID:fpp-AFLABS-URNIK:premaknjeno-srecanje:33957
ATTENDEE:1. letnik (PS, SS)
ATTENDEE:1. letnik (PS, VS)
CATEGORIES:Entry,Standard
COLOR:darkgreen
DESCRIPTION:Predmet: Nauk o ladji 1 (PS) (NOL1)\, Predavanje (P)\nLetniki:
  1. letnik (PS\, SS)\, 1. letnik (PS\, VS)\nIzvajalci: Aleksander Grm\nPro
 stor: NEPTUN (NE1+NE2)
LOCATION:NEPTUN (NE1+NE2)
ORGANIZER:Aleksander Grm
RELATED-TO:fpp-AFLABS-URNIK:srecanje:1790
X-WR-TIMEZONE:Europe/Ljubljana
END:VEVENT
BEGIN:VEVENT
SUMMARY:Nauk o ladji 1 (N) (NOL1)\, Predavanje (P)
DTSTART;TZID=Europe/Ljubljana:20260109T085000
DTEND;TZID=Europe/Ljubljana:20260109T120500
DTSTAMP:20260422T031245Z
UID:fpp-AFLABS-URNIK:premaknjeno-srecanje:32087
ATTENDEE:1. letnik (N, SS)
ATTENDEE:1. letnik (N, VS)
CATEGORIES:Entry,Standard
COLOR:darkgreen
DESCRIPTION:Predmet: Nauk o ladji 1 (N) (NOL1)\, Predavanje (P)\nLetniki: 
 1. letnik (N\, SS)\, 1. letnik (N\, VS)\nIzvajalci: Aleksander Grm\nProsto
 r: NEPTUN (NE1+NE2)
LOCATION:NEPTUN (NE1+NE2)
ORGANIZER:Aleksander Grm
RELATED-TO:fpp-AFLABS-URNIK:srecanje:882
X-WR-TIMEZONE:Europe/Ljubljana
END:VEVENT
BEGIN:VEVENT
SUMMARY:Nauk o ladji 1 (N) (NOL1)\, Predavanje (P)
DTSTART;TZID=Europe/Ljubljana:20260116T085000
DTEND;TZID=Europe/Ljubljana:20260116T120500
DTSTAMP:20260422T031245Z
UID:fpp-AFLABS-URNIK:premaknjeno-srecanje:32088
ATTENDEE:1. letnik (N, SS)
ATTENDEE:1. letnik (N, VS)
CATEGORIES:Entry,Standard
COLOR:darkgreen
DESCRIPTION:Predmet: Nauk o ladji 1 (N) (NOL1)\, Predavanje (P)\nLetniki: 
 1. letnik (N\, SS)\, 1. letnik (N\, VS)\nIzvajalci: Aleksander Grm\nProsto
 r: NEPTUN (NE1+NE2)
LOCATION:NEPTUN (NE1+NE2)
ORGANIZER:Aleksander Grm
RELATED-TO:fpp-AFLABS-URNIK:srecanje:882
X-WR-TIMEZONE:Europe/Ljubljana
END:VEVENT
BEGIN:VEVENT
SUMMARY:Nauk o ladji 1 (N) - izredni (NOL1-i)\, Predavanje (P)
DTSTART;TZID=Europe/Ljubljana:20260109T160000
DTEND;TZID=Europe/Ljubljana:20260109T191500
DTSTAMP:20260422T031245Z
UID:fpp-AFLABS-URNIK:premaknjeno-srecanje:32716
ATTENDEE:1. letnik - izredni (N, SS)
CATEGORIES:Entry,Standard
COLOR:darkgreen
DESCRIPTION:Predmet: Nauk o ladji 1 (N) - izredni (NOL1-i)\, Predavanje (P
 )\nLetniki: 1. letnik - izredni (N\, SS)\nIzvajalci: Aleksander Grm\nProst
 or: Videokonferenca
LOCATION:Videokonferenca
ORGANIZER:Aleksander Grm
RELATED-TO:fpp-AFLABS-URNIK:srecanje:1428
X-WR-TIMEZONE:Europe/Ljubljana
END:VEVENT
BEGIN:VEVENT
SUMMARY:Nauk o ladji 1 (PS) - izredni (NOL1-i)\, Predavanje (P)
DTSTART;TZID=Europe/Ljubljana:20260109T160000
DTEND;TZID=Europe/Ljubljana:20260109T191500
DTSTAMP:20260422T031245Z
UID:fpp-AFLABS-URNIK:premaknjeno-srecanje:32727
ATTENDEE:1. letnik - izredni (PS, SS)
CATEGORIES:Entry,Standard
COLOR:darkgreen
DESCRIPTION:Predmet: Nauk o ladji 1 (PS) - izredni (NOL1-i)\, Predavanje (
 P)\nLetniki: 1. letnik - izredni (PS\, SS)\nIzvajalci: Aleksander Grm\nPro
 stor: Videokonferenca
LOCATION:Videokonferenca
ORGANIZER:Aleksander Grm
RELATED-TO:fpp-AFLABS-URNIK:srecanje:1431
X-WR-TIMEZONE:Europe/Ljubljana
END:VEVENT
BEGIN:VEVENT
SUMMARY:Tehnična mehanika (PTTL) - izredni (TM-i)\, Predavanje (P)
DTSTART;TZID=Europe/Ljubljana:20260213T160000
DTEND;TZID=Europe/Ljubljana:20260213T191500
DTSTAMP:20260422T031245Z
UID:fpp-AFLABS-URNIK:premaknjeno-srecanje:32206
ATTENDEE:1. letnik - izredni (PTTL, SS)
CATEGORIES:Entry,Standard
COLOR:darkgreen
DESCRIPTION:Predmet: Tehnična mehanika (PTTL) - izredni (TM-i)\, Predavan
 je (P)\nLetniki: 1. letnik - izredni (PTTL\, SS)\nIzvajalci: Aleksander Gr
 m\nProstor: Videokonferenca
LOCATION:Videokonferenca
ORGANIZER:Aleksander Grm
RELATED-TO:fpp-AFLABS-URNIK:srecanje:1230
X-WR-TIMEZONE:Europe/Ljubljana
END:VEVENT
BEGIN:VEVENT
SUMMARY:Tehnična mehanika (PTTL) - izredni (TM-i)\, Predavanje (P)
DTSTART;TZID=Europe/Ljubljana:20260220T160000
DTEND;TZID=Europe/Ljubljana:20260220T191500
DTSTAMP:20260422T031245Z
UID:fpp-AFLABS-URNIK:premaknjeno-srecanje:32207
ATTENDEE:1. letnik - izredni (PTTL, SS)
CATEGORIES:Entry,Standard
COLOR:darkgreen
DESCRIPTION:Predmet: Tehnična mehanika (PTTL) - izredni (TM-i)\, Predavan
 je (P)\nLetniki: 1. letnik - izredni (PTTL\, SS)\nIzvajalci: Aleksander Gr
 m\nProstor: Videokonferenca
LOCATION:Videokonferenca
ORGANIZER:Aleksander Grm
RELATED-TO:fpp-AFLABS-URNIK:srecanje:1230
X-WR-TIMEZONE:Europe/Ljubljana
END:VEVENT
BEGIN:VEVENT
SUMMARY:Tehnična mehanika (PTTL) - izredni (TM-i)\, Predavanje (P)
DTSTART;TZID=Europe/Ljubljana:20260227T160000
DTEND;TZID=Europe/Ljubljana:20260227T191500
DTSTAMP:20260422T031245Z
UID:fpp-AFLABS-URNIK:premaknjeno-srecanje:32208
ATTENDEE:1. letnik - izredni (PTTL, SS)
CATEGORIES:Entry,Standard
COLOR:darkgreen
DESCRIPTION:Predmet: Tehnična mehanika (PTTL) - izredni (TM-i)\, Predavan
 je (P)\nLetniki: 1. letnik - izredni (PTTL\, SS)\nIzvajalci: Aleksander Gr
 m\nProstor: Videokonferenca
LOCATION:Videokonferenca
ORGANIZER:Aleksander Grm
RELATED-TO:fpp-AFLABS-URNIK:srecanje:1230
X-WR-TIMEZONE:Europe/Ljubljana
END:VEVENT
BEGIN:VEVENT
SUMMARY:Mehanika v prometu (TPL-U) - izredni (MP-i)\, Predavanje (P)
DTSTART;TZID=Europe/Ljubljana:20260213T160000
DTEND;TZID=Europe/Ljubljana:20260213T191500
DTSTAMP:20260422T031245Z
UID:fpp-AFLABS-URNIK:premaknjeno-srecanje:32212
ATTENDEE:1. letnik - izredni (TPL-U)
CATEGORIES:Entry,Standard
COLOR:darkgreen
DESCRIPTION:Predmet: Mehanika v prometu (TPL-U) - izredni (MP-i)\, Predava
 nje (P)\nLetniki: 1. letnik - izredni (TPL-U)\nIzvajalci: Aleksander Grm\n
 Prostor: Videokonferenca
LOCATION:Videokonferenca
ORGANIZER:Aleksander Grm
RELATED-TO:fpp-AFLABS-URNIK:srecanje:1232
X-WR-TIMEZONE:Europe/Ljubljana
END:VEVENT
BEGIN:VEVENT
SUMMARY:Mehanika v prometu (TPL-U) - izredni (MP-i)\, Predavanje (P)
DTSTART;TZID=Europe/Ljubljana:20260220T160000
DTEND;TZID=Europe/Ljubljana:20260220T191500
DTSTAMP:20260422T031245Z
UID:fpp-AFLABS-URNIK:premaknjeno-srecanje:32213
ATTENDEE:1. letnik - izredni (TPL-U)
CATEGORIES:Entry,Standard
COLOR:darkgreen
DESCRIPTION:Predmet: Mehanika v prometu (TPL-U) - izredni (MP-i)\, Predava
 nje (P)\nLetniki: 1. letnik - izredni (TPL-U)\nIzvajalci: Aleksander Grm\n
 Prostor: Videokonferenca
LOCATION:Videokonferenca
ORGANIZER:Aleksander Grm
RELATED-TO:fpp-AFLABS-URNIK:srecanje:1232
X-WR-TIMEZONE:Europe/Ljubljana
END:VEVENT
BEGIN:VEVENT
SUMMARY:Mehanika v prometu (TPL-U) - izredni (MP-i)\, Predavanje (P)
DTSTART;TZID=Europe/Ljubljana:20260227T160000
DTEND;TZID=Europe/Ljubljana:20260227T191500
DTSTAMP:20260422T031245Z
UID:fpp-AFLABS-URNIK:premaknjeno-srecanje:32214
ATTENDEE:1. letnik - izredni (TPL-U)
CATEGORIES:Entry,Standard
COLOR:darkgreen
DESCRIPTION:Predmet: Mehanika v prometu (TPL-U) - izredni (MP-i)\, Predava
 nje (P)\nLetniki: 1. letnik - izredni (TPL-U)\nIzvajalci: Aleksander Grm\n
 Prostor: Videokonferenca
LOCATION:Videokonferenca
ORGANIZER:Aleksander Grm
RELATED-TO:fpp-AFLABS-URNIK:srecanje:1232
X-WR-TIMEZONE:Europe/Ljubljana
END:VEVENT
BEGIN:VEVENT
SUMMARY:Tehniška fizika (N) - izredni (TF-i)\, Predavanje (P)
DTSTART;TZID=Europe/Ljubljana:20260213T160000
DTEND;TZID=Europe/Ljubljana:20260213T191500
DTSTAMP:20260422T031245Z
UID:fpp-AFLABS-URNIK:premaknjeno-srecanje:32215
ATTENDEE:1. letnik - izredni (N, SS)
CATEGORIES:Entry,Standard
COLOR:darkgreen
DESCRIPTION:Predmet: Tehniška fizika (N) - izredni (TF-i)\, Predavanje (P
 )\nLetniki: 1. letnik - izredni (N\, SS)\nIzvajalci: Aleksander Grm\nProst
 or: Videokonferenca
LOCATION:Videokonferenca
ORGANIZER:Aleksander Grm
RELATED-TO:fpp-AFLABS-URNIK:srecanje:1233
X-WR-TIMEZONE:Europe/Ljubljana
END:VEVENT
BEGIN:VEVENT
SUMMARY:Tehniška fizika (N) - izredni (TF-i)\, Predavanje (P)
DTSTART;TZID=Europe/Ljubljana:20260220T160000
DTEND;TZID=Europe/Ljubljana:20260220T191500
DTSTAMP:20260422T031245Z
UID:fpp-AFLABS-URNIK:premaknjeno-srecanje:32216
ATTENDEE:1. letnik - izredni (N, SS)
CATEGORIES:Entry,Standard
COLOR:darkgreen
DESCRIPTION:Predmet: Tehniška fizika (N) - izredni (TF-i)\, Predavanje (P
 )\nLetniki: 1. letnik - izredni (N\, SS)\nIzvajalci: Aleksander Grm\nProst
 or: Videokonferenca
LOCATION:Videokonferenca
ORGANIZER:Aleksander Grm
RELATED-TO:fpp-AFLABS-URNIK:srecanje:1233
X-WR-TIMEZONE:Europe/Ljubljana
END:VEVENT
BEGIN:VEVENT
SUMMARY:Tehniška fizika (N) - izredni (TF-i)\, Predavanje (P)
DTSTART;TZID=Europe/Ljubljana:20260227T160000
DTEND;TZID=Europe/Ljubljana:20260227T191500
DTSTAMP:20260422T031245Z
UID:fpp-AFLABS-URNIK:premaknjeno-srecanje:32217
ATTENDEE:1. letnik - izredni (N, SS)
CATEGORIES:Entry,Standard
COLOR:darkgreen
DESCRIPTION:Predmet: Tehniška fizika (N) - izredni (TF-i)\, Predavanje (P
 )\nLetniki: 1. letnik - izredni (N\, SS)\nIzvajalci: Aleksander Grm\nProst
 or: Videokonferenca
LOCATION:Videokonferenca
ORGANIZER:Aleksander Grm
RELATED-TO:fpp-AFLABS-URNIK:srecanje:1233
X-WR-TIMEZONE:Europe/Ljubljana
END:VEVENT
BEGIN:VEVENT
SUMMARY:Tehniška fizika (PS) - izredni (TF-i)\, Predavanje (P)
DTSTART;TZID=Europe/Ljubljana:20260213T160000
DTEND;TZID=Europe/Ljubljana:20260213T191500
DTSTAMP:20260422T031245Z
UID:fpp-AFLABS-URNIK:premaknjeno-srecanje:32218
ATTENDEE:1. letnik - izredni (PS, SS)
CATEGORIES:Entry,Standard
COLOR:darkgreen
DESCRIPTION:Predmet: Tehniška fizika (PS) - izredni (TF-i)\, Predavanje (
 P)\nLetniki: 1. letnik - izredni (PS\, SS)\nIzvajalci: Aleksander Grm\nPro
 stor: Videokonferenca
LOCATION:Videokonferenca
ORGANIZER:Aleksander Grm
RELATED-TO:fpp-AFLABS-URNIK:srecanje:1234
X-WR-TIMEZONE:Europe/Ljubljana
END:VEVENT
BEGIN:VEVENT
SUMMARY:Tehniška fizika (PS) - izredni (TF-i)\, Predavanje (P)
DTSTART;TZID=Europe/Ljubljana:20260220T160000
DTEND;TZID=Europe/Ljubljana:20260220T191500
DTSTAMP:20260422T031245Z
UID:fpp-AFLABS-URNIK:premaknjeno-srecanje:32219
ATTENDEE:1. letnik - izredni (PS, SS)
CATEGORIES:Entry,Standard
COLOR:darkgreen
DESCRIPTION:Predmet: Tehniška fizika (PS) - izredni (TF-i)\, Predavanje (
 P)\nLetniki: 1. letnik - izredni (PS\, SS)\nIzvajalci: Aleksander Grm\nPro
 stor: Videokonferenca
LOCATION:Videokonferenca
ORGANIZER:Aleksander Grm
RELATED-TO:fpp-AFLABS-URNIK:srecanje:1234
X-WR-TIMEZONE:Europe/Ljubljana
END:VEVENT
BEGIN:VEVENT
SUMMARY:Tehniška fizika (PS) - izredni (TF-i)\, Predavanje (P)
DTSTART;TZID=Europe/Ljubljana:20260227T160000
DTEND;TZID=Europe/Ljubljana:20260227T191500
DTSTAMP:20260422T031245Z
UID:fpp-AFLABS-URNIK:premaknjeno-srecanje:32220
ATTENDEE:1. letnik - izredni (PS, SS)
CATEGORIES:Entry,Standard
COLOR:darkgreen
DESCRIPTION:Predmet: Tehniška fizika (PS) - izredni (TF-i)\, Predavanje (
 P)\nLetniki: 1. letnik - izredni (PS\, SS)\nIzvajalci: Aleksander Grm\nPro
 stor: Videokonferenca
LOCATION:Videokonferenca
ORGANIZER:Aleksander Grm
RELATED-TO:fpp-AFLABS-URNIK:srecanje:1234
X-WR-TIMEZONE:Europe/Ljubljana
END:VEVENT
BEGIN:VEVENT
SUMMARY:Mehanika v prometu (TPL-U) - izredni (MP-i)\, Predavanje (P)
DTSTART;TZID=Europe/Ljubljana:20260214T090000
DTEND;TZID=Europe/Ljubljana:20260214T121500
DTSTAMP:20260422T031245Z
UID:fpp-AFLABS-URNIK:premaknjeno-srecanje:32221
ATTENDEE:1. letnik - izredni (TPL-U)
CATEGORIES:Entry,Standard
COLOR:darkgreen
DESCRIPTION:Predmet: Mehanika v prometu (TPL-U) - izredni (MP-i)\, Predava
 nje (P)\nLetniki: 1. letnik - izredni (TPL-U)\nIzvajalci: Aleksander Grm\n
 Prostor: Videokonferenca
LOCATION:Videokonferenca
ORGANIZER:Aleksander Grm
RELATED-TO:fpp-AFLABS-URNIK:srecanje:1235
X-WR-TIMEZONE:Europe/Ljubljana
END:VEVENT
BEGIN:VEVENT
SUMMARY:Mehanika v prometu (TPL-U) - izredni (MP-i)\, Predavanje (P)
DTSTART;TZID=Europe/Ljubljana:20260221T090000
DTEND;TZID=Europe/Ljubljana:20260221T121500
DTSTAMP:20260422T031245Z
UID:fpp-AFLABS-URNIK:premaknjeno-srecanje:32222
ATTENDEE:1. letnik - izredni (TPL-U)
CATEGORIES:Entry,Standard
COLOR:darkgreen
DESCRIPTION:Predmet: Mehanika v prometu (TPL-U) - izredni (MP-i)\, Predava
 nje (P)\nLetniki: 1. letnik - izredni (TPL-U)\nIzvajalci: Aleksander Grm\n
 Prostor: Videokonferenca
LOCATION:Videokonferenca
ORGANIZER:Aleksander Grm
RELATED-TO:fpp-AFLABS-URNIK:srecanje:1235
X-WR-TIMEZONE:Europe/Ljubljana
END:VEVENT
BEGIN:VEVENT
SUMMARY:Mehanika v prometu (TPL-U) - izredni (MP-i)\, Predavanje (P)
DTSTART;TZID=Europe/Ljubljana:20260228T090000
DTEND;TZID=Europe/Ljubljana:20260228T121500
DTSTAMP:20260422T031245Z
UID:fpp-AFLABS-URNIK:premaknjeno-srecanje:32223
ATTENDEE:1. letnik - izredni (TPL-U)
CATEGORIES:Entry,Standard
COLOR:darkgreen
DESCRIPTION:Predmet: Mehanika v prometu (TPL-U) - izredni (MP-i)\, Predava
 nje (P)\nLetniki: 1. letnik - izredni (TPL-U)\nIzvajalci: Aleksander Grm\n
 Prostor: Videokonferenca
LOCATION:Videokonferenca
ORGANIZER:Aleksander Grm
RELATED-TO:fpp-AFLABS-URNIK:srecanje:1235
X-WR-TIMEZONE:Europe/Ljubljana
END:VEVENT
BEGIN:VEVENT
SUMMARY:Tehnična mehanika (PTTL) - izredni (TM-i)\, Predavanje (P)
DTSTART;TZID=Europe/Ljubljana:20260214T090000
DTEND;TZID=Europe/Ljubljana:20260214T121500
DTSTAMP:20260422T031245Z
UID:fpp-AFLABS-URNIK:premaknjeno-srecanje:32227
ATTENDEE:1. letnik - izredni (PTTL, SS)
CATEGORIES:Entry,Standard
COLOR:darkgreen
DESCRIPTION:Predmet: Tehnična mehanika (PTTL) - izredni (TM-i)\, Predavan
 je (P)\nLetniki: 1. letnik - izredni (PTTL\, SS)\nIzvajalci: Aleksander Gr
 m\nProstor: Videokonferenca
LOCATION:Videokonferenca
ORGANIZER:Aleksander Grm
RELATED-TO:fpp-AFLABS-URNIK:srecanje:1237
X-WR-TIMEZONE:Europe/Ljubljana
END:VEVENT
BEGIN:VEVENT
SUMMARY:Tehnična mehanika (PTTL) - izredni (TM-i)\, Predavanje (P)
DTSTART;TZID=Europe/Ljubljana:20260221T090000
DTEND;TZID=Europe/Ljubljana:20260221T121500
DTSTAMP:20260422T031245Z
UID:fpp-AFLABS-URNIK:premaknjeno-srecanje:32228
ATTENDEE:1. letnik - izredni (PTTL, SS)
CATEGORIES:Entry,Standard
COLOR:darkgreen
DESCRIPTION:Predmet: Tehnična mehanika (PTTL) - izredni (TM-i)\, Predavan
 je (P)\nLetniki: 1. letnik - izredni (PTTL\, SS)\nIzvajalci: Aleksander Gr
 m\nProstor: Videokonferenca
LOCATION:Videokonferenca
ORGANIZER:Aleksander Grm
RELATED-TO:fpp-AFLABS-URNIK:srecanje:1237
X-WR-TIMEZONE:Europe/Ljubljana
END:VEVENT
BEGIN:VEVENT
SUMMARY:Tehnična mehanika (PTTL) - izredni (TM-i)\, Predavanje (P)
DTSTART;TZID=Europe/Ljubljana:20260228T090000
DTEND;TZID=Europe/Ljubljana:20260228T121500
DTSTAMP:20260422T031245Z
UID:fpp-AFLABS-URNIK:premaknjeno-srecanje:32229
ATTENDEE:1. letnik - izredni (PTTL, SS)
CATEGORIES:Entry,Standard
COLOR:darkgreen
DESCRIPTION:Predmet: Tehnična mehanika (PTTL) - izredni (TM-i)\, Predavan
 je (P)\nLetniki: 1. letnik - izredni (PTTL\, SS)\nIzvajalci: Aleksander Gr
 m\nProstor: Videokonferenca
LOCATION:Videokonferenca
ORGANIZER:Aleksander Grm
RELATED-TO:fpp-AFLABS-URNIK:srecanje:1237
X-WR-TIMEZONE:Europe/Ljubljana
END:VEVENT
BEGIN:VEVENT
SUMMARY:Tehniška fizika (N) - izredni (TF-i)\, Predavanje (P)
DTSTART;TZID=Europe/Ljubljana:20260214T090000
DTEND;TZID=Europe/Ljubljana:20260214T121500
DTSTAMP:20260422T031245Z
UID:fpp-AFLABS-URNIK:premaknjeno-srecanje:32230
ATTENDEE:1. letnik - izredni (N, SS)
CATEGORIES:Entry,Standard
COLOR:darkgreen
DESCRIPTION:Predmet: Tehniška fizika (N) - izredni (TF-i)\, Predavanje (P
 )\nLetniki: 1. letnik - izredni (N\, SS)\nIzvajalci: Aleksander Grm\nProst
 or: Videokonferenca
LOCATION:Videokonferenca
ORGANIZER:Aleksander Grm
RELATED-TO:fpp-AFLABS-URNIK:srecanje:1238
X-WR-TIMEZONE:Europe/Ljubljana
END:VEVENT
BEGIN:VEVENT
SUMMARY:Tehniška fizika (N) - izredni (TF-i)\, Predavanje (P)
DTSTART;TZID=Europe/Ljubljana:20260221T090000
DTEND;TZID=Europe/Ljubljana:20260221T121500
DTSTAMP:20260422T031245Z
UID:fpp-AFLABS-URNIK:premaknjeno-srecanje:32231
ATTENDEE:1. letnik - izredni (N, SS)
CATEGORIES:Entry,Standard
COLOR:darkgreen
DESCRIPTION:Predmet: Tehniška fizika (N) - izredni (TF-i)\, Predavanje (P
 )\nLetniki: 1. letnik - izredni (N\, SS)\nIzvajalci: Aleksander Grm\nProst
 or: Videokonferenca
LOCATION:Videokonferenca
ORGANIZER:Aleksander Grm
RELATED-TO:fpp-AFLABS-URNIK:srecanje:1238
X-WR-TIMEZONE:Europe/Ljubljana
END:VEVENT
BEGIN:VEVENT
SUMMARY:Tehniška fizika (N) - izredni (TF-i)\, Predavanje (P)
DTSTART;TZID=Europe/Ljubljana:20260228T090000
DTEND;TZID=Europe/Ljubljana:20260228T121500
DTSTAMP:20260422T031245Z
UID:fpp-AFLABS-URNIK:premaknjeno-srecanje:32232
ATTENDEE:1. letnik - izredni (N, SS)
CATEGORIES:Entry,Standard
COLOR:darkgreen
DESCRIPTION:Predmet: Tehniška fizika (N) - izredni (TF-i)\, Predavanje (P
 )\nLetniki: 1. letnik - izredni (N\, SS)\nIzvajalci: Aleksander Grm\nProst
 or: Videokonferenca
LOCATION:Videokonferenca
ORGANIZER:Aleksander Grm
RELATED-TO:fpp-AFLABS-URNIK:srecanje:1238
X-WR-TIMEZONE:Europe/Ljubljana
END:VEVENT
BEGIN:VEVENT
SUMMARY:Tehniška fizika (PS) - izredni (TF-i)\, Predavanje (P)
DTSTART;TZID=Europe/Ljubljana:20260214T090000
DTEND;TZID=Europe/Ljubljana:20260214T121500
DTSTAMP:20260422T031245Z
UID:fpp-AFLABS-URNIK:premaknjeno-srecanje:32236
ATTENDEE:1. letnik - izredni (PS, SS)
CATEGORIES:Entry,Standard
COLOR:darkgreen
DESCRIPTION:Predmet: Tehniška fizika (PS) - izredni (TF-i)\, Predavanje (
 P)\nLetniki: 1. letnik - izredni (PS\, SS)\nIzvajalci: Aleksander Grm\nPro
 stor: Videokonferenca
LOCATION:Videokonferenca
ORGANIZER:Aleksander Grm
RELATED-TO:fpp-AFLABS-URNIK:srecanje:1240
X-WR-TIMEZONE:Europe/Ljubljana
END:VEVENT
BEGIN:VEVENT
SUMMARY:Tehniška fizika (PS) - izredni (TF-i)\, Predavanje (P)
DTSTART;TZID=Europe/Ljubljana:20260221T090000
DTEND;TZID=Europe/Ljubljana:20260221T121500
DTSTAMP:20260422T031245Z
UID:fpp-AFLABS-URNIK:premaknjeno-srecanje:32237
ATTENDEE:1. letnik - izredni (PS, SS)
CATEGORIES:Entry,Standard
COLOR:darkgreen
DESCRIPTION:Predmet: Tehniška fizika (PS) - izredni (TF-i)\, Predavanje (
 P)\nLetniki: 1. letnik - izredni (PS\, SS)\nIzvajalci: Aleksander Grm\nPro
 stor: Videokonferenca
LOCATION:Videokonferenca
ORGANIZER:Aleksander Grm
RELATED-TO:fpp-AFLABS-URNIK:srecanje:1240
X-WR-TIMEZONE:Europe/Ljubljana
END:VEVENT
BEGIN:VEVENT
SUMMARY:Tehniška fizika (PS) - izredni (TF-i)\, Predavanje (P)
DTSTART;TZID=Europe/Ljubljana:20260228T090000
DTEND;TZID=Europe/Ljubljana:20260228T121500
DTSTAMP:20260422T031245Z
UID:fpp-AFLABS-URNIK:premaknjeno-srecanje:32238
ATTENDEE:1. letnik - izredni (PS, SS)
CATEGORIES:Entry,Standard
COLOR:darkgreen
DESCRIPTION:Predmet: Tehniška fizika (PS) - izredni (TF-i)\, Predavanje (
 P)\nLetniki: 1. letnik - izredni (PS\, SS)\nIzvajalci: Aleksander Grm\nPro
 stor: Videokonferenca
LOCATION:Videokonferenca
ORGANIZER:Aleksander Grm
RELATED-TO:fpp-AFLABS-URNIK:srecanje:1240
X-WR-TIMEZONE:Europe/Ljubljana
END:VEVENT
BEGIN:VEVENT
SUMMARY:Astronomska navigacija (N) (AsN)\, Predavanje (P)
DTSTART;TZID=Europe/Ljubljana:20260216T085000
DTEND;TZID=Europe/Ljubljana:20260216T102500
DTSTAMP:20260422T031245Z
UID:fpp-AFLABS-URNIK:premaknjeno-srecanje:30942
ATTENDEE:1. letnik (N, SS)
ATTENDEE:1. letnik (N, VS)
CATEGORIES:Entry,Standard
COLOR:darkgreen
DESCRIPTION:Predmet: Astronomska navigacija (N) (AsN)\, Predavanje (P)\nLe
 tniki: 1. letnik (N\, SS)\, 1. letnik (N\, VS)\nIzvajalci: Aleksander Grm\
 nProstor: NE1
LOCATION:NE1
ORGANIZER:Aleksander Grm
RELATED-TO:fpp-AFLABS-URNIK:srecanje:898
X-WR-TIMEZONE:Europe/Ljubljana
END:VEVENT
BEGIN:VEVENT
SUMMARY:Astronomska navigacija (N) (AsN)\, Predavanje (P)
DTSTART;TZID=Europe/Ljubljana:20260223T085000
DTEND;TZID=Europe/Ljubljana:20260223T102500
DTSTAMP:20260422T031245Z
UID:fpp-AFLABS-URNIK:premaknjeno-srecanje:30943
ATTENDEE:1. letnik (N, SS)
ATTENDEE:1. letnik (N, VS)
CATEGORIES:Entry,Standard
COLOR:darkgreen
DESCRIPTION:Predmet: Astronomska navigacija (N) (AsN)\, Predavanje (P)\nLe
 tniki: 1. letnik (N\, SS)\, 1. letnik (N\, VS)\nIzvajalci: Aleksander Grm\
 nProstor: NE1
LOCATION:NE1
ORGANIZER:Aleksander Grm
RELATED-TO:fpp-AFLABS-URNIK:srecanje:898
X-WR-TIMEZONE:Europe/Ljubljana
END:VEVENT
BEGIN:VEVENT
SUMMARY:Astronomska navigacija (N) (AsN)\, Predavanje (P)
DTSTART;TZID=Europe/Ljubljana:20260302T085000
DTEND;TZID=Europe/Ljubljana:20260302T102500
DTSTAMP:20260422T031245Z
UID:fpp-AFLABS-URNIK:premaknjeno-srecanje:30944
ATTENDEE:1. letnik (N, SS)
ATTENDEE:1. letnik (N, VS)
CATEGORIES:Entry,Standard
COLOR:darkgreen
DESCRIPTION:Predmet: Astronomska navigacija (N) (AsN)\, Predavanje (P)\nLe
 tniki: 1. letnik (N\, SS)\, 1. letnik (N\, VS)\nIzvajalci: Aleksander Grm\
 nProstor: NE1
LOCATION:NE1
ORGANIZER:Aleksander Grm
RELATED-TO:fpp-AFLABS-URNIK:srecanje:898
X-WR-TIMEZONE:Europe/Ljubljana
END:VEVENT
BEGIN:VEVENT
SUMMARY:Mehanika v prometu (TPL-U) (MP)\, Predavanje (P)
DTSTART;TZID=Europe/Ljubljana:20260218T103000
DTEND;TZID=Europe/Ljubljana:20260218T120500
DTSTAMP:20260422T031245Z
UID:fpp-AFLABS-URNIK:premaknjeno-srecanje:25372
ATTENDEE:1. letnik (TPL-U)
CATEGORIES:Entry,Standard
COLOR:darkgreen
DESCRIPTION:Predmet: Mehanika v prometu (TPL-U) (MP)\, Predavanje (P)\nLet
 niki: 1. letnik (TPL-U)\nIzvajalci: Aleksander Grm\nProstor: 202
LOCATION:202
ORGANIZER:Aleksander Grm
RELATED-TO:fpp-AFLABS-URNIK:srecanje:957
X-WR-TIMEZONE:Europe/Ljubljana
END:VEVENT
BEGIN:VEVENT
SUMMARY:Mehanika v prometu (TPL-U) (MP)\, Predavanje (P)
DTSTART;TZID=Europe/Ljubljana:20260225T103000
DTEND;TZID=Europe/Ljubljana:20260225T120500
DTSTAMP:20260422T031245Z
UID:fpp-AFLABS-URNIK:premaknjeno-srecanje:25373
ATTENDEE:1. letnik (TPL-U)
CATEGORIES:Entry,Standard
COLOR:darkgreen
DESCRIPTION:Predmet: Mehanika v prometu (TPL-U) (MP)\, Predavanje (P)\nLet
 niki: 1. letnik (TPL-U)\nIzvajalci: Aleksander Grm\nProstor: 202
LOCATION:202
ORGANIZER:Aleksander Grm
RELATED-TO:fpp-AFLABS-URNIK:srecanje:957
X-WR-TIMEZONE:Europe/Ljubljana
END:VEVENT
BEGIN:VEVENT
SUMMARY:Tehnična mehanika (PTTL) (TM)\, Predavanje (P)
DTSTART;TZID=Europe/Ljubljana:20260218T085000
DTEND;TZID=Europe/Ljubljana:20260218T102500
DTSTAMP:20260422T031245Z
UID:fpp-AFLABS-URNIK:premaknjeno-srecanje:26739
ATTENDEE:1. letnik (PTTL, SS)
ATTENDEE:1. letnik (PTTL, VS)
CATEGORIES:Entry,Standard
COLOR:darkgreen
DESCRIPTION:Predmet: Tehnična mehanika (PTTL) (TM)\, Predavanje (P)\nLetn
 iki: 1. letnik (PTTL\, SS)\, 1. letnik (PTTL\, VS)\nIzvajalci: Aleksander 
 Grm\nProstor: amfiteater
LOCATION:amfiteater
ORGANIZER:Aleksander Grm
RELATED-TO:fpp-AFLABS-URNIK:srecanje:1033
X-WR-TIMEZONE:Europe/Ljubljana
END:VEVENT
BEGIN:VEVENT
SUMMARY:Tehnična mehanika (PTTL) (TM)\, Predavanje (P)
DTSTART;TZID=Europe/Ljubljana:20260225T085000
DTEND;TZID=Europe/Ljubljana:20260225T102500
DTSTAMP:20260422T031245Z
UID:fpp-AFLABS-URNIK:premaknjeno-srecanje:26740
ATTENDEE:1. letnik (PTTL, SS)
ATTENDEE:1. letnik (PTTL, VS)
CATEGORIES:Entry,Standard
COLOR:darkgreen
DESCRIPTION:Predmet: Tehnična mehanika (PTTL) (TM)\, Predavanje (P)\nLetn
 iki: 1. letnik (PTTL\, SS)\, 1. letnik (PTTL\, VS)\nIzvajalci: Aleksander 
 Grm\nProstor: amfiteater
LOCATION:amfiteater
ORGANIZER:Aleksander Grm
RELATED-TO:fpp-AFLABS-URNIK:srecanje:1033
X-WR-TIMEZONE:Europe/Ljubljana
END:VEVENT
BEGIN:VEVENT
SUMMARY:Izpit NOL1 - izredni študij
DTSTART;TZID=Europe/Ljubljana:20260202T170000
DTEND;TZID=Europe/Ljubljana:20260202T193000
DTSTAMP:20260422T031245Z
UID:fpp-AFLABS-URNIK:rezervacija:110
ATTENDEE:1. letnik - izredni (N, SS)
ATTENDEE:1. letnik - izredni (PS, SS)
CATEGORIES:Reservation
COLOR:royalblue
DESCRIPTION:Predmeti: Nauk o ladji 1 (N) - izredni (NOL1-i)\, Nauk o ladji
  1 (PS) - izredni (NOL1-i)\nLetniki: 1. letnik - izredni (N\, SS)\, 1. let
 nik - izredni (PS\, SS)\nIzvajalci: Aleksander Grm\nProstori: NE1
LOCATION:NE1
ORGANIZER:Aleksander Grm
X-WR-TIMEZONE:Europe/Ljubljana
END:VEVENT
END:VCALENDAR
