BEGIN:VCALENDAR
VERSION:2.0
PRODID:-//AFLabs urnik izvoz - fpp//aflabs.si//SI
DTSTAMP:20260422T140036Z
NAME:UL FPP Urnik
REFRESH-INTERVAL:PT1H
SOURCE:https://afurnik-fpp.dev.aflabs.org/teacher/1?day=2025-07-07&export=
 1
URL:https://afurnik-fpp.dev.aflabs.org/teacher/1?day=2025-07-07&export=1
X-PUBLISHED-TTL:PT1H
X-WR-CALNAME:UL FPP Urnik
X-WR-TIMEZONE:Europe/Ljubljana
BEGIN:VTIMEZONE
TZID:Europe/Ljubljana
BEGIN:DAYLIGHT
DTSTART:20260329T020000
RDATE:20260329T020000
RDATE:20270328T020000
TZNAME:CEST
TZOFFSETFROM:+0100
TZOFFSETTO:+0200
END:DAYLIGHT
BEGIN:STANDARD
DTSTART:20261025T030000
RDATE:20261025T030000
RDATE:20271031T030000
TZNAME:CET
TZOFFSETFROM:+0200
TZOFFSETTO:+0100
END:STANDARD
END:VTIMEZONE
BEGIN:VEVENT
SUMMARY:Vodenje navigacijske straže (N) (VNS)\, Avditorne vaje (AV)
DTSTART;TZID=Europe/Ljubljana:20250603T121000
DTEND;TZID=Europe/Ljubljana:20250603T125500
DTSTAMP:20260422T140036Z
UID:fpp-AFLABS-URNIK:premaknjeno-srecanje:8167
ATTENDEE:2. letnik (N, SS)
ATTENDEE:2. letnik (N, VS)
CATEGORIES:Entry,Standard
COLOR:darkgreen
DESCRIPTION:Predmet: Vodenje navigacijske straže (N) (VNS)\, Avditorne va
 je (AV)\nLetniki: 2. letnik (N\, SS)\, 2. letnik (N\, VS)\nIzvajalci: Andr
 ej Androjna\nProstor: NE1
LOCATION:NE1
ORGANIZER:Andrej Androjna
RELATED-TO:fpp-AFLABS-URNIK:srecanje:384
X-WR-TIMEZONE:Europe/Ljubljana
END:VEVENT
BEGIN:VEVENT
SUMMARY:Vodenje navigacijske straže (N) (VNS)\, Predavanje (P)
DTSTART;TZID=Europe/Ljubljana:20250603T112000
DTEND;TZID=Europe/Ljubljana:20250603T120500
DTSTAMP:20260422T140036Z
UID:fpp-AFLABS-URNIK:premaknjeno-srecanje:8197
ATTENDEE:2. letnik (N, SS)
ATTENDEE:2. letnik (N, VS)
CATEGORIES:Entry,Standard
COLOR:darkgreen
DESCRIPTION:Predmet: Vodenje navigacijske straže (N) (VNS)\, Predavanje (
 P)\nLetniki: 2. letnik (N\, SS)\, 2. letnik (N\, VS)\nIzvajalci: Andrej An
 drojna\nProstor: NE1
LOCATION:NE1
ORGANIZER:Andrej Androjna
RELATED-TO:fpp-AFLABS-URNIK:srecanje:379
X-WR-TIMEZONE:Europe/Ljubljana
END:VEVENT
BEGIN:VEVENT
SUMMARY:Varnost na ladji (N) (VL)\, Avditorne vaje (AV)
DTSTART;TZID=Europe/Ljubljana:20250604T135000
DTEND;TZID=Europe/Ljubljana:20250604T152500
DTSTAMP:20260422T140036Z
UID:fpp-AFLABS-URNIK:premaknjeno-srecanje:7867
ATTENDEE:2. letnik (N, VS)
ATTENDEE:3. letnik (N, SS)
CATEGORIES:Entry,Standard
COLOR:darkgreen
DESCRIPTION:Predmet: Varnost na ladji (N) (VL)\, Avditorne vaje (AV)\nLetn
 iki: 3. letnik (N\, SS)\, 2. letnik (N\, VS)\nIzvajalci: Andrej Androjna\,
  Valter Suban\nProstor: NE1
LOCATION:NE1
ORGANIZER:Andrej Androjna, Valter Suban
RELATED-TO:fpp-AFLABS-URNIK:srecanje:400
X-WR-TIMEZONE:Europe/Ljubljana
END:VEVENT
BEGIN:VEVENT
SUMMARY:Varnost na ladji (N) (VL)\, Predavanje (P)
DTSTART;TZID=Europe/Ljubljana:20250604T080000
DTEND;TZID=Europe/Ljubljana:20250604T102500
DTSTAMP:20260422T140036Z
UID:fpp-AFLABS-URNIK:premaknjeno-srecanje:7882
ATTENDEE:2. letnik (N, VS)
ATTENDEE:3. letnik (N, SS)
CATEGORIES:Entry,Standard
COLOR:darkgreen
DESCRIPTION:Predmet: Varnost na ladji (N) (VL)\, Predavanje (P)\nLetniki: 
 3. letnik (N\, SS)\, 2. letnik (N\, VS)\nIzvajalci: Andrej Androjna\nProst
 or: NE1
LOCATION:NE1
ORGANIZER:Andrej Androjna
RELATED-TO:fpp-AFLABS-URNIK:srecanje:395
X-WR-TIMEZONE:Europe/Ljubljana
END:VEVENT
BEGIN:VEVENT
SUMMARY:Varnost na ladji (N) (VL)\, Predavanje (P)
DTSTART;TZID=Europe/Ljubljana:20250604T080000
DTEND;TZID=Europe/Ljubljana:20250604T102500
DTSTAMP:20260422T140036Z
UID:fpp-AFLABS-URNIK:premaknjeno-srecanje:7897
ATTENDEE:2. letnik (N, VS)
ATTENDEE:3. letnik (N, SS)
CATEGORIES:Entry,Standard
COLOR:darkgreen
DESCRIPTION:Predmet: Varnost na ladji (N) (VL)\, Predavanje (P)\nLetniki: 
 3. letnik (N\, SS)\, 2. letnik (N\, VS)\nIzvajalci: Andrej Androjna\nProst
 or: NE2
LOCATION:NE2
ORGANIZER:Andrej Androjna
RELATED-TO:fpp-AFLABS-URNIK:srecanje:502
X-WR-TIMEZONE:Europe/Ljubljana
END:VEVENT
BEGIN:VEVENT
SUMMARY:Varnost na ladji (N) (VL)\, Seminar (S)
DTSTART;TZID=Europe/Ljubljana:20250604T103000
DTEND;TZID=Europe/Ljubljana:20250604T111500
DTSTAMP:20260422T140036Z
UID:fpp-AFLABS-URNIK:premaknjeno-srecanje:7912
ATTENDEE:2. letnik (N, VS)
ATTENDEE:3. letnik (N, SS)
CATEGORIES:Entry,Standard
COLOR:darkgreen
DESCRIPTION:Predmet: Varnost na ladji (N) (VL)\, Seminar (S)\nLetniki: 3. 
 letnik (N\, SS)\, 2. letnik (N\, VS)\nIzvajalci: Andrej Androjna\nProstor:
  NE1
LOCATION:NE1
ORGANIZER:Andrej Androjna
RELATED-TO:fpp-AFLABS-URNIK:srecanje:398
X-WR-TIMEZONE:Europe/Ljubljana
END:VEVENT
BEGIN:VEVENT
SUMMARY:Varnost na ladji (PS) (VL)\, Avditorne vaje (AV)
DTSTART;TZID=Europe/Ljubljana:20250604T135000
DTEND;TZID=Europe/Ljubljana:20250604T152500
DTSTAMP:20260422T140036Z
UID:fpp-AFLABS-URNIK:premaknjeno-srecanje:7927
ATTENDEE:2. letnik (PS, VS)
ATTENDEE:3. letnik (PS, SS)
CATEGORIES:Entry,Standard
COLOR:darkgreen
DESCRIPTION:Predmet: Varnost na ladji (PS) (VL)\, Avditorne vaje (AV)\nLet
 niki: 3. letnik (PS\, SS)\, 2. letnik (PS\, VS)\nIzvajalci: Andrej Androjn
 a\, Valter Suban\nProstor: NE1
LOCATION:NE1
ORGANIZER:Andrej Androjna, Valter Suban
RELATED-TO:fpp-AFLABS-URNIK:srecanje:319
X-WR-TIMEZONE:Europe/Ljubljana
END:VEVENT
BEGIN:VEVENT
SUMMARY:Varnost na ladji (PS) (VL)\, Predavanje (P)
DTSTART;TZID=Europe/Ljubljana:20250604T080000
DTEND;TZID=Europe/Ljubljana:20250604T102500
DTSTAMP:20260422T140036Z
UID:fpp-AFLABS-URNIK:premaknjeno-srecanje:7942
ATTENDEE:2. letnik (PS, VS)
ATTENDEE:3. letnik (PS, SS)
CATEGORIES:Entry,Standard
COLOR:darkgreen
DESCRIPTION:Predmet: Varnost na ladji (PS) (VL)\, Predavanje (P)\nLetniki:
  3. letnik (PS\, SS)\, 2. letnik (PS\, VS)\nIzvajalci: Andrej Androjna\nPr
 ostor: NE1
LOCATION:NE1
ORGANIZER:Andrej Androjna
RELATED-TO:fpp-AFLABS-URNIK:srecanje:416
X-WR-TIMEZONE:Europe/Ljubljana
END:VEVENT
BEGIN:VEVENT
SUMMARY:Varnost na ladji (PS) (VL)\, Predavanje (P)
DTSTART;TZID=Europe/Ljubljana:20250604T080000
DTEND;TZID=Europe/Ljubljana:20250604T102500
DTSTAMP:20260422T140036Z
UID:fpp-AFLABS-URNIK:premaknjeno-srecanje:7957
ATTENDEE:2. letnik (PS, VS)
ATTENDEE:3. letnik (PS, SS)
CATEGORIES:Entry,Standard
COLOR:darkgreen
DESCRIPTION:Predmet: Varnost na ladji (PS) (VL)\, Predavanje (P)\nLetniki:
  3. letnik (PS\, SS)\, 2. letnik (PS\, VS)\nIzvajalci: Andrej Androjna\nPr
 ostor: NE2
LOCATION:NE2
ORGANIZER:Andrej Androjna
RELATED-TO:fpp-AFLABS-URNIK:srecanje:305
X-WR-TIMEZONE:Europe/Ljubljana
END:VEVENT
BEGIN:VEVENT
SUMMARY:Varnost na ladji (PS) (VL)\, Seminar (S)
DTSTART;TZID=Europe/Ljubljana:20250604T103000
DTEND;TZID=Europe/Ljubljana:20250604T111500
DTSTAMP:20260422T140036Z
UID:fpp-AFLABS-URNIK:premaknjeno-srecanje:7972
ATTENDEE:2. letnik (PS, VS)
ATTENDEE:3. letnik (PS, SS)
CATEGORIES:Entry,Standard
COLOR:darkgreen
DESCRIPTION:Predmet: Varnost na ladji (PS) (VL)\, Seminar (S)\nLetniki: 3.
  letnik (PS\, SS)\, 2. letnik (PS\, VS)\nIzvajalci: Andrej Androjna\nProst
 or: NE1
LOCATION:NE1
ORGANIZER:Andrej Androjna
RELATED-TO:fpp-AFLABS-URNIK:srecanje:419
X-WR-TIMEZONE:Europe/Ljubljana
END:VEVENT
BEGIN:VEVENT
SUMMARY:Človeški viri v pomorstvu (N) (ČVP)\, Predavanje (P)
DTSTART;TZID=Europe/Ljubljana:20250606T085000
DTEND;TZID=Europe/Ljubljana:20250606T102500
DTSTAMP:20260422T140036Z
UID:fpp-AFLABS-URNIK:premaknjeno-srecanje:5377
ATTENDEE:2. letnik (N, SS)
ATTENDEE:2. letnik (N, VS)
CATEGORIES:Entry,Standard
COLOR:darkgreen
DESCRIPTION:Predmet: Človeški viri v pomorstvu (N) (ČVP)\, Predavanje (
 P)\nLetniki: 2. letnik (N\, SS)\, 2. letnik (N\, VS)\nIzvajalci: Andrej An
 drojna\, Matija Svetina\nProstor: P2
LOCATION:P2
ORGANIZER:Andrej Androjna, Matija Svetina
RELATED-TO:fpp-AFLABS-URNIK:srecanje:375
X-WR-TIMEZONE:Europe/Ljubljana
END:VEVENT
BEGIN:VEVENT
SUMMARY:Človeški viri v pomorstvu (N) (ČVP)\, Seminar (S)
DTSTART;TZID=Europe/Ljubljana:20250606T103000
DTEND;TZID=Europe/Ljubljana:20250606T111500
DTSTAMP:20260422T140036Z
UID:fpp-AFLABS-URNIK:premaknjeno-srecanje:5392
ATTENDEE:2. letnik (N, SS)
ATTENDEE:2. letnik (N, VS)
CATEGORIES:Entry,Standard
COLOR:darkgreen
DESCRIPTION:Predmet: Človeški viri v pomorstvu (N) (ČVP)\, Seminar (S)\
 nLetniki: 2. letnik (N\, SS)\, 2. letnik (N\, VS)\nIzvajalci: Andrej Andro
 jna\nProstor: P2
LOCATION:P2
ORGANIZER:Andrej Androjna
RELATED-TO:fpp-AFLABS-URNIK:srecanje:378
X-WR-TIMEZONE:Europe/Ljubljana
END:VEVENT
BEGIN:VEVENT
SUMMARY:Človeški viri v pomorstvu (PS) (ČVP)\, Predavanje (P)
DTSTART;TZID=Europe/Ljubljana:20250606T085000
DTEND;TZID=Europe/Ljubljana:20250606T102500
DTSTAMP:20260422T140036Z
UID:fpp-AFLABS-URNIK:premaknjeno-srecanje:5422
ATTENDEE:2. letnik (PS, SS)
ATTENDEE:2. letnik (PS, VS)
CATEGORIES:Entry,Standard
COLOR:darkgreen
DESCRIPTION:Predmet: Človeški viri v pomorstvu (PS) (ČVP)\, Predavanje 
 (P)\nLetniki: 2. letnik (PS\, SS)\, 2. letnik (PS\, VS)\nIzvajalci: Andrej
  Androjna\, Matija Svetina\nProstor: P2
LOCATION:P2
ORGANIZER:Andrej Androjna, Matija Svetina
RELATED-TO:fpp-AFLABS-URNIK:srecanje:308
X-WR-TIMEZONE:Europe/Ljubljana
END:VEVENT
BEGIN:VEVENT
SUMMARY:Človeški viri v pomorstvu (PS) (ČVP)\, Seminar (S)
DTSTART;TZID=Europe/Ljubljana:20250606T103000
DTEND;TZID=Europe/Ljubljana:20250606T111500
DTSTAMP:20260422T140036Z
UID:fpp-AFLABS-URNIK:premaknjeno-srecanje:5437
ATTENDEE:2. letnik (PS, SS)
ATTENDEE:2. letnik (PS, VS)
CATEGORIES:Entry,Standard
COLOR:darkgreen
DESCRIPTION:Predmet: Človeški viri v pomorstvu (PS) (ČVP)\, Seminar (S)
 \nLetniki: 2. letnik (PS\, SS)\, 2. letnik (PS\, VS)\nIzvajalci: Andrej An
 drojna\nProstor: P2
LOCATION:P2
ORGANIZER:Andrej Androjna
RELATED-TO:fpp-AFLABS-URNIK:srecanje:310
X-WR-TIMEZONE:Europe/Ljubljana
END:VEVENT
END:VCALENDAR
