BEGIN:VCALENDAR
VERSION:2.0
PRODID:-//AFLabs urnik izvoz - fpp//aflabs.si//SI
DTSTAMP:20260424T194239Z
NAME:UL FPP Urnik
REFRESH-INTERVAL:PT1H
SOURCE:https://afurnik-fpp.dev.aflabs.org/teacher/1?day=2025-08-27&export=
 1
URL:https://afurnik-fpp.dev.aflabs.org/teacher/1?day=2025-08-27&export=1
X-PUBLISHED-TTL:PT1H
X-WR-CALNAME:UL FPP Urnik
X-WR-TIMEZONE:Europe/Ljubljana
BEGIN:VTIMEZONE
TZID:Europe/Ljubljana
BEGIN:DAYLIGHT
DTSTART:20260329T020000
RDATE:20260329T020000
RDATE:20270328T020000
TZNAME:CEST
TZOFFSETFROM:+0100
TZOFFSETTO:+0200
END:DAYLIGHT
BEGIN:STANDARD
DTSTART:20261025T030000
RDATE:20261025T030000
RDATE:20271031T030000
TZNAME:CET
TZOFFSETFROM:+0200
TZOFFSETTO:+0100
END:STANDARD
END:VTIMEZONE
BEGIN:VEVENT
SUMMARY:Ladijski borbeni sistemi (N) (LBS)\, Avditorne vaje (AV)
DTSTART;TZID=Europe/Ljubljana:20251001T112000
DTEND;TZID=Europe/Ljubljana:20251001T120500
DTSTAMP:20260424T194239Z
UID:fpp-AFLABS-URNIK:premaknjeno-srecanje:19906
ATTENDEE:3. letnik (N, SS)
ATTENDEE:3. letnik (N, VS)
CATEGORIES:Entry,Standard
COLOR:darkgreen
DESCRIPTION:Predmet: Ladijski borbeni sistemi (N) (LBS)\, Avditorne vaje (
 AV)\nLetniki: 3. letnik (N\, SS)\, 3. letnik (N\, VS)\nIzvajalci: Andrej A
 ndrojna\nProstor: PO1
LOCATION:PO1
ORGANIZER:Andrej Androjna
RELATED-TO:fpp-AFLABS-URNIK:srecanje:585
X-WR-TIMEZONE:Europe/Ljubljana
END:VEVENT
BEGIN:VEVENT
SUMMARY:Ladijski borbeni sistemi (PS) (LBS)\, Avditorne vaje (AV)
DTSTART;TZID=Europe/Ljubljana:20251001T112000
DTEND;TZID=Europe/Ljubljana:20251001T120500
DTSTAMP:20260424T194239Z
UID:fpp-AFLABS-URNIK:premaknjeno-srecanje:19938
ATTENDEE:3. letnik (PS, SS)
ATTENDEE:3. letnik (PS, VS)
CATEGORIES:Entry,Standard
COLOR:darkgreen
DESCRIPTION:Predmet: Ladijski borbeni sistemi (PS) (LBS)\, Avditorne vaje 
 (AV)\nLetniki: 3. letnik (PS\, SS)\, 3. letnik (PS\, VS)\nIzvajalci: Andre
 j Androjna\nProstor: PO1
LOCATION:PO1
ORGANIZER:Andrej Androjna
RELATED-TO:fpp-AFLABS-URNIK:srecanje:588
X-WR-TIMEZONE:Europe/Ljubljana
END:VEVENT
BEGIN:VEVENT
SUMMARY:Ladijski borbeni sistemi (PS) (LBS)\, Seminar (S)
DTSTART;TZID=Europe/Ljubljana:20251001T103000
DTEND;TZID=Europe/Ljubljana:20251001T111500
DTSTAMP:20260424T194239Z
UID:fpp-AFLABS-URNIK:premaknjeno-srecanje:19954
ATTENDEE:3. letnik (PS, SS)
ATTENDEE:3. letnik (PS, VS)
CATEGORIES:Entry,Standard
COLOR:darkgreen
DESCRIPTION:Predmet: Ladijski borbeni sistemi (PS) (LBS)\, Seminar (S)\nLe
 tniki: 3. letnik (PS\, SS)\, 3. letnik (PS\, VS)\nIzvajalci: Andrej Androj
 na\nProstor: PO1
LOCATION:PO1
ORGANIZER:Andrej Androjna
RELATED-TO:fpp-AFLABS-URNIK:srecanje:590
X-WR-TIMEZONE:Europe/Ljubljana
END:VEVENT
BEGIN:VEVENT
SUMMARY:Ladijski borbeni sistemi (N) (LBS)\, Seminar (S)
DTSTART;TZID=Europe/Ljubljana:20251001T103000
DTEND;TZID=Europe/Ljubljana:20251001T111500
DTSTAMP:20260424T194239Z
UID:fpp-AFLABS-URNIK:premaknjeno-srecanje:19986
ATTENDEE:3. letnik (N, SS)
ATTENDEE:3. letnik (N, VS)
CATEGORIES:Entry,Standard
COLOR:darkgreen
DESCRIPTION:Predmet: Ladijski borbeni sistemi (N) (LBS)\, Seminar (S)\nLet
 niki: 3. letnik (N\, SS)\, 3. letnik (N\, VS)\nIzvajalci: Andrej Androjna\
 nProstor: PO1
LOCATION:PO1
ORGANIZER:Andrej Androjna
RELATED-TO:fpp-AFLABS-URNIK:srecanje:587
X-WR-TIMEZONE:Europe/Ljubljana
END:VEVENT
BEGIN:VEVENT
SUMMARY:Ladijski borbeni sistemi (N) (LBS)\, Predavanje (P)
DTSTART;TZID=Europe/Ljubljana:20251001T080000
DTEND;TZID=Europe/Ljubljana:20251001T102500
DTSTAMP:20260424T194239Z
UID:fpp-AFLABS-URNIK:premaknjeno-srecanje:20002
ATTENDEE:3. letnik (N, SS)
ATTENDEE:3. letnik (N, VS)
CATEGORIES:Entry,Standard
COLOR:darkgreen
DESCRIPTION:Predmet: Ladijski borbeni sistemi (N) (LBS)\, Predavanje (P)\n
 Letniki: 3. letnik (N\, SS)\, 3. letnik (N\, VS)\nIzvajalci: Andrej Androj
 na\nProstor: PO1
LOCATION:PO1
ORGANIZER:Andrej Androjna
RELATED-TO:fpp-AFLABS-URNIK:srecanje:586
X-WR-TIMEZONE:Europe/Ljubljana
END:VEVENT
BEGIN:VEVENT
SUMMARY:Ladijski borbeni sistemi (PS) (LBS)\, Predavanje (P)
DTSTART;TZID=Europe/Ljubljana:20251001T080000
DTEND;TZID=Europe/Ljubljana:20251001T102500
DTSTAMP:20260424T194239Z
UID:fpp-AFLABS-URNIK:premaknjeno-srecanje:20760
ATTENDEE:3. letnik (PS, SS)
ATTENDEE:3. letnik (PS, VS)
CATEGORIES:Entry,Standard
COLOR:darkgreen
DESCRIPTION:Predmet: Ladijski borbeni sistemi (PS) (LBS)\, Predavanje (P)\
 nLetniki: 3. letnik (PS\, SS)\, 3. letnik (PS\, VS)\nIzvajalci: Andrej And
 rojna\nProstor: PO1
LOCATION:PO1
ORGANIZER:Andrej Androjna
RELATED-TO:fpp-AFLABS-URNIK:srecanje:589
X-WR-TIMEZONE:Europe/Ljubljana
END:VEVENT
BEGIN:VEVENT
SUMMARY:Tehnični nadzor v pomorstvu (POM2) (TNP)\, Predavanje (P)
DTSTART;TZID=Europe/Ljubljana:20251001T162000
DTEND;TZID=Europe/Ljubljana:20251001T193500
DTSTAMP:20260424T194239Z
UID:fpp-AFLABS-URNIK:premaknjeno-srecanje:31990
ATTENDEE:2. letnik (POM2)
CATEGORIES:Entry,Standard
COLOR:darkgreen
DESCRIPTION:Predmet: Tehnični nadzor v pomorstvu (POM2) (TNP)\, Predavanj
 e (P)\nLetniki: 2. letnik (POM2)\nIzvajalci: Andrej Androjna\nProstor: 202
LOCATION:202
ORGANIZER:Andrej Androjna
RELATED-TO:fpp-AFLABS-URNIK:srecanje:681
X-WR-TIMEZONE:Europe/Ljubljana
END:VEVENT
END:VCALENDAR
