BEGIN:VCALENDAR
VERSION:2.0
PRODID:-//AFLabs urnik izvoz - fpp//aflabs.si//SI
DTSTAMP:20260422T020142Z
NAME:UL FPP Urnik
REFRESH-INTERVAL:PT1H
SOURCE:https://afurnik-fpp.dev.aflabs.org/teacher/20?day=2026-02-02&export
 =1
URL:https://afurnik-fpp.dev.aflabs.org/teacher/20?day=2026-02-02&export=1
X-PUBLISHED-TTL:PT1H
X-WR-CALNAME:UL FPP Urnik
X-WR-TIMEZONE:Europe/Ljubljana
BEGIN:VTIMEZONE
TZID:Europe/Ljubljana
BEGIN:DAYLIGHT
DTSTART:20260329T020000
RDATE:20260329T020000
RDATE:20270328T020000
TZNAME:CEST
TZOFFSETFROM:+0100
TZOFFSETTO:+0200
END:DAYLIGHT
BEGIN:STANDARD
DTSTART:20261025T030000
RDATE:20261025T030000
RDATE:20271031T030000
TZNAME:CET
TZOFFSETFROM:+0200
TZOFFSETTO:+0100
END:STANDARD
END:VTIMEZONE
BEGIN:VEVENT
SUMMARY:Strokovna angleščina 2 (PTTL) (SANG2)\, Seminar (S)
DTSTART;TZID=Europe/Ljubljana:20251229T135000
DTEND;TZID=Europe/Ljubljana:20251229T152500
DTSTAMP:20260422T020142Z
UID:fpp-AFLABS-URNIK:premaknjeno-srecanje:12181
ATTENDEE:2. letnik (PTTL, SS)
ATTENDEE:2. letnik (PTTL, VS)
CATEGORIES:Entry,Standard
COLOR:darkgreen
DESCRIPTION:Predmet: Strokovna angleščina 2 (PTTL) (SANG2)\, Seminar (S)
 \nLetniki: 2. letnik (PTTL\, SS)\, 2. letnik (PTTL\, VS)\nIzvajalci: Mojca
  Marija Hočevar\nProstor: amfiteater
LOCATION:amfiteater
ORGANIZER:Mojca Marija Hočevar
RELATED-TO:fpp-AFLABS-URNIK:srecanje:764
X-WR-TIMEZONE:Europe/Ljubljana
END:VEVENT
BEGIN:VEVENT
SUMMARY:Strokovna angleščina 2 (PTTL) (SANG2)\, Seminar (S)
DTSTART;TZID=Europe/Ljubljana:20260105T135000
DTEND;TZID=Europe/Ljubljana:20260105T152500
DTSTAMP:20260422T020142Z
UID:fpp-AFLABS-URNIK:premaknjeno-srecanje:12182
ATTENDEE:2. letnik (PTTL, SS)
ATTENDEE:2. letnik (PTTL, VS)
CATEGORIES:Entry,Standard
COLOR:darkgreen
DESCRIPTION:Predmet: Strokovna angleščina 2 (PTTL) (SANG2)\, Seminar (S)
 \nLetniki: 2. letnik (PTTL\, SS)\, 2. letnik (PTTL\, VS)\nIzvajalci: Mojca
  Marija Hočevar\nProstor: amfiteater
LOCATION:amfiteater
ORGANIZER:Mojca Marija Hočevar
RELATED-TO:fpp-AFLABS-URNIK:srecanje:764
X-WR-TIMEZONE:Europe/Ljubljana
END:VEVENT
BEGIN:VEVENT
SUMMARY:Strokovna angleščina 2 (PTTL) (SANG2)\, Seminar (S)
DTSTART;TZID=Europe/Ljubljana:20260112T135000
DTEND;TZID=Europe/Ljubljana:20260112T152500
DTSTAMP:20260422T020142Z
UID:fpp-AFLABS-URNIK:premaknjeno-srecanje:12183
ATTENDEE:2. letnik (PTTL, SS)
ATTENDEE:2. letnik (PTTL, VS)
CATEGORIES:Entry,Standard
COLOR:darkgreen
DESCRIPTION:Predmet: Strokovna angleščina 2 (PTTL) (SANG2)\, Seminar (S)
 \nLetniki: 2. letnik (PTTL\, SS)\, 2. letnik (PTTL\, VS)\nIzvajalci: Mojca
  Marija Hočevar\nProstor: amfiteater
LOCATION:amfiteater
ORGANIZER:Mojca Marija Hočevar
RELATED-TO:fpp-AFLABS-URNIK:srecanje:764
X-WR-TIMEZONE:Europe/Ljubljana
END:VEVENT
BEGIN:VEVENT
SUMMARY:Strokovna angleščina 2 (PTTL) (SANG2)\, Predavanje (P)
DTSTART;TZID=Europe/Ljubljana:20251231T135000
DTEND;TZID=Europe/Ljubljana:20251231T152500
DTSTAMP:20260422T020142Z
UID:fpp-AFLABS-URNIK:premaknjeno-srecanje:15316
ATTENDEE:2. letnik (PTTL, SS)
ATTENDEE:2. letnik (PTTL, VS)
CATEGORIES:Entry,Standard
COLOR:darkgreen
DESCRIPTION:Predmet: Strokovna angleščina 2 (PTTL) (SANG2)\, Predavanje 
 (P)\nLetniki: 2. letnik (PTTL\, SS)\, 2. letnik (PTTL\, VS)\nIzvajalci: Mo
 jca Marija Hočevar\nProstor: amfiteater
LOCATION:amfiteater
ORGANIZER:Mojca Marija Hočevar
RELATED-TO:fpp-AFLABS-URNIK:srecanje:763
X-WR-TIMEZONE:Europe/Ljubljana
END:VEVENT
BEGIN:VEVENT
SUMMARY:Strokovna angleščina 2 (PTTL) (SANG2)\, Predavanje (P)
DTSTART;TZID=Europe/Ljubljana:20260107T135000
DTEND;TZID=Europe/Ljubljana:20260107T152500
DTSTAMP:20260422T020142Z
UID:fpp-AFLABS-URNIK:premaknjeno-srecanje:15317
ATTENDEE:2. letnik (PTTL, SS)
ATTENDEE:2. letnik (PTTL, VS)
CATEGORIES:Entry,Standard
COLOR:darkgreen
DESCRIPTION:Predmet: Strokovna angleščina 2 (PTTL) (SANG2)\, Predavanje 
 (P)\nLetniki: 2. letnik (PTTL\, SS)\, 2. letnik (PTTL\, VS)\nIzvajalci: Mo
 jca Marija Hočevar\nProstor: amfiteater
LOCATION:amfiteater
ORGANIZER:Mojca Marija Hočevar
RELATED-TO:fpp-AFLABS-URNIK:srecanje:763
X-WR-TIMEZONE:Europe/Ljubljana
END:VEVENT
BEGIN:VEVENT
SUMMARY:Strokovna angleščina 2 (PTTL) (SANG2)\, Predavanje (P)
DTSTART;TZID=Europe/Ljubljana:20260114T135000
DTEND;TZID=Europe/Ljubljana:20260114T152500
DTSTAMP:20260422T020142Z
UID:fpp-AFLABS-URNIK:premaknjeno-srecanje:15318
ATTENDEE:2. letnik (PTTL, SS)
ATTENDEE:2. letnik (PTTL, VS)
CATEGORIES:Entry,Standard
COLOR:darkgreen
DESCRIPTION:Predmet: Strokovna angleščina 2 (PTTL) (SANG2)\, Predavanje 
 (P)\nLetniki: 2. letnik (PTTL\, SS)\, 2. letnik (PTTL\, VS)\nIzvajalci: Mo
 jca Marija Hočevar\nProstor: amfiteater
LOCATION:amfiteater
ORGANIZER:Mojca Marija Hočevar
RELATED-TO:fpp-AFLABS-URNIK:srecanje:763
X-WR-TIMEZONE:Europe/Ljubljana
END:VEVENT
BEGIN:VEVENT
SUMMARY:Strokovna angleščina 2 (PTTL) (SANG2)\, Laboratorijske vaje (LV)
 \, [_sk A]
DTSTART;TZID=Europe/Ljubljana:20260108T121000
DTEND;TZID=Europe/Ljubljana:20260108T125500
DTSTAMP:20260422T020142Z
UID:fpp-AFLABS-URNIK:premaknjeno-srecanje:30618
ATTENDEE:2. letnik (PTTL, SS)
ATTENDEE:2. letnik (PTTL, VS)
CATEGORIES:Entry,Standard
COLOR:darkgreen
DESCRIPTION:Predmet: Strokovna angleščina 2 (PTTL) (SANG2)\, Laboratorij
 ske vaje (LV)\, [_sk A]\nLetniki: 2. letnik (PTTL\, SS)\, 2. letnik (PTTL\
 , VS)\nIzvajalci: Mojca Marija Hočevar\nProstor: R4
LOCATION:R4
ORGANIZER:Mojca Marija Hočevar
RELATED-TO:fpp-AFLABS-URNIK:srecanje:760
X-WR-TIMEZONE:Europe/Ljubljana
END:VEVENT
BEGIN:VEVENT
SUMMARY:Strokovna angleščina 2 (PTTL) (SANG2)\, Laboratorijske vaje (LV)
 \, [_sk A]
DTSTART;TZID=Europe/Ljubljana:20260115T121000
DTEND;TZID=Europe/Ljubljana:20260115T125500
DTSTAMP:20260422T020142Z
UID:fpp-AFLABS-URNIK:premaknjeno-srecanje:30619
ATTENDEE:2. letnik (PTTL, SS)
ATTENDEE:2. letnik (PTTL, VS)
CATEGORIES:Entry,Standard
COLOR:darkgreen
DESCRIPTION:Predmet: Strokovna angleščina 2 (PTTL) (SANG2)\, Laboratorij
 ske vaje (LV)\, [_sk A]\nLetniki: 2. letnik (PTTL\, SS)\, 2. letnik (PTTL\
 , VS)\nIzvajalci: Mojca Marija Hočevar\nProstor: R4
LOCATION:R4
ORGANIZER:Mojca Marija Hočevar
RELATED-TO:fpp-AFLABS-URNIK:srecanje:760
X-WR-TIMEZONE:Europe/Ljubljana
END:VEVENT
BEGIN:VEVENT
SUMMARY:Strokovna angleščina 2 (PTTL) (SANG2)\, Laboratorijske vaje (LV)
 \, [_sk B]
DTSTART;TZID=Europe/Ljubljana:20260108T130000
DTEND;TZID=Europe/Ljubljana:20260108T134500
DTSTAMP:20260422T020142Z
UID:fpp-AFLABS-URNIK:premaknjeno-srecanje:30632
ATTENDEE:2. letnik (PTTL, SS)
ATTENDEE:2. letnik (PTTL, VS)
CATEGORIES:Entry,Standard
COLOR:darkgreen
DESCRIPTION:Predmet: Strokovna angleščina 2 (PTTL) (SANG2)\, Laboratorij
 ske vaje (LV)\, [_sk B]\nLetniki: 2. letnik (PTTL\, SS)\, 2. letnik (PTTL\
 , VS)\nIzvajalci: Mojca Marija Hočevar\nProstor: R4
LOCATION:R4
ORGANIZER:Mojca Marija Hočevar
RELATED-TO:fpp-AFLABS-URNIK:srecanje:761
X-WR-TIMEZONE:Europe/Ljubljana
END:VEVENT
BEGIN:VEVENT
SUMMARY:Strokovna angleščina 2 (PTTL) (SANG2)\, Laboratorijske vaje (LV)
 \, [_sk B]
DTSTART;TZID=Europe/Ljubljana:20260115T130000
DTEND;TZID=Europe/Ljubljana:20260115T134500
DTSTAMP:20260422T020142Z
UID:fpp-AFLABS-URNIK:premaknjeno-srecanje:30633
ATTENDEE:2. letnik (PTTL, SS)
ATTENDEE:2. letnik (PTTL, VS)
CATEGORIES:Entry,Standard
COLOR:darkgreen
DESCRIPTION:Predmet: Strokovna angleščina 2 (PTTL) (SANG2)\, Laboratorij
 ske vaje (LV)\, [_sk B]\nLetniki: 2. letnik (PTTL\, SS)\, 2. letnik (PTTL\
 , VS)\nIzvajalci: Mojca Marija Hočevar\nProstor: R4
LOCATION:R4
ORGANIZER:Mojca Marija Hočevar
RELATED-TO:fpp-AFLABS-URNIK:srecanje:761
X-WR-TIMEZONE:Europe/Ljubljana
END:VEVENT
BEGIN:VEVENT
SUMMARY:Strokovna angleščina 1 (PTTL) (SANG1)\, Seminar (S)
DTSTART;TZID=Europe/Ljubljana:20260217T135000
DTEND;TZID=Europe/Ljubljana:20260217T152500
DTSTAMP:20260422T020142Z
UID:fpp-AFLABS-URNIK:premaknjeno-srecanje:26801
ATTENDEE:1. letnik (PTTL, SS)
ATTENDEE:1. letnik (PTTL, VS)
CATEGORIES:Entry,Standard
COLOR:darkgreen
DESCRIPTION:Predmet: Strokovna angleščina 1 (PTTL) (SANG1)\, Seminar (S)
 \nLetniki: 1. letnik (PTTL\, SS)\, 1. letnik (PTTL\, VS)\nIzvajalci: Mojca
  Marija Hočevar\nProstor: amfiteater
LOCATION:amfiteater
ORGANIZER:Mojca Marija Hočevar
RELATED-TO:fpp-AFLABS-URNIK:srecanje:1030
X-WR-TIMEZONE:Europe/Ljubljana
END:VEVENT
BEGIN:VEVENT
SUMMARY:Strokovna angleščina 1 (PTTL) (SANG1)\, Seminar (S)
DTSTART;TZID=Europe/Ljubljana:20260224T135000
DTEND;TZID=Europe/Ljubljana:20260224T152500
DTSTAMP:20260422T020142Z
UID:fpp-AFLABS-URNIK:premaknjeno-srecanje:26802
ATTENDEE:1. letnik (PTTL, SS)
ATTENDEE:1. letnik (PTTL, VS)
CATEGORIES:Entry,Standard
COLOR:darkgreen
DESCRIPTION:Predmet: Strokovna angleščina 1 (PTTL) (SANG1)\, Seminar (S)
 \nLetniki: 1. letnik (PTTL\, SS)\, 1. letnik (PTTL\, VS)\nIzvajalci: Mojca
  Marija Hočevar\nProstor: amfiteater
LOCATION:amfiteater
ORGANIZER:Mojca Marija Hočevar
RELATED-TO:fpp-AFLABS-URNIK:srecanje:1030
X-WR-TIMEZONE:Europe/Ljubljana
END:VEVENT
BEGIN:VEVENT
SUMMARY:Strokovna angleščina 1 (PTTL) (SANG1)\, Seminar (S)
DTSTART;TZID=Europe/Ljubljana:20260303T135000
DTEND;TZID=Europe/Ljubljana:20260303T152500
DTSTAMP:20260422T020142Z
UID:fpp-AFLABS-URNIK:premaknjeno-srecanje:26803
ATTENDEE:1. letnik (PTTL, SS)
ATTENDEE:1. letnik (PTTL, VS)
CATEGORIES:Entry,Standard
COLOR:darkgreen
DESCRIPTION:Predmet: Strokovna angleščina 1 (PTTL) (SANG1)\, Seminar (S)
 \nLetniki: 1. letnik (PTTL\, SS)\, 1. letnik (PTTL\, VS)\nIzvajalci: Mojca
  Marija Hočevar\nProstor: amfiteater
LOCATION:amfiteater
ORGANIZER:Mojca Marija Hočevar
RELATED-TO:fpp-AFLABS-URNIK:srecanje:1030
X-WR-TIMEZONE:Europe/Ljubljana
END:VEVENT
BEGIN:VEVENT
SUMMARY:Strokovna angleščina 1 (PTTL) (SANG1)\, Predavanje (P)
DTSTART;TZID=Europe/Ljubljana:20260218T103000
DTEND;TZID=Europe/Ljubljana:20260218T120500
DTSTAMP:20260422T020142Z
UID:fpp-AFLABS-URNIK:premaknjeno-srecanje:26785
ATTENDEE:1. letnik (PTTL, SS)
ATTENDEE:1. letnik (PTTL, VS)
CATEGORIES:Entry,Standard
COLOR:darkgreen
DESCRIPTION:Predmet: Strokovna angleščina 1 (PTTL) (SANG1)\, Predavanje 
 (P)\nLetniki: 1. letnik (PTTL\, SS)\, 1. letnik (PTTL\, VS)\nIzvajalci: Mo
 jca Marija Hočevar\nProstor: amfiteater
LOCATION:amfiteater
ORGANIZER:Mojca Marija Hočevar
RELATED-TO:fpp-AFLABS-URNIK:srecanje:1029
X-WR-TIMEZONE:Europe/Ljubljana
END:VEVENT
BEGIN:VEVENT
SUMMARY:Strokovna angleščina 1 (PTTL) (SANG1)\, Predavanje (P)
DTSTART;TZID=Europe/Ljubljana:20260225T103000
DTEND;TZID=Europe/Ljubljana:20260225T120500
DTSTAMP:20260422T020142Z
UID:fpp-AFLABS-URNIK:premaknjeno-srecanje:26786
ATTENDEE:1. letnik (PTTL, SS)
ATTENDEE:1. letnik (PTTL, VS)
CATEGORIES:Entry,Standard
COLOR:darkgreen
DESCRIPTION:Predmet: Strokovna angleščina 1 (PTTL) (SANG1)\, Predavanje 
 (P)\nLetniki: 1. letnik (PTTL\, SS)\, 1. letnik (PTTL\, VS)\nIzvajalci: Mo
 jca Marija Hočevar\nProstor: amfiteater
LOCATION:amfiteater
ORGANIZER:Mojca Marija Hočevar
RELATED-TO:fpp-AFLABS-URNIK:srecanje:1029
X-WR-TIMEZONE:Europe/Ljubljana
END:VEVENT
BEGIN:VEVENT
SUMMARY:Strokovna angleščina 1 (PTTL) (SANG1)\, Predavanje (P)
DTSTART;TZID=Europe/Ljubljana:20260304T103000
DTEND;TZID=Europe/Ljubljana:20260304T120500
DTSTAMP:20260422T020142Z
UID:fpp-AFLABS-URNIK:premaknjeno-srecanje:26787
ATTENDEE:1. letnik (PTTL, SS)
ATTENDEE:1. letnik (PTTL, VS)
CATEGORIES:Entry,Standard
COLOR:darkgreen
DESCRIPTION:Predmet: Strokovna angleščina 1 (PTTL) (SANG1)\, Predavanje 
 (P)\nLetniki: 1. letnik (PTTL\, SS)\, 1. letnik (PTTL\, VS)\nIzvajalci: Mo
 jca Marija Hočevar\nProstor: amfiteater
LOCATION:amfiteater
ORGANIZER:Mojca Marija Hočevar
RELATED-TO:fpp-AFLABS-URNIK:srecanje:1029
X-WR-TIMEZONE:Europe/Ljubljana
END:VEVENT
BEGIN:VEVENT
SUMMARY:Strokovna angleščina 1 (PTTL) (SANG1)\, Laboratorijske vaje (LV)
 \, [_sk 1.1]
DTSTART;TZID=Europe/Ljubljana:20260220T103000
DTEND;TZID=Europe/Ljubljana:20260220T111500
DTSTAMP:20260422T020142Z
UID:fpp-AFLABS-URNIK:premaknjeno-srecanje:27619
ATTENDEE:1. letnik (PTTL, SS)
ATTENDEE:1. letnik (PTTL, VS)
CATEGORIES:Entry,Standard
COLOR:darkgreen
DESCRIPTION:Predmet: Strokovna angleščina 1 (PTTL) (SANG1)\, Laboratorij
 ske vaje (LV)\, [_sk 1.1]\nLetniki: 1. letnik (PTTL\, SS)\, 1. letnik (PTT
 L\, VS)\nIzvajalci: Mojca Marija Hočevar\nProstor: R4
LOCATION:R4
ORGANIZER:Mojca Marija Hočevar
RELATED-TO:fpp-AFLABS-URNIK:srecanje:1026
X-WR-TIMEZONE:Europe/Ljubljana
END:VEVENT
BEGIN:VEVENT
SUMMARY:Strokovna angleščina 1 (PTTL) (SANG1)\, Laboratorijske vaje (LV)
 \, [_sk 1.1]
DTSTART;TZID=Europe/Ljubljana:20260227T103000
DTEND;TZID=Europe/Ljubljana:20260227T111500
DTSTAMP:20260422T020142Z
UID:fpp-AFLABS-URNIK:premaknjeno-srecanje:27620
ATTENDEE:1. letnik (PTTL, SS)
ATTENDEE:1. letnik (PTTL, VS)
CATEGORIES:Entry,Standard
COLOR:darkgreen
DESCRIPTION:Predmet: Strokovna angleščina 1 (PTTL) (SANG1)\, Laboratorij
 ske vaje (LV)\, [_sk 1.1]\nLetniki: 1. letnik (PTTL\, SS)\, 1. letnik (PTT
 L\, VS)\nIzvajalci: Mojca Marija Hočevar\nProstor: R4
LOCATION:R4
ORGANIZER:Mojca Marija Hočevar
RELATED-TO:fpp-AFLABS-URNIK:srecanje:1026
X-WR-TIMEZONE:Europe/Ljubljana
END:VEVENT
BEGIN:VEVENT
SUMMARY:Strokovna angleščina 1 (PTTL) (SANG1)\, Laboratorijske vaje (LV)
 \, [_sk 1.1]
DTSTART;TZID=Europe/Ljubljana:20260306T103000
DTEND;TZID=Europe/Ljubljana:20260306T111500
DTSTAMP:20260422T020142Z
UID:fpp-AFLABS-URNIK:premaknjeno-srecanje:27621
ATTENDEE:1. letnik (PTTL, SS)
ATTENDEE:1. letnik (PTTL, VS)
CATEGORIES:Entry,Standard
COLOR:darkgreen
DESCRIPTION:Predmet: Strokovna angleščina 1 (PTTL) (SANG1)\, Laboratorij
 ske vaje (LV)\, [_sk 1.1]\nLetniki: 1. letnik (PTTL\, SS)\, 1. letnik (PTT
 L\, VS)\nIzvajalci: Mojca Marija Hočevar\nProstor: R4
LOCATION:R4
ORGANIZER:Mojca Marija Hočevar
RELATED-TO:fpp-AFLABS-URNIK:srecanje:1026
X-WR-TIMEZONE:Europe/Ljubljana
END:VEVENT
BEGIN:VEVENT
SUMMARY:Strokovna angleščina 1 (PTTL) (SANG1)\, Laboratorijske vaje (LV)
 \, [_sk 1.2]
DTSTART;TZID=Europe/Ljubljana:20260220T112000
DTEND;TZID=Europe/Ljubljana:20260220T120500
DTSTAMP:20260422T020142Z
UID:fpp-AFLABS-URNIK:premaknjeno-srecanje:27634
ATTENDEE:1. letnik (PTTL, SS)
ATTENDEE:1. letnik (PTTL, VS)
CATEGORIES:Entry,Standard
COLOR:darkgreen
DESCRIPTION:Predmet: Strokovna angleščina 1 (PTTL) (SANG1)\, Laboratorij
 ske vaje (LV)\, [_sk 1.2]\nLetniki: 1. letnik (PTTL\, SS)\, 1. letnik (PTT
 L\, VS)\nIzvajalci: Mojca Marija Hočevar\nProstor: R4
LOCATION:R4
ORGANIZER:Mojca Marija Hočevar
RELATED-TO:fpp-AFLABS-URNIK:srecanje:1027
X-WR-TIMEZONE:Europe/Ljubljana
END:VEVENT
BEGIN:VEVENT
SUMMARY:Strokovna angleščina 1 (PTTL) (SANG1)\, Laboratorijske vaje (LV)
 \, [_sk 1.2]
DTSTART;TZID=Europe/Ljubljana:20260227T112000
DTEND;TZID=Europe/Ljubljana:20260227T120500
DTSTAMP:20260422T020142Z
UID:fpp-AFLABS-URNIK:premaknjeno-srecanje:27635
ATTENDEE:1. letnik (PTTL, SS)
ATTENDEE:1. letnik (PTTL, VS)
CATEGORIES:Entry,Standard
COLOR:darkgreen
DESCRIPTION:Predmet: Strokovna angleščina 1 (PTTL) (SANG1)\, Laboratorij
 ske vaje (LV)\, [_sk 1.2]\nLetniki: 1. letnik (PTTL\, SS)\, 1. letnik (PTT
 L\, VS)\nIzvajalci: Mojca Marija Hočevar\nProstor: R4
LOCATION:R4
ORGANIZER:Mojca Marija Hočevar
RELATED-TO:fpp-AFLABS-URNIK:srecanje:1027
X-WR-TIMEZONE:Europe/Ljubljana
END:VEVENT
BEGIN:VEVENT
SUMMARY:Strokovna angleščina 1 (PTTL) (SANG1)\, Laboratorijske vaje (LV)
 \, [_sk 1.2]
DTSTART;TZID=Europe/Ljubljana:20260306T112000
DTEND;TZID=Europe/Ljubljana:20260306T120500
DTSTAMP:20260422T020142Z
UID:fpp-AFLABS-URNIK:premaknjeno-srecanje:27636
ATTENDEE:1. letnik (PTTL, SS)
ATTENDEE:1. letnik (PTTL, VS)
CATEGORIES:Entry,Standard
COLOR:darkgreen
DESCRIPTION:Predmet: Strokovna angleščina 1 (PTTL) (SANG1)\, Laboratorij
 ske vaje (LV)\, [_sk 1.2]\nLetniki: 1. letnik (PTTL\, SS)\, 1. letnik (PTT
 L\, VS)\nIzvajalci: Mojca Marija Hočevar\nProstor: R4
LOCATION:R4
ORGANIZER:Mojca Marija Hočevar
RELATED-TO:fpp-AFLABS-URNIK:srecanje:1027
X-WR-TIMEZONE:Europe/Ljubljana
END:VEVENT
BEGIN:VEVENT
SUMMARY:Strokovna angleščina 1 (PTTL) (SANG1)\, Laboratorijske vaje (LV)
 \, [_sk 1.3]
DTSTART;TZID=Europe/Ljubljana:20260220T121000
DTEND;TZID=Europe/Ljubljana:20260220T125500
DTSTAMP:20260422T020142Z
UID:fpp-AFLABS-URNIK:premaknjeno-srecanje:27649
ATTENDEE:1. letnik (PTTL, SS)
ATTENDEE:1. letnik (PTTL, VS)
CATEGORIES:Entry,Standard
COLOR:darkgreen
DESCRIPTION:Predmet: Strokovna angleščina 1 (PTTL) (SANG1)\, Laboratorij
 ske vaje (LV)\, [_sk 1.3]\nLetniki: 1. letnik (PTTL\, SS)\, 1. letnik (PTT
 L\, VS)\nIzvajalci: Mojca Marija Hočevar\nProstor: R4
LOCATION:R4
ORGANIZER:Mojca Marija Hočevar
RELATED-TO:fpp-AFLABS-URNIK:srecanje:1028
X-WR-TIMEZONE:Europe/Ljubljana
END:VEVENT
BEGIN:VEVENT
SUMMARY:Strokovna angleščina 1 (PTTL) (SANG1)\, Laboratorijske vaje (LV)
 \, [_sk 1.3]
DTSTART;TZID=Europe/Ljubljana:20260227T121000
DTEND;TZID=Europe/Ljubljana:20260227T125500
DTSTAMP:20260422T020142Z
UID:fpp-AFLABS-URNIK:premaknjeno-srecanje:27650
ATTENDEE:1. letnik (PTTL, SS)
ATTENDEE:1. letnik (PTTL, VS)
CATEGORIES:Entry,Standard
COLOR:darkgreen
DESCRIPTION:Predmet: Strokovna angleščina 1 (PTTL) (SANG1)\, Laboratorij
 ske vaje (LV)\, [_sk 1.3]\nLetniki: 1. letnik (PTTL\, SS)\, 1. letnik (PTT
 L\, VS)\nIzvajalci: Mojca Marija Hočevar\nProstor: R4
LOCATION:R4
ORGANIZER:Mojca Marija Hočevar
RELATED-TO:fpp-AFLABS-URNIK:srecanje:1028
X-WR-TIMEZONE:Europe/Ljubljana
END:VEVENT
BEGIN:VEVENT
SUMMARY:Strokovna angleščina 1 (PTTL) (SANG1)\, Laboratorijske vaje (LV)
 \, [_sk 1.3]
DTSTART;TZID=Europe/Ljubljana:20260306T121000
DTEND;TZID=Europe/Ljubljana:20260306T125500
DTSTAMP:20260422T020142Z
UID:fpp-AFLABS-URNIK:premaknjeno-srecanje:27651
ATTENDEE:1. letnik (PTTL, SS)
ATTENDEE:1. letnik (PTTL, VS)
CATEGORIES:Entry,Standard
COLOR:darkgreen
DESCRIPTION:Predmet: Strokovna angleščina 1 (PTTL) (SANG1)\, Laboratorij
 ske vaje (LV)\, [_sk 1.3]\nLetniki: 1. letnik (PTTL\, SS)\, 1. letnik (PTT
 L\, VS)\nIzvajalci: Mojca Marija Hočevar\nProstor: R4
LOCATION:R4
ORGANIZER:Mojca Marija Hočevar
RELATED-TO:fpp-AFLABS-URNIK:srecanje:1028
X-WR-TIMEZONE:Europe/Ljubljana
END:VEVENT
END:VCALENDAR
