BEGIN:VCALENDAR
VERSION:2.0
PRODID:-//AFLabs urnik izvoz - fpp//aflabs.si//SI
DTSTAMP:20260426T021346Z
NAME:UL FPP Urnik
REFRESH-INTERVAL:PT1H
SOURCE:https://afurnik-fpp.dev.aflabs.org/teacher/22?day=2024-08-27&export
 =1
URL:https://afurnik-fpp.dev.aflabs.org/teacher/22?day=2024-08-27&export=1
X-PUBLISHED-TTL:PT1H
X-WR-CALNAME:UL FPP Urnik
X-WR-TIMEZONE:Europe/Ljubljana
BEGIN:VTIMEZONE
TZID:Europe/Ljubljana
BEGIN:DAYLIGHT
DTSTART:20260329T020000
RDATE:20260329T020000
RDATE:20270328T020000
TZNAME:CEST
TZOFFSETFROM:+0100
TZOFFSETTO:+0200
END:DAYLIGHT
BEGIN:STANDARD
DTSTART:20261025T030000
RDATE:20261025T030000
RDATE:20271031T030000
TZNAME:CET
TZOFFSETFROM:+0200
TZOFFSETTO:+0100
END:STANDARD
END:VTIMEZONE
BEGIN:VEVENT
SUMMARY:Varnost v prometu in logistiki (PTTL) (VPL)\, Predavanje (P)
DTSTART;TZID=Europe/Ljubljana:20241001T130000
DTEND;TZID=Europe/Ljubljana:20241001T143500
DTSTAMP:20260426T021346Z
UID:fpp-AFLABS-URNIK:premaknjeno-srecanje:208
ATTENDEE:3. letnik (PTTL, SS)
ATTENDEE:3. letnik (PTTL, VS)
CATEGORIES:Entry,Standard
COLOR:darkgreen
DESCRIPTION:Predmet: Varnost v prometu in logistiki (PTTL) (VPL)\, Predava
 nje (P)\nLetniki: 3. letnik (PTTL\, SS)\, 3. letnik (PTTL\, VS)\nIzvajalci
 : Peter Jenček\nProstor: 206
LOCATION:206
ORGANIZER:Peter Jenček
RELATED-TO:fpp-AFLABS-URNIK:srecanje:208
X-WR-TIMEZONE:Europe/Ljubljana
END:VEVENT
BEGIN:VEVENT
SUMMARY:Varnost v prometu in logistiki (PTTL) (VPL)\, Seminar (S)
DTSTART;TZID=Europe/Ljubljana:20241001T144000
DTEND;TZID=Europe/Ljubljana:20241001T152500
DTSTAMP:20260426T021346Z
UID:fpp-AFLABS-URNIK:premaknjeno-srecanje:214
ATTENDEE:3. letnik (PTTL, SS)
ATTENDEE:3. letnik (PTTL, VS)
CATEGORIES:Entry,Standard
COLOR:darkgreen
DESCRIPTION:Predmet: Varnost v prometu in logistiki (PTTL) (VPL)\, Seminar
  (S)\nLetniki: 3. letnik (PTTL\, SS)\, 3. letnik (PTTL\, VS)\nIzvajalci: P
 eter Jenček\nProstor: 206
LOCATION:206
ORGANIZER:Peter Jenček
RELATED-TO:fpp-AFLABS-URNIK:srecanje:214
X-WR-TIMEZONE:Europe/Ljubljana
END:VEVENT
BEGIN:VEVENT
SUMMARY:Varnost v prometu in logistiki (PTTL) (VPL)\, Avditorne vaje (AV)
DTSTART;TZID=Europe/Ljubljana:20241001T153000
DTEND;TZID=Europe/Ljubljana:20241001T170500
DTSTAMP:20260426T021346Z
UID:fpp-AFLABS-URNIK:premaknjeno-srecanje:216
ATTENDEE:3. letnik (PTTL, SS)
ATTENDEE:3. letnik (PTTL, VS)
CATEGORIES:Entry,Standard
COLOR:darkgreen
DESCRIPTION:Predmet: Varnost v prometu in logistiki (PTTL) (VPL)\, Avditor
 ne vaje (AV)\nLetniki: 3. letnik (PTTL\, SS)\, 3. letnik (PTTL\, VS)\nIzva
 jalci: Peter Jenček\nProstor: 206
LOCATION:206
ORGANIZER:Peter Jenček
RELATED-TO:fpp-AFLABS-URNIK:srecanje:216
X-WR-TIMEZONE:Europe/Ljubljana
END:VEVENT
END:VCALENDAR
