BEGIN:VCALENDAR
VERSION:2.0
PRODID:-//AFLabs urnik izvoz - fpp//aflabs.si//SI
DTSTAMP:20260422T100342Z
NAME:UL FPP Urnik
REFRESH-INTERVAL:PT1H
SOURCE:https://afurnik-fpp.dev.aflabs.org/teacher/30?day=2025-06-09&export
 =1
URL:https://afurnik-fpp.dev.aflabs.org/teacher/30?day=2025-06-09&export=1
X-PUBLISHED-TTL:PT1H
X-WR-CALNAME:UL FPP Urnik
X-WR-TIMEZONE:Europe/Ljubljana
BEGIN:VTIMEZONE
TZID:Europe/Ljubljana
BEGIN:DAYLIGHT
DTSTART:20260329T020000
RDATE:20260329T020000
RDATE:20270328T020000
TZNAME:CEST
TZOFFSETFROM:+0100
TZOFFSETTO:+0200
END:DAYLIGHT
BEGIN:STANDARD
DTSTART:20261025T030000
RDATE:20261025T030000
RDATE:20271031T030000
TZNAME:CET
TZOFFSETFROM:+0200
TZOFFSETTO:+0100
END:STANDARD
END:VTIMEZONE
BEGIN:VEVENT
SUMMARY:Informatika v logistiki (TPL-U) (IL)\, Predavanje (P)
DTSTART;TZID=Europe/Ljubljana:20250505T130000
DTEND;TZID=Europe/Ljubljana:20250505T143500
DTSTAMP:20260422T100342Z
UID:fpp-AFLABS-URNIK:premaknjeno-srecanje:5568
ATTENDEE:3. letnik (TPL-U)
CATEGORIES:Entry,Standard
COLOR:darkgreen
DESCRIPTION:Predmet: Informatika v logistiki (TPL-U) (IL)\, Predavanje (P)
 \nLetniki: 3. letnik (TPL-U)\nIzvajalci: Evelin Krmac\nProstor: R4
LOCATION:R4
ORGANIZER:Evelin Krmac
RELATED-TO:fpp-AFLABS-URNIK:srecanje:463
X-WR-TIMEZONE:Europe/Ljubljana
END:VEVENT
BEGIN:VEVENT
SUMMARY:Informatika v logistiki (TPL-U) (IL)\, Predavanje (P)
DTSTART;TZID=Europe/Ljubljana:20250512T130000
DTEND;TZID=Europe/Ljubljana:20250512T143500
DTSTAMP:20260422T100342Z
UID:fpp-AFLABS-URNIK:premaknjeno-srecanje:5569
ATTENDEE:3. letnik (TPL-U)
CATEGORIES:Entry,Standard
COLOR:darkgreen
DESCRIPTION:Predmet: Informatika v logistiki (TPL-U) (IL)\, Predavanje (P)
 \nLetniki: 3. letnik (TPL-U)\nIzvajalci: Evelin Krmac\nProstor: R4
LOCATION:R4
ORGANIZER:Evelin Krmac
RELATED-TO:fpp-AFLABS-URNIK:srecanje:463
X-WR-TIMEZONE:Europe/Ljubljana
END:VEVENT
BEGIN:VEVENT
SUMMARY:Informatika v logistiki (TPL-U) (IL)\, Predavanje (P)
DTSTART;TZID=Europe/Ljubljana:20250519T130000
DTEND;TZID=Europe/Ljubljana:20250519T143500
DTSTAMP:20260422T100342Z
UID:fpp-AFLABS-URNIK:premaknjeno-srecanje:5570
ATTENDEE:3. letnik (TPL-U)
CATEGORIES:Entry,Standard
COLOR:darkgreen
DESCRIPTION:Predmet: Informatika v logistiki (TPL-U) (IL)\, Predavanje (P)
 \nLetniki: 3. letnik (TPL-U)\nIzvajalci: Evelin Krmac\nProstor: R4
LOCATION:R4
ORGANIZER:Evelin Krmac
RELATED-TO:fpp-AFLABS-URNIK:srecanje:463
X-WR-TIMEZONE:Europe/Ljubljana
END:VEVENT
BEGIN:VEVENT
SUMMARY:Informatika v logistiki (TPL-U) (IL)\, Predavanje (P)
DTSTART;TZID=Europe/Ljubljana:20250526T130000
DTEND;TZID=Europe/Ljubljana:20250526T143500
DTSTAMP:20260422T100342Z
UID:fpp-AFLABS-URNIK:premaknjeno-srecanje:5571
ATTENDEE:3. letnik (TPL-U)
CATEGORIES:Entry,Standard
COLOR:darkgreen
DESCRIPTION:Predmet: Informatika v logistiki (TPL-U) (IL)\, Predavanje (P)
 \nLetniki: 3. letnik (TPL-U)\nIzvajalci: Evelin Krmac\nProstor: R4
LOCATION:R4
ORGANIZER:Evelin Krmac
RELATED-TO:fpp-AFLABS-URNIK:srecanje:463
X-WR-TIMEZONE:Europe/Ljubljana
END:VEVENT
BEGIN:VEVENT
SUMMARY:Informatika v logistiki (TPL-U) (IL)\, Predavanje (P)
DTSTART;TZID=Europe/Ljubljana:20250602T130000
DTEND;TZID=Europe/Ljubljana:20250602T143500
DTSTAMP:20260422T100342Z
UID:fpp-AFLABS-URNIK:premaknjeno-srecanje:5572
ATTENDEE:3. letnik (TPL-U)
CATEGORIES:Entry,Standard
COLOR:darkgreen
DESCRIPTION:Predmet: Informatika v logistiki (TPL-U) (IL)\, Predavanje (P)
 \nLetniki: 3. letnik (TPL-U)\nIzvajalci: Evelin Krmac\nProstor: R4
LOCATION:R4
ORGANIZER:Evelin Krmac
RELATED-TO:fpp-AFLABS-URNIK:srecanje:463
X-WR-TIMEZONE:Europe/Ljubljana
END:VEVENT
BEGIN:VEVENT
SUMMARY:Računalništvo in informatika (N) (RI)\, Predavanje (P)
DTSTART;TZID=Europe/Ljubljana:20250507T085000
DTEND;TZID=Europe/Ljubljana:20250507T111500
DTSTAMP:20260422T100342Z
UID:fpp-AFLABS-URNIK:premaknjeno-srecanje:6843
ATTENDEE:1. letnik (N, SS)
ATTENDEE:1. letnik (N, VS)
CATEGORIES:Entry,Standard
COLOR:darkgreen
DESCRIPTION:Predmet: Računalništvo in informatika (N) (RI)\, Predavanje 
 (P)\nLetniki: 1. letnik (N\, SS)\, 1. letnik (N\, VS)\nIzvajalci: Evelin K
 rmac\nProstor: P2
LOCATION:P2
ORGANIZER:Evelin Krmac
RELATED-TO:fpp-AFLABS-URNIK:srecanje:505
X-WR-TIMEZONE:Europe/Ljubljana
END:VEVENT
BEGIN:VEVENT
SUMMARY:Računalništvo in informatika (N) (RI)\, Predavanje (P)
DTSTART;TZID=Europe/Ljubljana:20250514T085000
DTEND;TZID=Europe/Ljubljana:20250514T111500
DTSTAMP:20260422T100342Z
UID:fpp-AFLABS-URNIK:premaknjeno-srecanje:6844
ATTENDEE:1. letnik (N, SS)
ATTENDEE:1. letnik (N, VS)
CATEGORIES:Entry,Standard
COLOR:darkgreen
DESCRIPTION:Predmet: Računalništvo in informatika (N) (RI)\, Predavanje 
 (P)\nLetniki: 1. letnik (N\, SS)\, 1. letnik (N\, VS)\nIzvajalci: Evelin K
 rmac\nProstor: P2
LOCATION:P2
ORGANIZER:Evelin Krmac
RELATED-TO:fpp-AFLABS-URNIK:srecanje:505
X-WR-TIMEZONE:Europe/Ljubljana
END:VEVENT
BEGIN:VEVENT
SUMMARY:Računalništvo in informatika (N) (RI)\, Predavanje (P)
DTSTART;TZID=Europe/Ljubljana:20250521T085000
DTEND;TZID=Europe/Ljubljana:20250521T111500
DTSTAMP:20260422T100342Z
UID:fpp-AFLABS-URNIK:premaknjeno-srecanje:6845
ATTENDEE:1. letnik (N, SS)
ATTENDEE:1. letnik (N, VS)
CATEGORIES:Entry,Standard
COLOR:darkgreen
DESCRIPTION:Predmet: Računalništvo in informatika (N) (RI)\, Predavanje 
 (P)\nLetniki: 1. letnik (N\, SS)\, 1. letnik (N\, VS)\nIzvajalci: Evelin K
 rmac\nProstor: P2
LOCATION:P2
ORGANIZER:Evelin Krmac
RELATED-TO:fpp-AFLABS-URNIK:srecanje:505
X-WR-TIMEZONE:Europe/Ljubljana
END:VEVENT
BEGIN:VEVENT
SUMMARY:Računalništvo in informatika (N) (RI)\, Predavanje (P)
DTSTART;TZID=Europe/Ljubljana:20250528T085000
DTEND;TZID=Europe/Ljubljana:20250528T111500
DTSTAMP:20260422T100342Z
UID:fpp-AFLABS-URNIK:premaknjeno-srecanje:6846
ATTENDEE:1. letnik (N, SS)
ATTENDEE:1. letnik (N, VS)
CATEGORIES:Entry,Standard
COLOR:darkgreen
DESCRIPTION:Predmet: Računalništvo in informatika (N) (RI)\, Predavanje 
 (P)\nLetniki: 1. letnik (N\, SS)\, 1. letnik (N\, VS)\nIzvajalci: Evelin K
 rmac\nProstor: P2
LOCATION:P2
ORGANIZER:Evelin Krmac
RELATED-TO:fpp-AFLABS-URNIK:srecanje:505
X-WR-TIMEZONE:Europe/Ljubljana
END:VEVENT
BEGIN:VEVENT
SUMMARY:Računalništvo in informatika (N) (RI)\, Predavanje (P)
DTSTART;TZID=Europe/Ljubljana:20250604T085000
DTEND;TZID=Europe/Ljubljana:20250604T111500
DTSTAMP:20260422T100342Z
UID:fpp-AFLABS-URNIK:premaknjeno-srecanje:6847
ATTENDEE:1. letnik (N, SS)
ATTENDEE:1. letnik (N, VS)
CATEGORIES:Entry,Standard
COLOR:darkgreen
DESCRIPTION:Predmet: Računalništvo in informatika (N) (RI)\, Predavanje 
 (P)\nLetniki: 1. letnik (N\, SS)\, 1. letnik (N\, VS)\nIzvajalci: Evelin K
 rmac\nProstor: P2
LOCATION:P2
ORGANIZER:Evelin Krmac
RELATED-TO:fpp-AFLABS-URNIK:srecanje:505
X-WR-TIMEZONE:Europe/Ljubljana
END:VEVENT
BEGIN:VEVENT
SUMMARY:Računalništvo in informatika (PS) (RI)\, Predavanje (P)
DTSTART;TZID=Europe/Ljubljana:20250507T085000
DTEND;TZID=Europe/Ljubljana:20250507T111500
DTSTAMP:20260422T100342Z
UID:fpp-AFLABS-URNIK:premaknjeno-srecanje:6873
ATTENDEE:1. letnik (PS, SS)
ATTENDEE:1. letnik (PS, VS)
CATEGORIES:Entry,Standard
COLOR:darkgreen
DESCRIPTION:Predmet: Računalništvo in informatika (PS) (RI)\, Predavanje
  (P)\nLetniki: 1. letnik (PS\, SS)\, 1. letnik (PS\, VS)\nIzvajalci: Eveli
 n Krmac\nProstor: R4
LOCATION:R4
ORGANIZER:Evelin Krmac
RELATED-TO:fpp-AFLABS-URNIK:srecanje:325
X-WR-TIMEZONE:Europe/Ljubljana
END:VEVENT
BEGIN:VEVENT
SUMMARY:Računalništvo in informatika (PS) (RI)\, Predavanje (P)
DTSTART;TZID=Europe/Ljubljana:20250514T085000
DTEND;TZID=Europe/Ljubljana:20250514T111500
DTSTAMP:20260422T100342Z
UID:fpp-AFLABS-URNIK:premaknjeno-srecanje:6874
ATTENDEE:1. letnik (PS, SS)
ATTENDEE:1. letnik (PS, VS)
CATEGORIES:Entry,Standard
COLOR:darkgreen
DESCRIPTION:Predmet: Računalništvo in informatika (PS) (RI)\, Predavanje
  (P)\nLetniki: 1. letnik (PS\, SS)\, 1. letnik (PS\, VS)\nIzvajalci: Eveli
 n Krmac\nProstor: R4
LOCATION:R4
ORGANIZER:Evelin Krmac
RELATED-TO:fpp-AFLABS-URNIK:srecanje:325
X-WR-TIMEZONE:Europe/Ljubljana
END:VEVENT
BEGIN:VEVENT
SUMMARY:Računalništvo in informatika (PS) (RI)\, Predavanje (P)
DTSTART;TZID=Europe/Ljubljana:20250521T085000
DTEND;TZID=Europe/Ljubljana:20250521T111500
DTSTAMP:20260422T100342Z
UID:fpp-AFLABS-URNIK:premaknjeno-srecanje:6875
ATTENDEE:1. letnik (PS, SS)
ATTENDEE:1. letnik (PS, VS)
CATEGORIES:Entry,Standard
COLOR:darkgreen
DESCRIPTION:Predmet: Računalništvo in informatika (PS) (RI)\, Predavanje
  (P)\nLetniki: 1. letnik (PS\, SS)\, 1. letnik (PS\, VS)\nIzvajalci: Eveli
 n Krmac\nProstor: R4
LOCATION:R4
ORGANIZER:Evelin Krmac
RELATED-TO:fpp-AFLABS-URNIK:srecanje:325
X-WR-TIMEZONE:Europe/Ljubljana
END:VEVENT
BEGIN:VEVENT
SUMMARY:Računalništvo in informatika (PS) (RI)\, Predavanje (P)
DTSTART;TZID=Europe/Ljubljana:20250528T085000
DTEND;TZID=Europe/Ljubljana:20250528T111500
DTSTAMP:20260422T100342Z
UID:fpp-AFLABS-URNIK:premaknjeno-srecanje:6876
ATTENDEE:1. letnik (PS, SS)
ATTENDEE:1. letnik (PS, VS)
CATEGORIES:Entry,Standard
COLOR:darkgreen
DESCRIPTION:Predmet: Računalništvo in informatika (PS) (RI)\, Predavanje
  (P)\nLetniki: 1. letnik (PS\, SS)\, 1. letnik (PS\, VS)\nIzvajalci: Eveli
 n Krmac\nProstor: R4
LOCATION:R4
ORGANIZER:Evelin Krmac
RELATED-TO:fpp-AFLABS-URNIK:srecanje:325
X-WR-TIMEZONE:Europe/Ljubljana
END:VEVENT
BEGIN:VEVENT
SUMMARY:Računalništvo in informatika (PS) (RI)\, Predavanje (P)
DTSTART;TZID=Europe/Ljubljana:20250604T085000
DTEND;TZID=Europe/Ljubljana:20250604T111500
DTSTAMP:20260422T100342Z
UID:fpp-AFLABS-URNIK:premaknjeno-srecanje:6877
ATTENDEE:1. letnik (PS, SS)
ATTENDEE:1. letnik (PS, VS)
CATEGORIES:Entry,Standard
COLOR:darkgreen
DESCRIPTION:Predmet: Računalništvo in informatika (PS) (RI)\, Predavanje
  (P)\nLetniki: 1. letnik (PS\, SS)\, 1. letnik (PS\, VS)\nIzvajalci: Eveli
 n Krmac\nProstor: R4
LOCATION:R4
ORGANIZER:Evelin Krmac
RELATED-TO:fpp-AFLABS-URNIK:srecanje:325
X-WR-TIMEZONE:Europe/Ljubljana
END:VEVENT
BEGIN:VEVENT
SUMMARY:Računalništvo in informatika (PS) (RI)\, Predavanje (P)
DTSTART;TZID=Europe/Ljubljana:20250507T085000
DTEND;TZID=Europe/Ljubljana:20250507T111500
DTSTAMP:20260422T100342Z
UID:fpp-AFLABS-URNIK:premaknjeno-srecanje:6888
ATTENDEE:1. letnik (PS, SS)
ATTENDEE:1. letnik (PS, VS)
CATEGORIES:Entry,Standard
COLOR:darkgreen
DESCRIPTION:Predmet: Računalništvo in informatika (PS) (RI)\, Predavanje
  (P)\nLetniki: 1. letnik (PS\, SS)\, 1. letnik (PS\, VS)\nIzvajalci: Eveli
 n Krmac\nProstor: P2
LOCATION:P2
ORGANIZER:Evelin Krmac
RELATED-TO:fpp-AFLABS-URNIK:srecanje:324
X-WR-TIMEZONE:Europe/Ljubljana
END:VEVENT
BEGIN:VEVENT
SUMMARY:Računalništvo in informatika (PS) (RI)\, Predavanje (P)
DTSTART;TZID=Europe/Ljubljana:20250514T085000
DTEND;TZID=Europe/Ljubljana:20250514T111500
DTSTAMP:20260422T100342Z
UID:fpp-AFLABS-URNIK:premaknjeno-srecanje:6889
ATTENDEE:1. letnik (PS, SS)
ATTENDEE:1. letnik (PS, VS)
CATEGORIES:Entry,Standard
COLOR:darkgreen
DESCRIPTION:Predmet: Računalništvo in informatika (PS) (RI)\, Predavanje
  (P)\nLetniki: 1. letnik (PS\, SS)\, 1. letnik (PS\, VS)\nIzvajalci: Eveli
 n Krmac\nProstor: P2
LOCATION:P2
ORGANIZER:Evelin Krmac
RELATED-TO:fpp-AFLABS-URNIK:srecanje:324
X-WR-TIMEZONE:Europe/Ljubljana
END:VEVENT
BEGIN:VEVENT
SUMMARY:Računalništvo in informatika (PS) (RI)\, Predavanje (P)
DTSTART;TZID=Europe/Ljubljana:20250521T085000
DTEND;TZID=Europe/Ljubljana:20250521T111500
DTSTAMP:20260422T100342Z
UID:fpp-AFLABS-URNIK:premaknjeno-srecanje:6890
ATTENDEE:1. letnik (PS, SS)
ATTENDEE:1. letnik (PS, VS)
CATEGORIES:Entry,Standard
COLOR:darkgreen
DESCRIPTION:Predmet: Računalništvo in informatika (PS) (RI)\, Predavanje
  (P)\nLetniki: 1. letnik (PS\, SS)\, 1. letnik (PS\, VS)\nIzvajalci: Eveli
 n Krmac\nProstor: P2
LOCATION:P2
ORGANIZER:Evelin Krmac
RELATED-TO:fpp-AFLABS-URNIK:srecanje:324
X-WR-TIMEZONE:Europe/Ljubljana
END:VEVENT
BEGIN:VEVENT
SUMMARY:Računalništvo in informatika (PS) (RI)\, Predavanje (P)
DTSTART;TZID=Europe/Ljubljana:20250528T085000
DTEND;TZID=Europe/Ljubljana:20250528T111500
DTSTAMP:20260422T100342Z
UID:fpp-AFLABS-URNIK:premaknjeno-srecanje:6891
ATTENDEE:1. letnik (PS, SS)
ATTENDEE:1. letnik (PS, VS)
CATEGORIES:Entry,Standard
COLOR:darkgreen
DESCRIPTION:Predmet: Računalništvo in informatika (PS) (RI)\, Predavanje
  (P)\nLetniki: 1. letnik (PS\, SS)\, 1. letnik (PS\, VS)\nIzvajalci: Eveli
 n Krmac\nProstor: P2
LOCATION:P2
ORGANIZER:Evelin Krmac
RELATED-TO:fpp-AFLABS-URNIK:srecanje:324
X-WR-TIMEZONE:Europe/Ljubljana
END:VEVENT
BEGIN:VEVENT
SUMMARY:Računalništvo in informatika (PS) (RI)\, Predavanje (P)
DTSTART;TZID=Europe/Ljubljana:20250604T085000
DTEND;TZID=Europe/Ljubljana:20250604T111500
DTSTAMP:20260422T100342Z
UID:fpp-AFLABS-URNIK:premaknjeno-srecanje:6892
ATTENDEE:1. letnik (PS, SS)
ATTENDEE:1. letnik (PS, VS)
CATEGORIES:Entry,Standard
COLOR:darkgreen
DESCRIPTION:Predmet: Računalništvo in informatika (PS) (RI)\, Predavanje
  (P)\nLetniki: 1. letnik (PS\, SS)\, 1. letnik (PS\, VS)\nIzvajalci: Eveli
 n Krmac\nProstor: P2
LOCATION:P2
ORGANIZER:Evelin Krmac
RELATED-TO:fpp-AFLABS-URNIK:srecanje:324
X-WR-TIMEZONE:Europe/Ljubljana
END:VEVENT
BEGIN:VEVENT
SUMMARY:Informatika v prometu (PTTL) (IP)\, Predavanje (P)
DTSTART;TZID=Europe/Ljubljana:20250508T085000
DTEND;TZID=Europe/Ljubljana:20250508T102500
DTSTAMP:20260422T100342Z
UID:fpp-AFLABS-URNIK:premaknjeno-srecanje:5643
ATTENDEE:1. letnik (PTTL, SS)
ATTENDEE:1. letnik (PTTL, VS)
CATEGORIES:Entry,Standard
COLOR:darkgreen
DESCRIPTION:Predmet: Informatika v prometu (PTTL) (IP)\, Predavanje (P)\nL
 etniki: 1. letnik (PTTL\, SS)\, 1. letnik (PTTL\, VS)\nIzvajalci: Evelin K
 rmac\nProstor: 205
LOCATION:205
ORGANIZER:Evelin Krmac
RELATED-TO:fpp-AFLABS-URNIK:srecanje:479
X-WR-TIMEZONE:Europe/Ljubljana
END:VEVENT
BEGIN:VEVENT
SUMMARY:Informatika v prometu (PTTL) (IP)\, Predavanje (P)
DTSTART;TZID=Europe/Ljubljana:20250515T085000
DTEND;TZID=Europe/Ljubljana:20250515T102500
DTSTAMP:20260422T100342Z
UID:fpp-AFLABS-URNIK:premaknjeno-srecanje:5644
ATTENDEE:1. letnik (PTTL, SS)
ATTENDEE:1. letnik (PTTL, VS)
CATEGORIES:Entry,Standard
COLOR:darkgreen
DESCRIPTION:Predmet: Informatika v prometu (PTTL) (IP)\, Predavanje (P)\nL
 etniki: 1. letnik (PTTL\, SS)\, 1. letnik (PTTL\, VS)\nIzvajalci: Evelin K
 rmac\nProstor: 205
LOCATION:205
ORGANIZER:Evelin Krmac
RELATED-TO:fpp-AFLABS-URNIK:srecanje:479
X-WR-TIMEZONE:Europe/Ljubljana
END:VEVENT
BEGIN:VEVENT
SUMMARY:Informatika v prometu (PTTL) (IP)\, Predavanje (P)
DTSTART;TZID=Europe/Ljubljana:20250522T085000
DTEND;TZID=Europe/Ljubljana:20250522T102500
DTSTAMP:20260422T100342Z
UID:fpp-AFLABS-URNIK:premaknjeno-srecanje:5645
ATTENDEE:1. letnik (PTTL, SS)
ATTENDEE:1. letnik (PTTL, VS)
CATEGORIES:Entry,Standard
COLOR:darkgreen
DESCRIPTION:Predmet: Informatika v prometu (PTTL) (IP)\, Predavanje (P)\nL
 etniki: 1. letnik (PTTL\, SS)\, 1. letnik (PTTL\, VS)\nIzvajalci: Evelin K
 rmac\nProstor: 205
LOCATION:205
ORGANIZER:Evelin Krmac
RELATED-TO:fpp-AFLABS-URNIK:srecanje:479
X-WR-TIMEZONE:Europe/Ljubljana
END:VEVENT
BEGIN:VEVENT
SUMMARY:Informatika v prometu (PTTL) (IP)\, Predavanje (P)
DTSTART;TZID=Europe/Ljubljana:20250529T085000
DTEND;TZID=Europe/Ljubljana:20250529T102500
DTSTAMP:20260422T100342Z
UID:fpp-AFLABS-URNIK:premaknjeno-srecanje:5646
ATTENDEE:1. letnik (PTTL, SS)
ATTENDEE:1. letnik (PTTL, VS)
CATEGORIES:Entry,Standard
COLOR:darkgreen
DESCRIPTION:Predmet: Informatika v prometu (PTTL) (IP)\, Predavanje (P)\nL
 etniki: 1. letnik (PTTL\, SS)\, 1. letnik (PTTL\, VS)\nIzvajalci: Evelin K
 rmac\nProstor: 205
LOCATION:205
ORGANIZER:Evelin Krmac
RELATED-TO:fpp-AFLABS-URNIK:srecanje:479
X-WR-TIMEZONE:Europe/Ljubljana
END:VEVENT
BEGIN:VEVENT
SUMMARY:Informatika v prometu (PTTL) (IP)\, Predavanje (P)
DTSTART;TZID=Europe/Ljubljana:20250605T085000
DTEND;TZID=Europe/Ljubljana:20250605T102500
DTSTAMP:20260422T100342Z
UID:fpp-AFLABS-URNIK:premaknjeno-srecanje:5647
ATTENDEE:1. letnik (PTTL, SS)
ATTENDEE:1. letnik (PTTL, VS)
CATEGORIES:Entry,Standard
COLOR:darkgreen
DESCRIPTION:Predmet: Informatika v prometu (PTTL) (IP)\, Predavanje (P)\nL
 etniki: 1. letnik (PTTL\, SS)\, 1. letnik (PTTL\, VS)\nIzvajalci: Evelin K
 rmac\nProstor: 205
LOCATION:205
ORGANIZER:Evelin Krmac
RELATED-TO:fpp-AFLABS-URNIK:srecanje:479
X-WR-TIMEZONE:Europe/Ljubljana
END:VEVENT
BEGIN:VEVENT
SUMMARY:Informatika v prometu (PTTL) (IP)\, Seminar (S)
DTSTART;TZID=Europe/Ljubljana:20250508T103000
DTEND;TZID=Europe/Ljubljana:20250508T111500
DTSTAMP:20260422T100342Z
UID:fpp-AFLABS-URNIK:premaknjeno-srecanje:5658
ATTENDEE:1. letnik (PTTL, SS)
ATTENDEE:1. letnik (PTTL, VS)
CATEGORIES:Entry,Standard
COLOR:darkgreen
DESCRIPTION:Predmet: Informatika v prometu (PTTL) (IP)\, Seminar (S)\nLetn
 iki: 1. letnik (PTTL\, SS)\, 1. letnik (PTTL\, VS)\nIzvajalci: Evelin Krma
 c\nProstor: 205
LOCATION:205
ORGANIZER:Evelin Krmac
RELATED-TO:fpp-AFLABS-URNIK:srecanje:484
X-WR-TIMEZONE:Europe/Ljubljana
END:VEVENT
BEGIN:VEVENT
SUMMARY:Informatika v prometu (PTTL) (IP)\, Seminar (S)
DTSTART;TZID=Europe/Ljubljana:20250515T103000
DTEND;TZID=Europe/Ljubljana:20250515T111500
DTSTAMP:20260422T100342Z
UID:fpp-AFLABS-URNIK:premaknjeno-srecanje:5659
ATTENDEE:1. letnik (PTTL, SS)
ATTENDEE:1. letnik (PTTL, VS)
CATEGORIES:Entry,Standard
COLOR:darkgreen
DESCRIPTION:Predmet: Informatika v prometu (PTTL) (IP)\, Seminar (S)\nLetn
 iki: 1. letnik (PTTL\, SS)\, 1. letnik (PTTL\, VS)\nIzvajalci: Evelin Krma
 c\nProstor: 205
LOCATION:205
ORGANIZER:Evelin Krmac
RELATED-TO:fpp-AFLABS-URNIK:srecanje:484
X-WR-TIMEZONE:Europe/Ljubljana
END:VEVENT
BEGIN:VEVENT
SUMMARY:Informatika v prometu (PTTL) (IP)\, Seminar (S)
DTSTART;TZID=Europe/Ljubljana:20250522T103000
DTEND;TZID=Europe/Ljubljana:20250522T111500
DTSTAMP:20260422T100342Z
UID:fpp-AFLABS-URNIK:premaknjeno-srecanje:5660
ATTENDEE:1. letnik (PTTL, SS)
ATTENDEE:1. letnik (PTTL, VS)
CATEGORIES:Entry,Standard
COLOR:darkgreen
DESCRIPTION:Predmet: Informatika v prometu (PTTL) (IP)\, Seminar (S)\nLetn
 iki: 1. letnik (PTTL\, SS)\, 1. letnik (PTTL\, VS)\nIzvajalci: Evelin Krma
 c\nProstor: 205
LOCATION:205
ORGANIZER:Evelin Krmac
RELATED-TO:fpp-AFLABS-URNIK:srecanje:484
X-WR-TIMEZONE:Europe/Ljubljana
END:VEVENT
BEGIN:VEVENT
SUMMARY:Informatika v prometu (PTTL) (IP)\, Seminar (S)
DTSTART;TZID=Europe/Ljubljana:20250529T103000
DTEND;TZID=Europe/Ljubljana:20250529T111500
DTSTAMP:20260422T100342Z
UID:fpp-AFLABS-URNIK:premaknjeno-srecanje:5661
ATTENDEE:1. letnik (PTTL, SS)
ATTENDEE:1. letnik (PTTL, VS)
CATEGORIES:Entry,Standard
COLOR:darkgreen
DESCRIPTION:Predmet: Informatika v prometu (PTTL) (IP)\, Seminar (S)\nLetn
 iki: 1. letnik (PTTL\, SS)\, 1. letnik (PTTL\, VS)\nIzvajalci: Evelin Krma
 c\nProstor: 205
LOCATION:205
ORGANIZER:Evelin Krmac
RELATED-TO:fpp-AFLABS-URNIK:srecanje:484
X-WR-TIMEZONE:Europe/Ljubljana
END:VEVENT
BEGIN:VEVENT
SUMMARY:Informatika v prometu (PTTL) (IP)\, Seminar (S)
DTSTART;TZID=Europe/Ljubljana:20250605T103000
DTEND;TZID=Europe/Ljubljana:20250605T111500
DTSTAMP:20260422T100342Z
UID:fpp-AFLABS-URNIK:premaknjeno-srecanje:5662
ATTENDEE:1. letnik (PTTL, SS)
ATTENDEE:1. letnik (PTTL, VS)
CATEGORIES:Entry,Standard
COLOR:darkgreen
DESCRIPTION:Predmet: Informatika v prometu (PTTL) (IP)\, Seminar (S)\nLetn
 iki: 1. letnik (PTTL\, SS)\, 1. letnik (PTTL\, VS)\nIzvajalci: Evelin Krma
 c\nProstor: 205
LOCATION:205
ORGANIZER:Evelin Krmac
RELATED-TO:fpp-AFLABS-URNIK:srecanje:484
X-WR-TIMEZONE:Europe/Ljubljana
END:VEVENT
END:VCALENDAR
