BEGIN:VCALENDAR
VERSION:2.0
PRODID:-//AFLabs urnik izvoz - fpp//aflabs.si//SI
DTSTAMP:20260422T083859Z
NAME:UL FPP Urnik
REFRESH-INTERVAL:PT1H
SOURCE:https://afurnik-fpp.dev.aflabs.org/teacher/32?day=2025-06-30&export
 =1
URL:https://afurnik-fpp.dev.aflabs.org/teacher/32?day=2025-06-30&export=1
X-PUBLISHED-TTL:PT1H
X-WR-CALNAME:UL FPP Urnik
X-WR-TIMEZONE:Europe/Ljubljana
BEGIN:VTIMEZONE
TZID:Europe/Ljubljana
BEGIN:DAYLIGHT
DTSTART:20260329T020000
RDATE:20260329T020000
RDATE:20270328T020000
TZNAME:CEST
TZOFFSETFROM:+0100
TZOFFSETTO:+0200
END:DAYLIGHT
BEGIN:STANDARD
DTSTART:20261025T030000
RDATE:20261025T030000
RDATE:20271031T030000
TZNAME:CET
TZOFFSETFROM:+0200
TZOFFSETTO:+0100
END:STANDARD
END:VTIMEZONE
BEGIN:VEVENT
SUMMARY:Avtomatizacija v prometu (PTTL) (AP)\, Seminar (S)
DTSTART;TZID=Europe/Ljubljana:20250526T080000
DTEND;TZID=Europe/Ljubljana:20250526T084500
DTSTAMP:20260422T083859Z
UID:fpp-AFLABS-URNIK:premaknjeno-srecanje:5346
ATTENDEE:1. letnik (PTTL, SS)
ATTENDEE:1. letnik (PTTL, VS)
CATEGORIES:Entry,Standard
COLOR:darkgreen
DESCRIPTION:Predmet: Avtomatizacija v prometu (PTTL) (AP)\, Seminar (S)\nL
 etniki: 1. letnik (PTTL\, SS)\, 1. letnik (PTTL\, VS)\nIzvajalci: Blaž Lu
 in\nProstor: amfiteater
LOCATION:amfiteater
ORGANIZER:Blaž Luin
RELATED-TO:fpp-AFLABS-URNIK:srecanje:475
X-WR-TIMEZONE:Europe/Ljubljana
END:VEVENT
BEGIN:VEVENT
SUMMARY:Avtomatizacija v prometu (PTTL) (AP)\, Seminar (S)
DTSTART;TZID=Europe/Ljubljana:20250602T080000
DTEND;TZID=Europe/Ljubljana:20250602T084500
DTSTAMP:20260422T083859Z
UID:fpp-AFLABS-URNIK:premaknjeno-srecanje:5347
ATTENDEE:1. letnik (PTTL, SS)
ATTENDEE:1. letnik (PTTL, VS)
CATEGORIES:Entry,Standard
COLOR:darkgreen
DESCRIPTION:Predmet: Avtomatizacija v prometu (PTTL) (AP)\, Seminar (S)\nL
 etniki: 1. letnik (PTTL\, SS)\, 1. letnik (PTTL\, VS)\nIzvajalci: Blaž Lu
 in\nProstor: amfiteater
LOCATION:amfiteater
ORGANIZER:Blaž Luin
RELATED-TO:fpp-AFLABS-URNIK:srecanje:475
X-WR-TIMEZONE:Europe/Ljubljana
END:VEVENT
BEGIN:VEVENT
SUMMARY:Osnove teorije prometnega toka (TPL-U) (OTPT)\, Laboratorijske vaj
 e (LV)
DTSTART;TZID=Europe/Ljubljana:20250526T094000
DTEND;TZID=Europe/Ljubljana:20250526T111500
DTSTAMP:20260422T083859Z
UID:fpp-AFLABS-URNIK:premaknjeno-srecanje:6336
ATTENDEE:2. letnik (TPL-U)
CATEGORIES:Entry,Standard
COLOR:darkgreen
DESCRIPTION:Predmet: Osnove teorije prometnega toka (TPL-U) (OTPT)\, Labor
 atorijske vaje (LV)\nLetniki: 2. letnik (TPL-U)\nIzvajalci: Vivien Lorenč
 ič\, Blaž Luin\nProstor: R4
LOCATION:R4
ORGANIZER:Vivien Lorenčič, Blaž Luin
RELATED-TO:fpp-AFLABS-URNIK:srecanje:427
X-WR-TIMEZONE:Europe/Ljubljana
END:VEVENT
BEGIN:VEVENT
SUMMARY:Osnove teorije prometnega toka (TPL-U) (OTPT)\, Laboratorijske vaj
 e (LV)
DTSTART;TZID=Europe/Ljubljana:20250602T094000
DTEND;TZID=Europe/Ljubljana:20250602T111500
DTSTAMP:20260422T083859Z
UID:fpp-AFLABS-URNIK:premaknjeno-srecanje:6337
ATTENDEE:2. letnik (TPL-U)
CATEGORIES:Entry,Standard
COLOR:darkgreen
DESCRIPTION:Predmet: Osnove teorije prometnega toka (TPL-U) (OTPT)\, Labor
 atorijske vaje (LV)\nLetniki: 2. letnik (TPL-U)\nIzvajalci: Vivien Lorenč
 ič\, Blaž Luin\nProstor: R4
LOCATION:R4
ORGANIZER:Vivien Lorenčič, Blaž Luin
RELATED-TO:fpp-AFLABS-URNIK:srecanje:427
X-WR-TIMEZONE:Europe/Ljubljana
END:VEVENT
BEGIN:VEVENT
SUMMARY:Osnove teorije prometnega toka (TPL-U) (OTPT)\, Seminar (S)
DTSTART;TZID=Europe/Ljubljana:20250526T085000
DTEND;TZID=Europe/Ljubljana:20250526T093500
DTSTAMP:20260422T083859Z
UID:fpp-AFLABS-URNIK:premaknjeno-srecanje:6366
ATTENDEE:2. letnik (TPL-U)
CATEGORIES:Entry,Standard
COLOR:darkgreen
DESCRIPTION:Predmet: Osnove teorije prometnega toka (TPL-U) (OTPT)\, Semin
 ar (S)\nLetniki: 2. letnik (TPL-U)\nIzvajalci: Blaž Luin\nProstor: R4
LOCATION:R4
ORGANIZER:Blaž Luin
RELATED-TO:fpp-AFLABS-URNIK:srecanje:421
X-WR-TIMEZONE:Europe/Ljubljana
END:VEVENT
BEGIN:VEVENT
SUMMARY:Osnove teorije prometnega toka (TPL-U) (OTPT)\, Seminar (S)
DTSTART;TZID=Europe/Ljubljana:20250602T085000
DTEND;TZID=Europe/Ljubljana:20250602T093500
DTSTAMP:20260422T083859Z
UID:fpp-AFLABS-URNIK:premaknjeno-srecanje:6367
ATTENDEE:2. letnik (TPL-U)
CATEGORIES:Entry,Standard
COLOR:darkgreen
DESCRIPTION:Predmet: Osnove teorije prometnega toka (TPL-U) (OTPT)\, Semin
 ar (S)\nLetniki: 2. letnik (TPL-U)\nIzvajalci: Blaž Luin\nProstor: R4
LOCATION:R4
ORGANIZER:Blaž Luin
RELATED-TO:fpp-AFLABS-URNIK:srecanje:421
X-WR-TIMEZONE:Europe/Ljubljana
END:VEVENT
BEGIN:VEVENT
SUMMARY:Delovni\, hladilni in pomožni stroji (PS) (DHPS)\, Predavanje (P)
DTSTART;TZID=Europe/Ljubljana:20250527T085000
DTEND;TZID=Europe/Ljubljana:20250527T111500
DTSTAMP:20260422T083859Z
UID:fpp-AFLABS-URNIK:premaknjeno-srecanje:5481
ATTENDEE:2. letnik (PS, SS)
ATTENDEE:2. letnik (PS, VS)
CATEGORIES:Entry,Standard
COLOR:darkgreen
DESCRIPTION:Predmet: Delovni\, hladilni in pomožni stroji (PS) (DHPS)\, P
 redavanje (P)\nLetniki: 2. letnik (PS\, SS)\, 2. letnik (PS\, VS)\nIzvajal
 ci: Blaž Luin\, Stojan Petelin\nProstor: PO1
LOCATION:PO1
ORGANIZER:Blaž Luin, Stojan Petelin
RELATED-TO:fpp-AFLABS-URNIK:srecanje:307
X-WR-TIMEZONE:Europe/Ljubljana
END:VEVENT
BEGIN:VEVENT
SUMMARY:Delovni\, hladilni in pomožni stroji (PS) (DHPS)\, Predavanje (P)
DTSTART;TZID=Europe/Ljubljana:20250603T085000
DTEND;TZID=Europe/Ljubljana:20250603T111500
DTSTAMP:20260422T083859Z
UID:fpp-AFLABS-URNIK:premaknjeno-srecanje:5482
ATTENDEE:2. letnik (PS, SS)
ATTENDEE:2. letnik (PS, VS)
CATEGORIES:Entry,Standard
COLOR:darkgreen
DESCRIPTION:Predmet: Delovni\, hladilni in pomožni stroji (PS) (DHPS)\, P
 redavanje (P)\nLetniki: 2. letnik (PS\, SS)\, 2. letnik (PS\, VS)\nIzvajal
 ci: Blaž Luin\, Stojan Petelin\nProstor: PO1
LOCATION:PO1
ORGANIZER:Blaž Luin, Stojan Petelin
RELATED-TO:fpp-AFLABS-URNIK:srecanje:307
X-WR-TIMEZONE:Europe/Ljubljana
END:VEVENT
BEGIN:VEVENT
SUMMARY:Delovni\, hladilni in pomožni stroji (PS) (DHPS)\, Seminar (S)
DTSTART;TZID=Europe/Ljubljana:20250527T112000
DTEND;TZID=Europe/Ljubljana:20250527T120500
DTSTAMP:20260422T083859Z
UID:fpp-AFLABS-URNIK:premaknjeno-srecanje:5496
ATTENDEE:2. letnik (PS, SS)
ATTENDEE:2. letnik (PS, VS)
CATEGORIES:Entry,Standard
COLOR:darkgreen
DESCRIPTION:Predmet: Delovni\, hladilni in pomožni stroji (PS) (DHPS)\, S
 eminar (S)\nLetniki: 2. letnik (PS\, SS)\, 2. letnik (PS\, VS)\nIzvajalci:
  Blaž Luin\nProstor: PO1
LOCATION:PO1
ORGANIZER:Blaž Luin
RELATED-TO:fpp-AFLABS-URNIK:srecanje:311
X-WR-TIMEZONE:Europe/Ljubljana
END:VEVENT
BEGIN:VEVENT
SUMMARY:Delovni\, hladilni in pomožni stroji (PS) (DHPS)\, Seminar (S)
DTSTART;TZID=Europe/Ljubljana:20250603T112000
DTEND;TZID=Europe/Ljubljana:20250603T120500
DTSTAMP:20260422T083859Z
UID:fpp-AFLABS-URNIK:premaknjeno-srecanje:5497
ATTENDEE:2. letnik (PS, SS)
ATTENDEE:2. letnik (PS, VS)
CATEGORIES:Entry,Standard
COLOR:darkgreen
DESCRIPTION:Predmet: Delovni\, hladilni in pomožni stroji (PS) (DHPS)\, S
 eminar (S)\nLetniki: 2. letnik (PS\, SS)\, 2. letnik (PS\, VS)\nIzvajalci:
  Blaž Luin\nProstor: PO1
LOCATION:PO1
ORGANIZER:Blaž Luin
RELATED-TO:fpp-AFLABS-URNIK:srecanje:311
X-WR-TIMEZONE:Europe/Ljubljana
END:VEVENT
BEGIN:VEVENT
SUMMARY:Modeliranje tveganja\, ocenjevanje in upravljanje (POM2) (MTOU)\, 
 Avditorne vaje (AV)
DTSTART;TZID=Europe/Ljubljana:20250527T194000
DTEND;TZID=Europe/Ljubljana:20250527T211500
DTSTAMP:20260422T083859Z
UID:fpp-AFLABS-URNIK:premaknjeno-srecanje:6156
ATTENDEE:1. letnik (POM2)
CATEGORIES:Entry,Standard
COLOR:darkgreen
DESCRIPTION:Predmet: Modeliranje tveganja\, ocenjevanje in upravljanje (PO
 M2) (MTOU)\, Avditorne vaje (AV)\nLetniki: 1. letnik (POM2)\nIzvajalci: Vi
 vien Lorenčič\, Blaž Luin\nProstor: 204
LOCATION:204
ORGANIZER:Vivien Lorenčič, Blaž Luin
RELATED-TO:fpp-AFLABS-URNIK:srecanje:474
X-WR-TIMEZONE:Europe/Ljubljana
END:VEVENT
BEGIN:VEVENT
SUMMARY:Modeliranje tveganja\, ocenjevanje in upravljanje (POM2) (MTOU)\, 
 Avditorne vaje (AV)
DTSTART;TZID=Europe/Ljubljana:20250603T194000
DTEND;TZID=Europe/Ljubljana:20250603T211500
DTSTAMP:20260422T083859Z
UID:fpp-AFLABS-URNIK:premaknjeno-srecanje:6157
ATTENDEE:1. letnik (POM2)
CATEGORIES:Entry,Standard
COLOR:darkgreen
DESCRIPTION:Predmet: Modeliranje tveganja\, ocenjevanje in upravljanje (PO
 M2) (MTOU)\, Avditorne vaje (AV)\nLetniki: 1. letnik (POM2)\nIzvajalci: Vi
 vien Lorenčič\, Blaž Luin\nProstor: 204
LOCATION:204
ORGANIZER:Vivien Lorenčič, Blaž Luin
RELATED-TO:fpp-AFLABS-URNIK:srecanje:474
X-WR-TIMEZONE:Europe/Ljubljana
END:VEVENT
BEGIN:VEVENT
SUMMARY:Modeliranje tveganja\, ocenjevanje in upravljanje (POM2) (MTOU)\, 
 Predavanje (P)
DTSTART;TZID=Europe/Ljubljana:20250527T162000
DTEND;TZID=Europe/Ljubljana:20250527T184500
DTSTAMP:20260422T083859Z
UID:fpp-AFLABS-URNIK:premaknjeno-srecanje:6171
ATTENDEE:1. letnik (POM2)
CATEGORIES:Entry,Standard
COLOR:darkgreen
DESCRIPTION:Predmet: Modeliranje tveganja\, ocenjevanje in upravljanje (PO
 M2) (MTOU)\, Predavanje (P)\nLetniki: 1. letnik (POM2)\nIzvajalci: Blaž L
 uin\, Peter Vidmar\nProstor: 204
LOCATION:204
ORGANIZER:Blaž Luin, Peter Vidmar
RELATED-TO:fpp-AFLABS-URNIK:srecanje:471
X-WR-TIMEZONE:Europe/Ljubljana
END:VEVENT
BEGIN:VEVENT
SUMMARY:Modeliranje tveganja\, ocenjevanje in upravljanje (POM2) (MTOU)\, 
 Predavanje (P)
DTSTART;TZID=Europe/Ljubljana:20250603T162000
DTEND;TZID=Europe/Ljubljana:20250603T184500
DTSTAMP:20260422T083859Z
UID:fpp-AFLABS-URNIK:premaknjeno-srecanje:6172
ATTENDEE:1. letnik (POM2)
CATEGORIES:Entry,Standard
COLOR:darkgreen
DESCRIPTION:Predmet: Modeliranje tveganja\, ocenjevanje in upravljanje (PO
 M2) (MTOU)\, Predavanje (P)\nLetniki: 1. letnik (POM2)\nIzvajalci: Blaž L
 uin\, Peter Vidmar\nProstor: 204
LOCATION:204
ORGANIZER:Blaž Luin, Peter Vidmar
RELATED-TO:fpp-AFLABS-URNIK:srecanje:471
X-WR-TIMEZONE:Europe/Ljubljana
END:VEVENT
BEGIN:VEVENT
SUMMARY:Modeliranje tveganja\, ocenjevanje in upravljanje (PROM2) (MTOU)\,
  Avditorne vaje (AV)
DTSTART;TZID=Europe/Ljubljana:20250527T194000
DTEND;TZID=Europe/Ljubljana:20250527T211500
DTSTAMP:20260422T083859Z
UID:fpp-AFLABS-URNIK:premaknjeno-srecanje:6186
ATTENDEE:1. letnik (PROM2)
CATEGORIES:Entry,Standard
COLOR:darkgreen
DESCRIPTION:Predmet: Modeliranje tveganja\, ocenjevanje in upravljanje (PR
 OM2) (MTOU)\, Avditorne vaje (AV)\nLetniki: 1. letnik (PROM2)\nIzvajalci: 
 Vivien Lorenčič\, Blaž Luin\nProstor: 204
LOCATION:204
ORGANIZER:Vivien Lorenčič, Blaž Luin
RELATED-TO:fpp-AFLABS-URNIK:srecanje:368
X-WR-TIMEZONE:Europe/Ljubljana
END:VEVENT
BEGIN:VEVENT
SUMMARY:Modeliranje tveganja\, ocenjevanje in upravljanje (PROM2) (MTOU)\,
  Avditorne vaje (AV)
DTSTART;TZID=Europe/Ljubljana:20250603T194000
DTEND;TZID=Europe/Ljubljana:20250603T211500
DTSTAMP:20260422T083859Z
UID:fpp-AFLABS-URNIK:premaknjeno-srecanje:6187
ATTENDEE:1. letnik (PROM2)
CATEGORIES:Entry,Standard
COLOR:darkgreen
DESCRIPTION:Predmet: Modeliranje tveganja\, ocenjevanje in upravljanje (PR
 OM2) (MTOU)\, Avditorne vaje (AV)\nLetniki: 1. letnik (PROM2)\nIzvajalci: 
 Vivien Lorenčič\, Blaž Luin\nProstor: 204
LOCATION:204
ORGANIZER:Vivien Lorenčič, Blaž Luin
RELATED-TO:fpp-AFLABS-URNIK:srecanje:368
X-WR-TIMEZONE:Europe/Ljubljana
END:VEVENT
BEGIN:VEVENT
SUMMARY:Modeliranje tveganja\, ocenjevanje in upravljanje (PROM2) (MTOU)\,
  Predavanje (P)
DTSTART;TZID=Europe/Ljubljana:20250527T162000
DTEND;TZID=Europe/Ljubljana:20250527T184500
DTSTAMP:20260422T083859Z
UID:fpp-AFLABS-URNIK:premaknjeno-srecanje:6201
ATTENDEE:1. letnik (PROM2)
CATEGORIES:Entry,Standard
COLOR:darkgreen
DESCRIPTION:Predmet: Modeliranje tveganja\, ocenjevanje in upravljanje (PR
 OM2) (MTOU)\, Predavanje (P)\nLetniki: 1. letnik (PROM2)\nIzvajalci: Blaž
  Luin\, Peter Vidmar\nProstor: 204
LOCATION:204
ORGANIZER:Blaž Luin, Peter Vidmar
RELATED-TO:fpp-AFLABS-URNIK:srecanje:362
X-WR-TIMEZONE:Europe/Ljubljana
END:VEVENT
BEGIN:VEVENT
SUMMARY:Modeliranje tveganja\, ocenjevanje in upravljanje (PROM2) (MTOU)\,
  Predavanje (P)
DTSTART;TZID=Europe/Ljubljana:20250603T162000
DTEND;TZID=Europe/Ljubljana:20250603T184500
DTSTAMP:20260422T083859Z
UID:fpp-AFLABS-URNIK:premaknjeno-srecanje:6202
ATTENDEE:1. letnik (PROM2)
CATEGORIES:Entry,Standard
COLOR:darkgreen
DESCRIPTION:Predmet: Modeliranje tveganja\, ocenjevanje in upravljanje (PR
 OM2) (MTOU)\, Predavanje (P)\nLetniki: 1. letnik (PROM2)\nIzvajalci: Blaž
  Luin\, Peter Vidmar\nProstor: 204
LOCATION:204
ORGANIZER:Blaž Luin, Peter Vidmar
RELATED-TO:fpp-AFLABS-URNIK:srecanje:362
X-WR-TIMEZONE:Europe/Ljubljana
END:VEVENT
BEGIN:VEVENT
SUMMARY:Termodinamika in ladijska energetika (PS) (TLE)\, Avditorne vaje (
 AV)
DTSTART;TZID=Europe/Ljubljana:20250530T112000
DTEND;TZID=Europe/Ljubljana:20250530T125500
DTSTAMP:20260422T083859Z
UID:fpp-AFLABS-URNIK:premaknjeno-srecanje:7566
ATTENDEE:1. letnik (PS, SS)
ATTENDEE:1. letnik (PS, VS)
CATEGORIES:Entry,Standard
COLOR:darkgreen
DESCRIPTION:Predmet: Termodinamika in ladijska energetika (PS) (TLE)\, Avd
 itorne vaje (AV)\nLetniki: 1. letnik (PS\, SS)\, 1. letnik (PS\, VS)\nIzva
 jalci: Blaž Luin\nProstor: NE1
LOCATION:NE1
ORGANIZER:Blaž Luin
RELATED-TO:fpp-AFLABS-URNIK:srecanje:333
X-WR-TIMEZONE:Europe/Ljubljana
END:VEVENT
BEGIN:VEVENT
SUMMARY:Termodinamika in ladijska energetika (PS) (TLE)\, Avditorne vaje (
 AV)
DTSTART;TZID=Europe/Ljubljana:20250606T112000
DTEND;TZID=Europe/Ljubljana:20250606T125500
DTSTAMP:20260422T083859Z
UID:fpp-AFLABS-URNIK:premaknjeno-srecanje:7567
ATTENDEE:1. letnik (PS, SS)
ATTENDEE:1. letnik (PS, VS)
CATEGORIES:Entry,Standard
COLOR:darkgreen
DESCRIPTION:Predmet: Termodinamika in ladijska energetika (PS) (TLE)\, Avd
 itorne vaje (AV)\nLetniki: 1. letnik (PS\, SS)\, 1. letnik (PS\, VS)\nIzva
 jalci: Blaž Luin\nProstor: NE1
LOCATION:NE1
ORGANIZER:Blaž Luin
RELATED-TO:fpp-AFLABS-URNIK:srecanje:333
X-WR-TIMEZONE:Europe/Ljubljana
END:VEVENT
BEGIN:VEVENT
SUMMARY:Termodinamika in ladijska energetika (PS) (TLE)\, Predavanje (P)
DTSTART;TZID=Europe/Ljubljana:20250530T085000
DTEND;TZID=Europe/Ljubljana:20250530T111500
DTSTAMP:20260422T083859Z
UID:fpp-AFLABS-URNIK:premaknjeno-srecanje:7581
ATTENDEE:1. letnik (PS, SS)
ATTENDEE:1. letnik (PS, VS)
CATEGORIES:Entry,Standard
COLOR:darkgreen
DESCRIPTION:Predmet: Termodinamika in ladijska energetika (PS) (TLE)\, Pre
 davanje (P)\nLetniki: 1. letnik (PS\, SS)\, 1. letnik (PS\, VS)\nIzvajalci
 : Blaž Luin\nProstor: NE1
LOCATION:NE1
ORGANIZER:Blaž Luin
RELATED-TO:fpp-AFLABS-URNIK:srecanje:327
X-WR-TIMEZONE:Europe/Ljubljana
END:VEVENT
BEGIN:VEVENT
SUMMARY:Termodinamika in ladijska energetika (PS) (TLE)\, Predavanje (P)
DTSTART;TZID=Europe/Ljubljana:20250606T085000
DTEND;TZID=Europe/Ljubljana:20250606T111500
DTSTAMP:20260422T083859Z
UID:fpp-AFLABS-URNIK:premaknjeno-srecanje:7582
ATTENDEE:1. letnik (PS, SS)
ATTENDEE:1. letnik (PS, VS)
CATEGORIES:Entry,Standard
COLOR:darkgreen
DESCRIPTION:Predmet: Termodinamika in ladijska energetika (PS) (TLE)\, Pre
 davanje (P)\nLetniki: 1. letnik (PS\, SS)\, 1. letnik (PS\, VS)\nIzvajalci
 : Blaž Luin\nProstor: NE1
LOCATION:NE1
ORGANIZER:Blaž Luin
RELATED-TO:fpp-AFLABS-URNIK:srecanje:327
X-WR-TIMEZONE:Europe/Ljubljana
END:VEVENT
END:VCALENDAR
