BEGIN:VCALENDAR
VERSION:2.0
PRODID:-//AFLabs urnik izvoz - fpp//aflabs.si//SI
DTSTAMP:20260422T101346Z
NAME:UL FPP Urnik
REFRESH-INTERVAL:PT1H
SOURCE:https://afurnik-fpp.dev.aflabs.org/teacher/32?day=2025-09-01&export
 =1
URL:https://afurnik-fpp.dev.aflabs.org/teacher/32?day=2025-09-01&export=1
X-PUBLISHED-TTL:PT1H
X-WR-CALNAME:UL FPP Urnik
X-WR-TIMEZONE:Europe/Ljubljana
BEGIN:VTIMEZONE
TZID:Europe/Ljubljana
BEGIN:DAYLIGHT
DTSTART:20260329T020000
RDATE:20260329T020000
RDATE:20270328T020000
TZNAME:CEST
TZOFFSETFROM:+0100
TZOFFSETTO:+0200
END:DAYLIGHT
BEGIN:STANDARD
DTSTART:20261025T030000
RDATE:20261025T030000
RDATE:20271031T030000
TZNAME:CET
TZOFFSETFROM:+0200
TZOFFSETTO:+0100
END:STANDARD
END:VTIMEZONE
BEGIN:VEVENT
SUMMARY:Digitalizacija v prometu (PROM2) (DP)\, Predavanje (P)
DTSTART;TZID=Europe/Ljubljana:20251001T162000
DTEND;TZID=Europe/Ljubljana:20251001T184500
DTSTAMP:20260422T101346Z
UID:fpp-AFLABS-URNIK:premaknjeno-srecanje:17641
ATTENDEE:2. letnik (PROM2)
CATEGORIES:Entry,Standard
COLOR:darkgreen
DESCRIPTION:Predmet: Digitalizacija v prometu (PROM2) (DP)\, Predavanje (P
 )\nLetniki: 2. letnik (PROM2)\nIzvajalci: Franc Dimc\, Blaž Luin\nProstor
 : 203
LOCATION:203
ORGANIZER:Franc Dimc, Blaž Luin
RELATED-TO:fpp-AFLABS-URNIK:srecanje:526
X-WR-TIMEZONE:Europe/Ljubljana
END:VEVENT
BEGIN:VEVENT
SUMMARY:Inženirska grafika (TPL-U) (IG)\, Predavanje (P)
DTSTART;TZID=Europe/Ljubljana:20251002T085000
DTEND;TZID=Europe/Ljubljana:20251002T102500
DTSTAMP:20260422T101346Z
UID:fpp-AFLABS-URNIK:premaknjeno-srecanje:30676
ATTENDEE:1. letnik (TPL-U)
CATEGORIES:Entry,Standard
COLOR:darkgreen
DESCRIPTION:Predmet: Inženirska grafika (TPL-U) (IG)\, Predavanje (P)\nLe
 tniki: 1. letnik (TPL-U)\nIzvajalci: Blaž Luin\nProstor: 202
LOCATION:202
ORGANIZER:Blaž Luin
RELATED-TO:fpp-AFLABS-URNIK:srecanje:575
X-WR-TIMEZONE:Europe/Ljubljana
END:VEVENT
BEGIN:VEVENT
SUMMARY:Inženirska grafika (TPL-U) (IG)\, Seminar (S)
DTSTART;TZID=Europe/Ljubljana:20251002T103000
DTEND;TZID=Europe/Ljubljana:20251002T111500
DTSTAMP:20260422T101346Z
UID:fpp-AFLABS-URNIK:premaknjeno-srecanje:30690
ATTENDEE:1. letnik (TPL-U)
CATEGORIES:Entry,Standard
COLOR:darkgreen
DESCRIPTION:Predmet: Inženirska grafika (TPL-U) (IG)\, Seminar (S)\nLetni
 ki: 1. letnik (TPL-U)\nIzvajalci: Blaž Luin\nProstor: 202
LOCATION:202
ORGANIZER:Blaž Luin
RELATED-TO:fpp-AFLABS-URNIK:srecanje:576
X-WR-TIMEZONE:Europe/Ljubljana
END:VEVENT
BEGIN:VEVENT
SUMMARY:Modeliranje in planiranje (PTTL) (MP)\, Seminar (S)
DTSTART;TZID=Europe/Ljubljana:20251006T094000
DTEND;TZID=Europe/Ljubljana:20251006T111500
DTSTAMP:20260422T101346Z
UID:fpp-AFLABS-URNIK:premaknjeno-srecanje:15916
ATTENDEE:3. letnik (PTTL, SS)
ATTENDEE:3. letnik (PTTL, VS)
CATEGORIES:Entry,Standard
COLOR:darkgreen
DESCRIPTION:Predmet: Modeliranje in planiranje (PTTL) (MP)\, Seminar (S)\n
 Letniki: 3. letnik (PTTL\, SS)\, 3. letnik (PTTL\, VS)\nIzvajalci: Blaž L
 uin\nProstor: R1
LOCATION:R1
ORGANIZER:Blaž Luin
RELATED-TO:fpp-AFLABS-URNIK:srecanje:626
X-WR-TIMEZONE:Europe/Ljubljana
END:VEVENT
END:VCALENDAR
