BEGIN:VCALENDAR
VERSION:2.0
PRODID:-//AFLabs urnik izvoz - fpp//aflabs.si//SI
DTSTAMP:20260422T053139Z
NAME:UL FPP Urnik
REFRESH-INTERVAL:PT1H
SOURCE:https://afurnik-fpp.dev.aflabs.org/teacher/36?day=2026-03-09&export
 =1
URL:https://afurnik-fpp.dev.aflabs.org/teacher/36?day=2026-03-09&export=1
X-PUBLISHED-TTL:PT1H
X-WR-CALNAME:UL FPP Urnik
X-WR-TIMEZONE:Europe/Ljubljana
BEGIN:VTIMEZONE
TZID:Europe/Ljubljana
BEGIN:DAYLIGHT
DTSTART:20260329T020000
RDATE:20260329T020000
RDATE:20270328T020000
TZNAME:CEST
TZOFFSETFROM:+0100
TZOFFSETTO:+0200
END:DAYLIGHT
BEGIN:STANDARD
DTSTART:20261025T030000
RDATE:20261025T030000
RDATE:20271031T030000
TZNAME:CET
TZOFFSETFROM:+0200
TZOFFSETTO:+0100
END:STANDARD
END:VTIMEZONE
BEGIN:VEVENT
SUMMARY:Transportno inženirstvo (TPL-U) (TIN)\, Predavanje (P)
DTSTART;TZID=Europe/Ljubljana:20260217T085000
DTEND;TZID=Europe/Ljubljana:20260217T111500
DTSTAMP:20260422T053139Z
UID:fpp-AFLABS-URNIK:premaknjeno-srecanje:25073
ATTENDEE:1. letnik (TPL-U)
CATEGORIES:Entry,Standard
COLOR:darkgreen
DESCRIPTION:Predmet: Transportno inženirstvo (TPL-U) (TIN)\, Predavanje (
 P)\nLetniki: 1. letnik (TPL-U)\nIzvajalci: Robert Muha\nProstor: 202
LOCATION:202
ORGANIZER:Robert Muha
RELATED-TO:fpp-AFLABS-URNIK:srecanje:1059
X-WR-TIMEZONE:Europe/Ljubljana
END:VEVENT
BEGIN:VEVENT
SUMMARY:Transportno inženirstvo (TPL-U) (TIN)\, Predavanje (P)
DTSTART;TZID=Europe/Ljubljana:20260224T085000
DTEND;TZID=Europe/Ljubljana:20260224T111500
DTSTAMP:20260422T053139Z
UID:fpp-AFLABS-URNIK:premaknjeno-srecanje:25074
ATTENDEE:1. letnik (TPL-U)
CATEGORIES:Entry,Standard
COLOR:darkgreen
DESCRIPTION:Predmet: Transportno inženirstvo (TPL-U) (TIN)\, Predavanje (
 P)\nLetniki: 1. letnik (TPL-U)\nIzvajalci: Robert Muha\nProstor: 202
LOCATION:202
ORGANIZER:Robert Muha
RELATED-TO:fpp-AFLABS-URNIK:srecanje:1059
X-WR-TIMEZONE:Europe/Ljubljana
END:VEVENT
BEGIN:VEVENT
SUMMARY:Transportno inženirstvo (TPL-U) (TIN)\, Predavanje (P)
DTSTART;TZID=Europe/Ljubljana:20260303T085000
DTEND;TZID=Europe/Ljubljana:20260303T111500
DTSTAMP:20260422T053139Z
UID:fpp-AFLABS-URNIK:premaknjeno-srecanje:25075
ATTENDEE:1. letnik (TPL-U)
CATEGORIES:Entry,Standard
COLOR:darkgreen
DESCRIPTION:Predmet: Transportno inženirstvo (TPL-U) (TIN)\, Predavanje (
 P)\nLetniki: 1. letnik (TPL-U)\nIzvajalci: Robert Muha\nProstor: 202
LOCATION:202
ORGANIZER:Robert Muha
RELATED-TO:fpp-AFLABS-URNIK:srecanje:1059
X-WR-TIMEZONE:Europe/Ljubljana
END:VEVENT
BEGIN:VEVENT
SUMMARY:Transportno inženirstvo (TPL-U) (TIN)\, Predavanje (P)
DTSTART;TZID=Europe/Ljubljana:20260310T085000
DTEND;TZID=Europe/Ljubljana:20260310T111500
DTSTAMP:20260422T053139Z
UID:fpp-AFLABS-URNIK:premaknjeno-srecanje:25076
ATTENDEE:1. letnik (TPL-U)
CATEGORIES:Entry,Standard
COLOR:darkgreen
DESCRIPTION:Predmet: Transportno inženirstvo (TPL-U) (TIN)\, Predavanje (
 P)\nLetniki: 1. letnik (TPL-U)\nIzvajalci: Robert Muha\nProstor: 202
LOCATION:202
ORGANIZER:Robert Muha
RELATED-TO:fpp-AFLABS-URNIK:srecanje:1059
X-WR-TIMEZONE:Europe/Ljubljana
END:VEVENT
BEGIN:VEVENT
SUMMARY:Transportno inženirstvo (TPL-U) (TIN)\, Predavanje (P)
DTSTART;TZID=Europe/Ljubljana:20260317T085000
DTEND;TZID=Europe/Ljubljana:20260317T111500
DTSTAMP:20260422T053139Z
UID:fpp-AFLABS-URNIK:premaknjeno-srecanje:25077
ATTENDEE:1. letnik (TPL-U)
CATEGORIES:Entry,Standard
COLOR:darkgreen
DESCRIPTION:Predmet: Transportno inženirstvo (TPL-U) (TIN)\, Predavanje (
 P)\nLetniki: 1. letnik (TPL-U)\nIzvajalci: Robert Muha\nProstor: 202
LOCATION:202
ORGANIZER:Robert Muha
RELATED-TO:fpp-AFLABS-URNIK:srecanje:1059
X-WR-TIMEZONE:Europe/Ljubljana
END:VEVENT
BEGIN:VEVENT
SUMMARY:Transportno inženirstvo (TPL-U) (TIN)\, Predavanje (P)
DTSTART;TZID=Europe/Ljubljana:20260324T085000
DTEND;TZID=Europe/Ljubljana:20260324T111500
DTSTAMP:20260422T053139Z
UID:fpp-AFLABS-URNIK:premaknjeno-srecanje:25078
ATTENDEE:1. letnik (TPL-U)
CATEGORIES:Entry,Standard
COLOR:darkgreen
DESCRIPTION:Predmet: Transportno inženirstvo (TPL-U) (TIN)\, Predavanje (
 P)\nLetniki: 1. letnik (TPL-U)\nIzvajalci: Robert Muha\nProstor: 202
LOCATION:202
ORGANIZER:Robert Muha
RELATED-TO:fpp-AFLABS-URNIK:srecanje:1059
X-WR-TIMEZONE:Europe/Ljubljana
END:VEVENT
BEGIN:VEVENT
SUMMARY:Transportno inženirstvo (TPL-U) (TIN)\, Predavanje (P)
DTSTART;TZID=Europe/Ljubljana:20260331T085000
DTEND;TZID=Europe/Ljubljana:20260331T111500
DTSTAMP:20260422T053139Z
UID:fpp-AFLABS-URNIK:premaknjeno-srecanje:25079
ATTENDEE:1. letnik (TPL-U)
CATEGORIES:Entry,Standard
COLOR:darkgreen
DESCRIPTION:Predmet: Transportno inženirstvo (TPL-U) (TIN)\, Predavanje (
 P)\nLetniki: 1. letnik (TPL-U)\nIzvajalci: Robert Muha\nProstor: 202
LOCATION:202
ORGANIZER:Robert Muha
RELATED-TO:fpp-AFLABS-URNIK:srecanje:1059
X-WR-TIMEZONE:Europe/Ljubljana
END:VEVENT
BEGIN:VEVENT
SUMMARY:Transportno inženirstvo (TPL-U) (TIN)\, Predavanje (P)
DTSTART;TZID=Europe/Ljubljana:20260407T085000
DTEND;TZID=Europe/Ljubljana:20260407T111500
DTSTAMP:20260422T053139Z
UID:fpp-AFLABS-URNIK:premaknjeno-srecanje:25080
ATTENDEE:1. letnik (TPL-U)
CATEGORIES:Entry,Standard
COLOR:darkgreen
DESCRIPTION:Predmet: Transportno inženirstvo (TPL-U) (TIN)\, Predavanje (
 P)\nLetniki: 1. letnik (TPL-U)\nIzvajalci: Robert Muha\nProstor: 202
LOCATION:202
ORGANIZER:Robert Muha
RELATED-TO:fpp-AFLABS-URNIK:srecanje:1059
X-WR-TIMEZONE:Europe/Ljubljana
END:VEVENT
BEGIN:VEVENT
SUMMARY:Transportno inženirstvo (TPL-U) (TIN)\, Predavanje (P)
DTSTART;TZID=Europe/Ljubljana:20260414T085000
DTEND;TZID=Europe/Ljubljana:20260414T111500
DTSTAMP:20260422T053139Z
UID:fpp-AFLABS-URNIK:premaknjeno-srecanje:25081
ATTENDEE:1. letnik (TPL-U)
CATEGORIES:Entry,Standard
COLOR:darkgreen
DESCRIPTION:Predmet: Transportno inženirstvo (TPL-U) (TIN)\, Predavanje (
 P)\nLetniki: 1. letnik (TPL-U)\nIzvajalci: Robert Muha\nProstor: 202
LOCATION:202
ORGANIZER:Robert Muha
RELATED-TO:fpp-AFLABS-URNIK:srecanje:1059
X-WR-TIMEZONE:Europe/Ljubljana
END:VEVENT
BEGIN:VEVENT
SUMMARY:Transportno inženirstvo (TPL-U) (TIN)\, Predavanje (P)
DTSTART;TZID=Europe/Ljubljana:20260421T085000
DTEND;TZID=Europe/Ljubljana:20260421T111500
DTSTAMP:20260422T053139Z
UID:fpp-AFLABS-URNIK:premaknjeno-srecanje:25082
ATTENDEE:1. letnik (TPL-U)
CATEGORIES:Entry,Standard
COLOR:darkgreen
DESCRIPTION:Predmet: Transportno inženirstvo (TPL-U) (TIN)\, Predavanje (
 P)\nLetniki: 1. letnik (TPL-U)\nIzvajalci: Robert Muha\nProstor: 202
LOCATION:202
ORGANIZER:Robert Muha
RELATED-TO:fpp-AFLABS-URNIK:srecanje:1059
X-WR-TIMEZONE:Europe/Ljubljana
END:VEVENT
BEGIN:VEVENT
SUMMARY:Transportno inženirstvo (TPL-U) (TIN)\, Predavanje (P)
DTSTART;TZID=Europe/Ljubljana:20260428T085000
DTEND;TZID=Europe/Ljubljana:20260428T111500
DTSTAMP:20260422T053139Z
UID:fpp-AFLABS-URNIK:premaknjeno-srecanje:25083
ATTENDEE:1. letnik (TPL-U)
CATEGORIES:Entry,Standard
COLOR:darkgreen
DESCRIPTION:Predmet: Transportno inženirstvo (TPL-U) (TIN)\, Predavanje (
 P)\nLetniki: 1. letnik (TPL-U)\nIzvajalci: Robert Muha\nProstor: 202
LOCATION:202
ORGANIZER:Robert Muha
RELATED-TO:fpp-AFLABS-URNIK:srecanje:1059
X-WR-TIMEZONE:Europe/Ljubljana
END:VEVENT
BEGIN:VEVENT
SUMMARY:Transportno inženirstvo (TPL-U) (TIN)\, Predavanje (P)
DTSTART;TZID=Europe/Ljubljana:20260505T085000
DTEND;TZID=Europe/Ljubljana:20260505T111500
DTSTAMP:20260422T053139Z
UID:fpp-AFLABS-URNIK:premaknjeno-srecanje:25084
ATTENDEE:1. letnik (TPL-U)
CATEGORIES:Entry,Standard
COLOR:darkgreen
DESCRIPTION:Predmet: Transportno inženirstvo (TPL-U) (TIN)\, Predavanje (
 P)\nLetniki: 1. letnik (TPL-U)\nIzvajalci: Robert Muha\nProstor: 202
LOCATION:202
ORGANIZER:Robert Muha
RELATED-TO:fpp-AFLABS-URNIK:srecanje:1059
X-WR-TIMEZONE:Europe/Ljubljana
END:VEVENT
BEGIN:VEVENT
SUMMARY:Transportno inženirstvo (TPL-U) (TIN)\, Predavanje (P)
DTSTART;TZID=Europe/Ljubljana:20260512T085000
DTEND;TZID=Europe/Ljubljana:20260512T111500
DTSTAMP:20260422T053139Z
UID:fpp-AFLABS-URNIK:premaknjeno-srecanje:25085
ATTENDEE:1. letnik (TPL-U)
CATEGORIES:Entry,Standard
COLOR:darkgreen
DESCRIPTION:Predmet: Transportno inženirstvo (TPL-U) (TIN)\, Predavanje (
 P)\nLetniki: 1. letnik (TPL-U)\nIzvajalci: Robert Muha\nProstor: 202
LOCATION:202
ORGANIZER:Robert Muha
RELATED-TO:fpp-AFLABS-URNIK:srecanje:1059
X-WR-TIMEZONE:Europe/Ljubljana
END:VEVENT
BEGIN:VEVENT
SUMMARY:Transportno inženirstvo (TPL-U) (TIN)\, Predavanje (P)
DTSTART;TZID=Europe/Ljubljana:20260519T085000
DTEND;TZID=Europe/Ljubljana:20260519T111500
DTSTAMP:20260422T053139Z
UID:fpp-AFLABS-URNIK:premaknjeno-srecanje:25086
ATTENDEE:1. letnik (TPL-U)
CATEGORIES:Entry,Standard
COLOR:darkgreen
DESCRIPTION:Predmet: Transportno inženirstvo (TPL-U) (TIN)\, Predavanje (
 P)\nLetniki: 1. letnik (TPL-U)\nIzvajalci: Robert Muha\nProstor: 202
LOCATION:202
ORGANIZER:Robert Muha
RELATED-TO:fpp-AFLABS-URNIK:srecanje:1059
X-WR-TIMEZONE:Europe/Ljubljana
END:VEVENT
BEGIN:VEVENT
SUMMARY:Transportno inženirstvo (TPL-U) (TIN)\, Predavanje (P)
DTSTART;TZID=Europe/Ljubljana:20260526T085000
DTEND;TZID=Europe/Ljubljana:20260526T111500
DTSTAMP:20260422T053139Z
UID:fpp-AFLABS-URNIK:premaknjeno-srecanje:25087
ATTENDEE:1. letnik (TPL-U)
CATEGORIES:Entry,Standard
COLOR:darkgreen
DESCRIPTION:Predmet: Transportno inženirstvo (TPL-U) (TIN)\, Predavanje (
 P)\nLetniki: 1. letnik (TPL-U)\nIzvajalci: Robert Muha\nProstor: 202
LOCATION:202
ORGANIZER:Robert Muha
RELATED-TO:fpp-AFLABS-URNIK:srecanje:1059
X-WR-TIMEZONE:Europe/Ljubljana
END:VEVENT
BEGIN:VEVENT
SUMMARY:Transportno inženirstvo (TPL-U) (TIN)\, Predavanje (P)
DTSTART;TZID=Europe/Ljubljana:20260602T085000
DTEND;TZID=Europe/Ljubljana:20260602T111500
DTSTAMP:20260422T053139Z
UID:fpp-AFLABS-URNIK:premaknjeno-srecanje:25088
ATTENDEE:1. letnik (TPL-U)
CATEGORIES:Entry,Standard
COLOR:darkgreen
DESCRIPTION:Predmet: Transportno inženirstvo (TPL-U) (TIN)\, Predavanje (
 P)\nLetniki: 1. letnik (TPL-U)\nIzvajalci: Robert Muha\nProstor: 202
LOCATION:202
ORGANIZER:Robert Muha
RELATED-TO:fpp-AFLABS-URNIK:srecanje:1059
X-WR-TIMEZONE:Europe/Ljubljana
END:VEVENT
BEGIN:VEVENT
SUMMARY:Transportno inženirstvo (TPL-U) (TIN)\, Seminar (S)
DTSTART;TZID=Europe/Ljubljana:20260217T112000
DTEND;TZID=Europe/Ljubljana:20260217T120500
DTSTAMP:20260422T053139Z
UID:fpp-AFLABS-URNIK:premaknjeno-srecanje:25135
ATTENDEE:1. letnik (TPL-U)
CATEGORIES:Entry,Standard
COLOR:darkgreen
DESCRIPTION:Predmet: Transportno inženirstvo (TPL-U) (TIN)\, Seminar (S)\
 nLetniki: 1. letnik (TPL-U)\nIzvajalci: Robert Muha\nProstor: 202
LOCATION:202
ORGANIZER:Robert Muha
RELATED-TO:fpp-AFLABS-URNIK:srecanje:1060
X-WR-TIMEZONE:Europe/Ljubljana
END:VEVENT
BEGIN:VEVENT
SUMMARY:Transportno inženirstvo (TPL-U) (TIN)\, Seminar (S)
DTSTART;TZID=Europe/Ljubljana:20260224T112000
DTEND;TZID=Europe/Ljubljana:20260224T120500
DTSTAMP:20260422T053139Z
UID:fpp-AFLABS-URNIK:premaknjeno-srecanje:25136
ATTENDEE:1. letnik (TPL-U)
CATEGORIES:Entry,Standard
COLOR:darkgreen
DESCRIPTION:Predmet: Transportno inženirstvo (TPL-U) (TIN)\, Seminar (S)\
 nLetniki: 1. letnik (TPL-U)\nIzvajalci: Robert Muha\nProstor: 202
LOCATION:202
ORGANIZER:Robert Muha
RELATED-TO:fpp-AFLABS-URNIK:srecanje:1060
X-WR-TIMEZONE:Europe/Ljubljana
END:VEVENT
BEGIN:VEVENT
SUMMARY:Transportno inženirstvo (TPL-U) (TIN)\, Seminar (S)
DTSTART;TZID=Europe/Ljubljana:20260303T112000
DTEND;TZID=Europe/Ljubljana:20260303T120500
DTSTAMP:20260422T053139Z
UID:fpp-AFLABS-URNIK:premaknjeno-srecanje:25137
ATTENDEE:1. letnik (TPL-U)
CATEGORIES:Entry,Standard
COLOR:darkgreen
DESCRIPTION:Predmet: Transportno inženirstvo (TPL-U) (TIN)\, Seminar (S)\
 nLetniki: 1. letnik (TPL-U)\nIzvajalci: Robert Muha\nProstor: 202
LOCATION:202
ORGANIZER:Robert Muha
RELATED-TO:fpp-AFLABS-URNIK:srecanje:1060
X-WR-TIMEZONE:Europe/Ljubljana
END:VEVENT
BEGIN:VEVENT
SUMMARY:Transportno inženirstvo (TPL-U) (TIN)\, Seminar (S)
DTSTART;TZID=Europe/Ljubljana:20260310T112000
DTEND;TZID=Europe/Ljubljana:20260310T120500
DTSTAMP:20260422T053139Z
UID:fpp-AFLABS-URNIK:premaknjeno-srecanje:25138
ATTENDEE:1. letnik (TPL-U)
CATEGORIES:Entry,Standard
COLOR:darkgreen
DESCRIPTION:Predmet: Transportno inženirstvo (TPL-U) (TIN)\, Seminar (S)\
 nLetniki: 1. letnik (TPL-U)\nIzvajalci: Robert Muha\nProstor: 202
LOCATION:202
ORGANIZER:Robert Muha
RELATED-TO:fpp-AFLABS-URNIK:srecanje:1060
X-WR-TIMEZONE:Europe/Ljubljana
END:VEVENT
BEGIN:VEVENT
SUMMARY:Transportno inženirstvo (TPL-U) (TIN)\, Seminar (S)
DTSTART;TZID=Europe/Ljubljana:20260317T112000
DTEND;TZID=Europe/Ljubljana:20260317T120500
DTSTAMP:20260422T053139Z
UID:fpp-AFLABS-URNIK:premaknjeno-srecanje:25139
ATTENDEE:1. letnik (TPL-U)
CATEGORIES:Entry,Standard
COLOR:darkgreen
DESCRIPTION:Predmet: Transportno inženirstvo (TPL-U) (TIN)\, Seminar (S)\
 nLetniki: 1. letnik (TPL-U)\nIzvajalci: Robert Muha\nProstor: 202
LOCATION:202
ORGANIZER:Robert Muha
RELATED-TO:fpp-AFLABS-URNIK:srecanje:1060
X-WR-TIMEZONE:Europe/Ljubljana
END:VEVENT
BEGIN:VEVENT
SUMMARY:Transportno inženirstvo (TPL-U) (TIN)\, Seminar (S)
DTSTART;TZID=Europe/Ljubljana:20260324T112000
DTEND;TZID=Europe/Ljubljana:20260324T120500
DTSTAMP:20260422T053139Z
UID:fpp-AFLABS-URNIK:premaknjeno-srecanje:25140
ATTENDEE:1. letnik (TPL-U)
CATEGORIES:Entry,Standard
COLOR:darkgreen
DESCRIPTION:Predmet: Transportno inženirstvo (TPL-U) (TIN)\, Seminar (S)\
 nLetniki: 1. letnik (TPL-U)\nIzvajalci: Robert Muha\nProstor: 202
LOCATION:202
ORGANIZER:Robert Muha
RELATED-TO:fpp-AFLABS-URNIK:srecanje:1060
X-WR-TIMEZONE:Europe/Ljubljana
END:VEVENT
BEGIN:VEVENT
SUMMARY:Transportno inženirstvo (TPL-U) (TIN)\, Seminar (S)
DTSTART;TZID=Europe/Ljubljana:20260331T112000
DTEND;TZID=Europe/Ljubljana:20260331T120500
DTSTAMP:20260422T053139Z
UID:fpp-AFLABS-URNIK:premaknjeno-srecanje:25141
ATTENDEE:1. letnik (TPL-U)
CATEGORIES:Entry,Standard
COLOR:darkgreen
DESCRIPTION:Predmet: Transportno inženirstvo (TPL-U) (TIN)\, Seminar (S)\
 nLetniki: 1. letnik (TPL-U)\nIzvajalci: Robert Muha\nProstor: 202
LOCATION:202
ORGANIZER:Robert Muha
RELATED-TO:fpp-AFLABS-URNIK:srecanje:1060
X-WR-TIMEZONE:Europe/Ljubljana
END:VEVENT
BEGIN:VEVENT
SUMMARY:Transportno inženirstvo (TPL-U) (TIN)\, Seminar (S)
DTSTART;TZID=Europe/Ljubljana:20260407T112000
DTEND;TZID=Europe/Ljubljana:20260407T120500
DTSTAMP:20260422T053139Z
UID:fpp-AFLABS-URNIK:premaknjeno-srecanje:25142
ATTENDEE:1. letnik (TPL-U)
CATEGORIES:Entry,Standard
COLOR:darkgreen
DESCRIPTION:Predmet: Transportno inženirstvo (TPL-U) (TIN)\, Seminar (S)\
 nLetniki: 1. letnik (TPL-U)\nIzvajalci: Robert Muha\nProstor: 202
LOCATION:202
ORGANIZER:Robert Muha
RELATED-TO:fpp-AFLABS-URNIK:srecanje:1060
X-WR-TIMEZONE:Europe/Ljubljana
END:VEVENT
BEGIN:VEVENT
SUMMARY:Transportno inženirstvo (TPL-U) (TIN)\, Seminar (S)
DTSTART;TZID=Europe/Ljubljana:20260414T112000
DTEND;TZID=Europe/Ljubljana:20260414T120500
DTSTAMP:20260422T053139Z
UID:fpp-AFLABS-URNIK:premaknjeno-srecanje:25143
ATTENDEE:1. letnik (TPL-U)
CATEGORIES:Entry,Standard
COLOR:darkgreen
DESCRIPTION:Predmet: Transportno inženirstvo (TPL-U) (TIN)\, Seminar (S)\
 nLetniki: 1. letnik (TPL-U)\nIzvajalci: Robert Muha\nProstor: 202
LOCATION:202
ORGANIZER:Robert Muha
RELATED-TO:fpp-AFLABS-URNIK:srecanje:1060
X-WR-TIMEZONE:Europe/Ljubljana
END:VEVENT
BEGIN:VEVENT
SUMMARY:Transportno inženirstvo (TPL-U) (TIN)\, Seminar (S)
DTSTART;TZID=Europe/Ljubljana:20260421T112000
DTEND;TZID=Europe/Ljubljana:20260421T120500
DTSTAMP:20260422T053139Z
UID:fpp-AFLABS-URNIK:premaknjeno-srecanje:25144
ATTENDEE:1. letnik (TPL-U)
CATEGORIES:Entry,Standard
COLOR:darkgreen
DESCRIPTION:Predmet: Transportno inženirstvo (TPL-U) (TIN)\, Seminar (S)\
 nLetniki: 1. letnik (TPL-U)\nIzvajalci: Robert Muha\nProstor: 202
LOCATION:202
ORGANIZER:Robert Muha
RELATED-TO:fpp-AFLABS-URNIK:srecanje:1060
X-WR-TIMEZONE:Europe/Ljubljana
END:VEVENT
BEGIN:VEVENT
SUMMARY:Transportno inženirstvo (TPL-U) (TIN)\, Seminar (S)
DTSTART;TZID=Europe/Ljubljana:20260428T112000
DTEND;TZID=Europe/Ljubljana:20260428T120500
DTSTAMP:20260422T053139Z
UID:fpp-AFLABS-URNIK:premaknjeno-srecanje:25145
ATTENDEE:1. letnik (TPL-U)
CATEGORIES:Entry,Standard
COLOR:darkgreen
DESCRIPTION:Predmet: Transportno inženirstvo (TPL-U) (TIN)\, Seminar (S)\
 nLetniki: 1. letnik (TPL-U)\nIzvajalci: Robert Muha\nProstor: 202
LOCATION:202
ORGANIZER:Robert Muha
RELATED-TO:fpp-AFLABS-URNIK:srecanje:1060
X-WR-TIMEZONE:Europe/Ljubljana
END:VEVENT
BEGIN:VEVENT
SUMMARY:Transportno inženirstvo (TPL-U) (TIN)\, Seminar (S)
DTSTART;TZID=Europe/Ljubljana:20260505T112000
DTEND;TZID=Europe/Ljubljana:20260505T120500
DTSTAMP:20260422T053139Z
UID:fpp-AFLABS-URNIK:premaknjeno-srecanje:25146
ATTENDEE:1. letnik (TPL-U)
CATEGORIES:Entry,Standard
COLOR:darkgreen
DESCRIPTION:Predmet: Transportno inženirstvo (TPL-U) (TIN)\, Seminar (S)\
 nLetniki: 1. letnik (TPL-U)\nIzvajalci: Robert Muha\nProstor: 202
LOCATION:202
ORGANIZER:Robert Muha
RELATED-TO:fpp-AFLABS-URNIK:srecanje:1060
X-WR-TIMEZONE:Europe/Ljubljana
END:VEVENT
BEGIN:VEVENT
SUMMARY:Transportno inženirstvo (TPL-U) (TIN)\, Seminar (S)
DTSTART;TZID=Europe/Ljubljana:20260512T112000
DTEND;TZID=Europe/Ljubljana:20260512T120500
DTSTAMP:20260422T053139Z
UID:fpp-AFLABS-URNIK:premaknjeno-srecanje:25147
ATTENDEE:1. letnik (TPL-U)
CATEGORIES:Entry,Standard
COLOR:darkgreen
DESCRIPTION:Predmet: Transportno inženirstvo (TPL-U) (TIN)\, Seminar (S)\
 nLetniki: 1. letnik (TPL-U)\nIzvajalci: Robert Muha\nProstor: 202
LOCATION:202
ORGANIZER:Robert Muha
RELATED-TO:fpp-AFLABS-URNIK:srecanje:1060
X-WR-TIMEZONE:Europe/Ljubljana
END:VEVENT
BEGIN:VEVENT
SUMMARY:Transportno inženirstvo (TPL-U) (TIN)\, Seminar (S)
DTSTART;TZID=Europe/Ljubljana:20260519T112000
DTEND;TZID=Europe/Ljubljana:20260519T120500
DTSTAMP:20260422T053139Z
UID:fpp-AFLABS-URNIK:premaknjeno-srecanje:25148
ATTENDEE:1. letnik (TPL-U)
CATEGORIES:Entry,Standard
COLOR:darkgreen
DESCRIPTION:Predmet: Transportno inženirstvo (TPL-U) (TIN)\, Seminar (S)\
 nLetniki: 1. letnik (TPL-U)\nIzvajalci: Robert Muha\nProstor: 202
LOCATION:202
ORGANIZER:Robert Muha
RELATED-TO:fpp-AFLABS-URNIK:srecanje:1060
X-WR-TIMEZONE:Europe/Ljubljana
END:VEVENT
BEGIN:VEVENT
SUMMARY:Transportno inženirstvo (TPL-U) (TIN)\, Seminar (S)
DTSTART;TZID=Europe/Ljubljana:20260526T112000
DTEND;TZID=Europe/Ljubljana:20260526T120500
DTSTAMP:20260422T053139Z
UID:fpp-AFLABS-URNIK:premaknjeno-srecanje:25149
ATTENDEE:1. letnik (TPL-U)
CATEGORIES:Entry,Standard
COLOR:darkgreen
DESCRIPTION:Predmet: Transportno inženirstvo (TPL-U) (TIN)\, Seminar (S)\
 nLetniki: 1. letnik (TPL-U)\nIzvajalci: Robert Muha\nProstor: 202
LOCATION:202
ORGANIZER:Robert Muha
RELATED-TO:fpp-AFLABS-URNIK:srecanje:1060
X-WR-TIMEZONE:Europe/Ljubljana
END:VEVENT
BEGIN:VEVENT
SUMMARY:Transportno inženirstvo (TPL-U) (TIN)\, Seminar (S)
DTSTART;TZID=Europe/Ljubljana:20260602T112000
DTEND;TZID=Europe/Ljubljana:20260602T120500
DTSTAMP:20260422T053139Z
UID:fpp-AFLABS-URNIK:premaknjeno-srecanje:25150
ATTENDEE:1. letnik (TPL-U)
CATEGORIES:Entry,Standard
COLOR:darkgreen
DESCRIPTION:Predmet: Transportno inženirstvo (TPL-U) (TIN)\, Seminar (S)\
 nLetniki: 1. letnik (TPL-U)\nIzvajalci: Robert Muha\nProstor: 202
LOCATION:202
ORGANIZER:Robert Muha
RELATED-TO:fpp-AFLABS-URNIK:srecanje:1060
X-WR-TIMEZONE:Europe/Ljubljana
END:VEVENT
BEGIN:VEVENT
SUMMARY:Upravljanje in vodenje (TPL-U) (UV)\, Predavanje (P)
DTSTART;TZID=Europe/Ljubljana:20260218T080000
DTEND;TZID=Europe/Ljubljana:20260218T093500
DTSTAMP:20260422T053139Z
UID:fpp-AFLABS-URNIK:premaknjeno-srecanje:25982
ATTENDEE:3. letnik (TPL-U)
CATEGORIES:Entry,Standard
COLOR:darkgreen
DESCRIPTION:Predmet: Upravljanje in vodenje (TPL-U) (UV)\, Predavanje (P)\
 nLetniki: 3. letnik (TPL-U)\nIzvajalci: Robert Muha\nProstor: 206
LOCATION:206
ORGANIZER:Robert Muha
RELATED-TO:fpp-AFLABS-URNIK:srecanje:1066
X-WR-TIMEZONE:Europe/Ljubljana
END:VEVENT
BEGIN:VEVENT
SUMMARY:Upravljanje in vodenje (TPL-U) (UV)\, Predavanje (P)
DTSTART;TZID=Europe/Ljubljana:20260225T080000
DTEND;TZID=Europe/Ljubljana:20260225T093500
DTSTAMP:20260422T053139Z
UID:fpp-AFLABS-URNIK:premaknjeno-srecanje:25983
ATTENDEE:3. letnik (TPL-U)
CATEGORIES:Entry,Standard
COLOR:darkgreen
DESCRIPTION:Predmet: Upravljanje in vodenje (TPL-U) (UV)\, Predavanje (P)\
 nLetniki: 3. letnik (TPL-U)\nIzvajalci: Robert Muha\nProstor: 206
LOCATION:206
ORGANIZER:Robert Muha
RELATED-TO:fpp-AFLABS-URNIK:srecanje:1066
X-WR-TIMEZONE:Europe/Ljubljana
END:VEVENT
BEGIN:VEVENT
SUMMARY:Upravljanje in vodenje (TPL-U) (UV)\, Predavanje (P)
DTSTART;TZID=Europe/Ljubljana:20260304T080000
DTEND;TZID=Europe/Ljubljana:20260304T093500
DTSTAMP:20260422T053139Z
UID:fpp-AFLABS-URNIK:premaknjeno-srecanje:25984
ATTENDEE:3. letnik (TPL-U)
CATEGORIES:Entry,Standard
COLOR:darkgreen
DESCRIPTION:Predmet: Upravljanje in vodenje (TPL-U) (UV)\, Predavanje (P)\
 nLetniki: 3. letnik (TPL-U)\nIzvajalci: Robert Muha\nProstor: 206
LOCATION:206
ORGANIZER:Robert Muha
RELATED-TO:fpp-AFLABS-URNIK:srecanje:1066
X-WR-TIMEZONE:Europe/Ljubljana
END:VEVENT
BEGIN:VEVENT
SUMMARY:Upravljanje in vodenje (TPL-U) (UV)\, Predavanje (P)
DTSTART;TZID=Europe/Ljubljana:20260311T080000
DTEND;TZID=Europe/Ljubljana:20260311T093500
DTSTAMP:20260422T053139Z
UID:fpp-AFLABS-URNIK:premaknjeno-srecanje:25985
ATTENDEE:3. letnik (TPL-U)
CATEGORIES:Entry,Standard
COLOR:darkgreen
DESCRIPTION:Predmet: Upravljanje in vodenje (TPL-U) (UV)\, Predavanje (P)\
 nLetniki: 3. letnik (TPL-U)\nIzvajalci: Robert Muha\nProstor: 206
LOCATION:206
ORGANIZER:Robert Muha
RELATED-TO:fpp-AFLABS-URNIK:srecanje:1066
X-WR-TIMEZONE:Europe/Ljubljana
END:VEVENT
BEGIN:VEVENT
SUMMARY:Upravljanje in vodenje (TPL-U) (UV)\, Predavanje (P)
DTSTART;TZID=Europe/Ljubljana:20260318T080000
DTEND;TZID=Europe/Ljubljana:20260318T093500
DTSTAMP:20260422T053139Z
UID:fpp-AFLABS-URNIK:premaknjeno-srecanje:25986
ATTENDEE:3. letnik (TPL-U)
CATEGORIES:Entry,Standard
COLOR:darkgreen
DESCRIPTION:Predmet: Upravljanje in vodenje (TPL-U) (UV)\, Predavanje (P)\
 nLetniki: 3. letnik (TPL-U)\nIzvajalci: Robert Muha\nProstor: 206
LOCATION:206
ORGANIZER:Robert Muha
RELATED-TO:fpp-AFLABS-URNIK:srecanje:1066
X-WR-TIMEZONE:Europe/Ljubljana
END:VEVENT
BEGIN:VEVENT
SUMMARY:Upravljanje in vodenje (TPL-U) (UV)\, Predavanje (P)
DTSTART;TZID=Europe/Ljubljana:20260325T080000
DTEND;TZID=Europe/Ljubljana:20260325T093500
DTSTAMP:20260422T053139Z
UID:fpp-AFLABS-URNIK:premaknjeno-srecanje:25987
ATTENDEE:3. letnik (TPL-U)
CATEGORIES:Entry,Standard
COLOR:darkgreen
DESCRIPTION:Predmet: Upravljanje in vodenje (TPL-U) (UV)\, Predavanje (P)\
 nLetniki: 3. letnik (TPL-U)\nIzvajalci: Robert Muha\nProstor: 206
LOCATION:206
ORGANIZER:Robert Muha
RELATED-TO:fpp-AFLABS-URNIK:srecanje:1066
X-WR-TIMEZONE:Europe/Ljubljana
END:VEVENT
BEGIN:VEVENT
SUMMARY:Upravljanje in vodenje (TPL-U) (UV)\, Predavanje (P)
DTSTART;TZID=Europe/Ljubljana:20260401T080000
DTEND;TZID=Europe/Ljubljana:20260401T093500
DTSTAMP:20260422T053139Z
UID:fpp-AFLABS-URNIK:premaknjeno-srecanje:25988
ATTENDEE:3. letnik (TPL-U)
CATEGORIES:Entry,Standard
COLOR:darkgreen
DESCRIPTION:Predmet: Upravljanje in vodenje (TPL-U) (UV)\, Predavanje (P)\
 nLetniki: 3. letnik (TPL-U)\nIzvajalci: Robert Muha\nProstor: 206
LOCATION:206
ORGANIZER:Robert Muha
RELATED-TO:fpp-AFLABS-URNIK:srecanje:1066
X-WR-TIMEZONE:Europe/Ljubljana
END:VEVENT
BEGIN:VEVENT
SUMMARY:Upravljanje in vodenje (TPL-U) (UV)\, Predavanje (P)
DTSTART;TZID=Europe/Ljubljana:20260408T080000
DTEND;TZID=Europe/Ljubljana:20260408T093500
DTSTAMP:20260422T053139Z
UID:fpp-AFLABS-URNIK:premaknjeno-srecanje:25989
ATTENDEE:3. letnik (TPL-U)
CATEGORIES:Entry,Standard
COLOR:darkgreen
DESCRIPTION:Predmet: Upravljanje in vodenje (TPL-U) (UV)\, Predavanje (P)\
 nLetniki: 3. letnik (TPL-U)\nIzvajalci: Robert Muha\nProstor: 206
LOCATION:206
ORGANIZER:Robert Muha
RELATED-TO:fpp-AFLABS-URNIK:srecanje:1066
X-WR-TIMEZONE:Europe/Ljubljana
END:VEVENT
BEGIN:VEVENT
SUMMARY:Upravljanje in vodenje (TPL-U) (UV)\, Predavanje (P)
DTSTART;TZID=Europe/Ljubljana:20260415T080000
DTEND;TZID=Europe/Ljubljana:20260415T093500
DTSTAMP:20260422T053139Z
UID:fpp-AFLABS-URNIK:premaknjeno-srecanje:25990
ATTENDEE:3. letnik (TPL-U)
CATEGORIES:Entry,Standard
COLOR:darkgreen
DESCRIPTION:Predmet: Upravljanje in vodenje (TPL-U) (UV)\, Predavanje (P)\
 nLetniki: 3. letnik (TPL-U)\nIzvajalci: Robert Muha\nProstor: 206
LOCATION:206
ORGANIZER:Robert Muha
RELATED-TO:fpp-AFLABS-URNIK:srecanje:1066
X-WR-TIMEZONE:Europe/Ljubljana
END:VEVENT
BEGIN:VEVENT
SUMMARY:Upravljanje in vodenje (TPL-U) (UV)\, Predavanje (P)
DTSTART;TZID=Europe/Ljubljana:20260422T080000
DTEND;TZID=Europe/Ljubljana:20260422T093500
DTSTAMP:20260422T053139Z
UID:fpp-AFLABS-URNIK:premaknjeno-srecanje:25991
ATTENDEE:3. letnik (TPL-U)
CATEGORIES:Entry,Standard
COLOR:darkgreen
DESCRIPTION:Predmet: Upravljanje in vodenje (TPL-U) (UV)\, Predavanje (P)\
 nLetniki: 3. letnik (TPL-U)\nIzvajalci: Robert Muha\nProstor: 206
LOCATION:206
ORGANIZER:Robert Muha
RELATED-TO:fpp-AFLABS-URNIK:srecanje:1066
X-WR-TIMEZONE:Europe/Ljubljana
END:VEVENT
BEGIN:VEVENT
SUMMARY:Upravljanje in vodenje (TPL-U) (UV)\, Predavanje (P)
DTSTART;TZID=Europe/Ljubljana:20260429T080000
DTEND;TZID=Europe/Ljubljana:20260429T093500
DTSTAMP:20260422T053139Z
UID:fpp-AFLABS-URNIK:premaknjeno-srecanje:25992
ATTENDEE:3. letnik (TPL-U)
CATEGORIES:Entry,Standard
COLOR:darkgreen
DESCRIPTION:Predmet: Upravljanje in vodenje (TPL-U) (UV)\, Predavanje (P)\
 nLetniki: 3. letnik (TPL-U)\nIzvajalci: Robert Muha\nProstor: 206
LOCATION:206
ORGANIZER:Robert Muha
RELATED-TO:fpp-AFLABS-URNIK:srecanje:1066
X-WR-TIMEZONE:Europe/Ljubljana
END:VEVENT
BEGIN:VEVENT
SUMMARY:Upravljanje in vodenje (TPL-U) (UV)\, Predavanje (P)
DTSTART;TZID=Europe/Ljubljana:20260506T080000
DTEND;TZID=Europe/Ljubljana:20260506T093500
DTSTAMP:20260422T053139Z
UID:fpp-AFLABS-URNIK:premaknjeno-srecanje:25993
ATTENDEE:3. letnik (TPL-U)
CATEGORIES:Entry,Standard
COLOR:darkgreen
DESCRIPTION:Predmet: Upravljanje in vodenje (TPL-U) (UV)\, Predavanje (P)\
 nLetniki: 3. letnik (TPL-U)\nIzvajalci: Robert Muha\nProstor: 206
LOCATION:206
ORGANIZER:Robert Muha
RELATED-TO:fpp-AFLABS-URNIK:srecanje:1066
X-WR-TIMEZONE:Europe/Ljubljana
END:VEVENT
BEGIN:VEVENT
SUMMARY:Upravljanje in vodenje (TPL-U) (UV)\, Predavanje (P)
DTSTART;TZID=Europe/Ljubljana:20260513T080000
DTEND;TZID=Europe/Ljubljana:20260513T093500
DTSTAMP:20260422T053139Z
UID:fpp-AFLABS-URNIK:premaknjeno-srecanje:25994
ATTENDEE:3. letnik (TPL-U)
CATEGORIES:Entry,Standard
COLOR:darkgreen
DESCRIPTION:Predmet: Upravljanje in vodenje (TPL-U) (UV)\, Predavanje (P)\
 nLetniki: 3. letnik (TPL-U)\nIzvajalci: Robert Muha\nProstor: 206
LOCATION:206
ORGANIZER:Robert Muha
RELATED-TO:fpp-AFLABS-URNIK:srecanje:1066
X-WR-TIMEZONE:Europe/Ljubljana
END:VEVENT
BEGIN:VEVENT
SUMMARY:Upravljanje in vodenje (TPL-U) (UV)\, Predavanje (P)
DTSTART;TZID=Europe/Ljubljana:20260520T080000
DTEND;TZID=Europe/Ljubljana:20260520T093500
DTSTAMP:20260422T053139Z
UID:fpp-AFLABS-URNIK:premaknjeno-srecanje:25995
ATTENDEE:3. letnik (TPL-U)
CATEGORIES:Entry,Standard
COLOR:darkgreen
DESCRIPTION:Predmet: Upravljanje in vodenje (TPL-U) (UV)\, Predavanje (P)\
 nLetniki: 3. letnik (TPL-U)\nIzvajalci: Robert Muha\nProstor: 206
LOCATION:206
ORGANIZER:Robert Muha
RELATED-TO:fpp-AFLABS-URNIK:srecanje:1066
X-WR-TIMEZONE:Europe/Ljubljana
END:VEVENT
BEGIN:VEVENT
SUMMARY:Upravljanje in vodenje (TPL-U) (UV)\, Predavanje (P)
DTSTART;TZID=Europe/Ljubljana:20260527T080000
DTEND;TZID=Europe/Ljubljana:20260527T093500
DTSTAMP:20260422T053139Z
UID:fpp-AFLABS-URNIK:premaknjeno-srecanje:25996
ATTENDEE:3. letnik (TPL-U)
CATEGORIES:Entry,Standard
COLOR:darkgreen
DESCRIPTION:Predmet: Upravljanje in vodenje (TPL-U) (UV)\, Predavanje (P)\
 nLetniki: 3. letnik (TPL-U)\nIzvajalci: Robert Muha\nProstor: 206
LOCATION:206
ORGANIZER:Robert Muha
RELATED-TO:fpp-AFLABS-URNIK:srecanje:1066
X-WR-TIMEZONE:Europe/Ljubljana
END:VEVENT
BEGIN:VEVENT
SUMMARY:Upravljanje in vodenje (TPL-U) (UV)\, Predavanje (P)
DTSTART;TZID=Europe/Ljubljana:20260603T080000
DTEND;TZID=Europe/Ljubljana:20260603T093500
DTSTAMP:20260422T053139Z
UID:fpp-AFLABS-URNIK:premaknjeno-srecanje:25997
ATTENDEE:3. letnik (TPL-U)
CATEGORIES:Entry,Standard
COLOR:darkgreen
DESCRIPTION:Predmet: Upravljanje in vodenje (TPL-U) (UV)\, Predavanje (P)\
 nLetniki: 3. letnik (TPL-U)\nIzvajalci: Robert Muha\nProstor: 206
LOCATION:206
ORGANIZER:Robert Muha
RELATED-TO:fpp-AFLABS-URNIK:srecanje:1066
X-WR-TIMEZONE:Europe/Ljubljana
END:VEVENT
END:VCALENDAR
