BEGIN:VCALENDAR
VERSION:2.0
PRODID:-//AFLabs urnik izvoz - fpp//aflabs.si//SI
DTSTAMP:20260422T102237Z
NAME:UL FPP Urnik
REFRESH-INTERVAL:PT1H
SOURCE:https://afurnik-fpp.dev.aflabs.org/teacher/39?day=2025-06-16&export
 =1
URL:https://afurnik-fpp.dev.aflabs.org/teacher/39?day=2025-06-16&export=1
X-PUBLISHED-TTL:PT1H
X-WR-CALNAME:UL FPP Urnik
X-WR-TIMEZONE:Europe/Ljubljana
BEGIN:VTIMEZONE
TZID:Europe/Ljubljana
BEGIN:DAYLIGHT
DTSTART:20260329T020000
RDATE:20260329T020000
RDATE:20270328T020000
TZNAME:CEST
TZOFFSETFROM:+0100
TZOFFSETTO:+0200
END:DAYLIGHT
BEGIN:STANDARD
DTSTART:20261025T030000
RDATE:20261025T030000
RDATE:20271031T030000
TZNAME:CET
TZOFFSETFROM:+0200
TZOFFSETTO:+0100
END:STANDARD
END:VTIMEZONE
BEGIN:VEVENT
SUMMARY:Vzdrževanje ladje (N) (VZL)\, Predavanje (P)
DTSTART;TZID=Europe/Ljubljana:20250512T103000
DTEND;TZID=Europe/Ljubljana:20250512T120500
DTSTAMP:20260422T102237Z
UID:fpp-AFLABS-URNIK:premaknjeno-srecanje:8329
ATTENDEE:2. letnik (N, SS)
ATTENDEE:2. letnik (N, VS)
CATEGORIES:Entry,Standard
COLOR:darkgreen
DESCRIPTION:Predmet: Vzdrževanje ladje (N) (VZL)\, Predavanje (P)\nLetnik
 i: 2. letnik (N\, SS)\, 2. letnik (N\, VS)\nIzvajalci: Marko Perkovič\nPr
 ostor: NE2
LOCATION:NE2
ORGANIZER:Marko Perkovič
RELATED-TO:fpp-AFLABS-URNIK:srecanje:376
X-WR-TIMEZONE:Europe/Ljubljana
END:VEVENT
BEGIN:VEVENT
SUMMARY:Vzdrževanje ladje (N) (VZL)\, Predavanje (P)
DTSTART;TZID=Europe/Ljubljana:20250519T103000
DTEND;TZID=Europe/Ljubljana:20250519T120500
DTSTAMP:20260422T102237Z
UID:fpp-AFLABS-URNIK:premaknjeno-srecanje:8330
ATTENDEE:2. letnik (N, SS)
ATTENDEE:2. letnik (N, VS)
CATEGORIES:Entry,Standard
COLOR:darkgreen
DESCRIPTION:Predmet: Vzdrževanje ladje (N) (VZL)\, Predavanje (P)\nLetnik
 i: 2. letnik (N\, SS)\, 2. letnik (N\, VS)\nIzvajalci: Marko Perkovič\nPr
 ostor: NE2
LOCATION:NE2
ORGANIZER:Marko Perkovič
RELATED-TO:fpp-AFLABS-URNIK:srecanje:376
X-WR-TIMEZONE:Europe/Ljubljana
END:VEVENT
BEGIN:VEVENT
SUMMARY:Vzdrževanje ladje (N) (VZL)\, Predavanje (P)
DTSTART;TZID=Europe/Ljubljana:20250526T103000
DTEND;TZID=Europe/Ljubljana:20250526T120500
DTSTAMP:20260422T102237Z
UID:fpp-AFLABS-URNIK:premaknjeno-srecanje:8331
ATTENDEE:2. letnik (N, SS)
ATTENDEE:2. letnik (N, VS)
CATEGORIES:Entry,Standard
COLOR:darkgreen
DESCRIPTION:Predmet: Vzdrževanje ladje (N) (VZL)\, Predavanje (P)\nLetnik
 i: 2. letnik (N\, SS)\, 2. letnik (N\, VS)\nIzvajalci: Marko Perkovič\nPr
 ostor: NE2
LOCATION:NE2
ORGANIZER:Marko Perkovič
RELATED-TO:fpp-AFLABS-URNIK:srecanje:376
X-WR-TIMEZONE:Europe/Ljubljana
END:VEVENT
BEGIN:VEVENT
SUMMARY:Vzdrževanje ladje (N) (VZL)\, Predavanje (P)
DTSTART;TZID=Europe/Ljubljana:20250602T103000
DTEND;TZID=Europe/Ljubljana:20250602T120500
DTSTAMP:20260422T102237Z
UID:fpp-AFLABS-URNIK:premaknjeno-srecanje:8332
ATTENDEE:2. letnik (N, SS)
ATTENDEE:2. letnik (N, VS)
CATEGORIES:Entry,Standard
COLOR:darkgreen
DESCRIPTION:Predmet: Vzdrževanje ladje (N) (VZL)\, Predavanje (P)\nLetnik
 i: 2. letnik (N\, SS)\, 2. letnik (N\, VS)\nIzvajalci: Marko Perkovič\nPr
 ostor: NE2
LOCATION:NE2
ORGANIZER:Marko Perkovič
RELATED-TO:fpp-AFLABS-URNIK:srecanje:376
X-WR-TIMEZONE:Europe/Ljubljana
END:VEVENT
BEGIN:VEVENT
SUMMARY:Vzdrževanje ladje (PS) (VZL)\, Predavanje (P)
DTSTART;TZID=Europe/Ljubljana:20250512T103000
DTEND;TZID=Europe/Ljubljana:20250512T120500
DTSTAMP:20260422T102237Z
UID:fpp-AFLABS-URNIK:premaknjeno-srecanje:8389
ATTENDEE:2. letnik (PS, SS)
ATTENDEE:2. letnik (PS, VS)
CATEGORIES:Entry,Standard
COLOR:darkgreen
DESCRIPTION:Predmet: Vzdrževanje ladje (PS) (VZL)\, Predavanje (P)\nLetni
 ki: 2. letnik (PS\, SS)\, 2. letnik (PS\, VS)\nIzvajalci: Marko Perkovič\
 nProstor: NE2
LOCATION:NE2
ORGANIZER:Marko Perkovič
RELATED-TO:fpp-AFLABS-URNIK:srecanje:309
X-WR-TIMEZONE:Europe/Ljubljana
END:VEVENT
BEGIN:VEVENT
SUMMARY:Vzdrževanje ladje (PS) (VZL)\, Predavanje (P)
DTSTART;TZID=Europe/Ljubljana:20250519T103000
DTEND;TZID=Europe/Ljubljana:20250519T120500
DTSTAMP:20260422T102237Z
UID:fpp-AFLABS-URNIK:premaknjeno-srecanje:8390
ATTENDEE:2. letnik (PS, SS)
ATTENDEE:2. letnik (PS, VS)
CATEGORIES:Entry,Standard
COLOR:darkgreen
DESCRIPTION:Predmet: Vzdrževanje ladje (PS) (VZL)\, Predavanje (P)\nLetni
 ki: 2. letnik (PS\, SS)\, 2. letnik (PS\, VS)\nIzvajalci: Marko Perkovič\
 nProstor: NE2
LOCATION:NE2
ORGANIZER:Marko Perkovič
RELATED-TO:fpp-AFLABS-URNIK:srecanje:309
X-WR-TIMEZONE:Europe/Ljubljana
END:VEVENT
BEGIN:VEVENT
SUMMARY:Vzdrževanje ladje (PS) (VZL)\, Predavanje (P)
DTSTART;TZID=Europe/Ljubljana:20250526T103000
DTEND;TZID=Europe/Ljubljana:20250526T120500
DTSTAMP:20260422T102237Z
UID:fpp-AFLABS-URNIK:premaknjeno-srecanje:8391
ATTENDEE:2. letnik (PS, SS)
ATTENDEE:2. letnik (PS, VS)
CATEGORIES:Entry,Standard
COLOR:darkgreen
DESCRIPTION:Predmet: Vzdrževanje ladje (PS) (VZL)\, Predavanje (P)\nLetni
 ki: 2. letnik (PS\, SS)\, 2. letnik (PS\, VS)\nIzvajalci: Marko Perkovič\
 nProstor: NE2
LOCATION:NE2
ORGANIZER:Marko Perkovič
RELATED-TO:fpp-AFLABS-URNIK:srecanje:309
X-WR-TIMEZONE:Europe/Ljubljana
END:VEVENT
BEGIN:VEVENT
SUMMARY:Vzdrževanje ladje (PS) (VZL)\, Predavanje (P)
DTSTART;TZID=Europe/Ljubljana:20250602T103000
DTEND;TZID=Europe/Ljubljana:20250602T120500
DTSTAMP:20260422T102237Z
UID:fpp-AFLABS-URNIK:premaknjeno-srecanje:8392
ATTENDEE:2. letnik (PS, SS)
ATTENDEE:2. letnik (PS, VS)
CATEGORIES:Entry,Standard
COLOR:darkgreen
DESCRIPTION:Predmet: Vzdrževanje ladje (PS) (VZL)\, Predavanje (P)\nLetni
 ki: 2. letnik (PS\, SS)\, 2. letnik (PS\, VS)\nIzvajalci: Marko Perkovič\
 nProstor: NE2
LOCATION:NE2
ORGANIZER:Marko Perkovič
RELATED-TO:fpp-AFLABS-URNIK:srecanje:309
X-WR-TIMEZONE:Europe/Ljubljana
END:VEVENT
BEGIN:VEVENT
SUMMARY:Vodenje strojne straže (PS) (VSS)\, Predavanje (P)
DTSTART;TZID=Europe/Ljubljana:20250513T130000
DTEND;TZID=Europe/Ljubljana:20250513T152500
DTSTAMP:20260422T102237Z
UID:fpp-AFLABS-URNIK:premaknjeno-srecanje:8239
ATTENDEE:2. letnik (PS, SS)
ATTENDEE:2. letnik (PS, VS)
CATEGORIES:Entry,Standard
COLOR:darkgreen
DESCRIPTION:Predmet: Vodenje strojne straže (PS) (VSS)\, Predavanje (P)\n
 Letniki: 2. letnik (PS\, SS)\, 2. letnik (PS\, VS)\nIzvajalci: Marko Perko
 vič\nProstor: PO1
LOCATION:PO1
ORGANIZER:Marko Perkovič
RELATED-TO:fpp-AFLABS-URNIK:srecanje:317
X-WR-TIMEZONE:Europe/Ljubljana
END:VEVENT
BEGIN:VEVENT
SUMMARY:Vodenje strojne straže (PS) (VSS)\, Predavanje (P)
DTSTART;TZID=Europe/Ljubljana:20250520T130000
DTEND;TZID=Europe/Ljubljana:20250520T152500
DTSTAMP:20260422T102237Z
UID:fpp-AFLABS-URNIK:premaknjeno-srecanje:8240
ATTENDEE:2. letnik (PS, SS)
ATTENDEE:2. letnik (PS, VS)
CATEGORIES:Entry,Standard
COLOR:darkgreen
DESCRIPTION:Predmet: Vodenje strojne straže (PS) (VSS)\, Predavanje (P)\n
 Letniki: 2. letnik (PS\, SS)\, 2. letnik (PS\, VS)\nIzvajalci: Marko Perko
 vič\nProstor: PO1
LOCATION:PO1
ORGANIZER:Marko Perkovič
RELATED-TO:fpp-AFLABS-URNIK:srecanje:317
X-WR-TIMEZONE:Europe/Ljubljana
END:VEVENT
BEGIN:VEVENT
SUMMARY:Vodenje strojne straže (PS) (VSS)\, Predavanje (P)
DTSTART;TZID=Europe/Ljubljana:20250527T130000
DTEND;TZID=Europe/Ljubljana:20250527T152500
DTSTAMP:20260422T102237Z
UID:fpp-AFLABS-URNIK:premaknjeno-srecanje:8241
ATTENDEE:2. letnik (PS, SS)
ATTENDEE:2. letnik (PS, VS)
CATEGORIES:Entry,Standard
COLOR:darkgreen
DESCRIPTION:Predmet: Vodenje strojne straže (PS) (VSS)\, Predavanje (P)\n
 Letniki: 2. letnik (PS\, SS)\, 2. letnik (PS\, VS)\nIzvajalci: Marko Perko
 vič\nProstor: PO1
LOCATION:PO1
ORGANIZER:Marko Perkovič
RELATED-TO:fpp-AFLABS-URNIK:srecanje:317
X-WR-TIMEZONE:Europe/Ljubljana
END:VEVENT
BEGIN:VEVENT
SUMMARY:Vodenje strojne straže (PS) (VSS)\, Predavanje (P)
DTSTART;TZID=Europe/Ljubljana:20250603T130000
DTEND;TZID=Europe/Ljubljana:20250603T152500
DTSTAMP:20260422T102237Z
UID:fpp-AFLABS-URNIK:premaknjeno-srecanje:8242
ATTENDEE:2. letnik (PS, SS)
ATTENDEE:2. letnik (PS, VS)
CATEGORIES:Entry,Standard
COLOR:darkgreen
DESCRIPTION:Predmet: Vodenje strojne straže (PS) (VSS)\, Predavanje (P)\n
 Letniki: 2. letnik (PS\, SS)\, 2. letnik (PS\, VS)\nIzvajalci: Marko Perko
 vič\nProstor: PO1
LOCATION:PO1
ORGANIZER:Marko Perkovič
RELATED-TO:fpp-AFLABS-URNIK:srecanje:317
X-WR-TIMEZONE:Europe/Ljubljana
END:VEVENT
BEGIN:VEVENT
SUMMARY:Ladijski pomožni sistemi (N) (LPS)\, Predavanje (P)
DTSTART;TZID=Europe/Ljubljana:20250515T135000
DTEND;TZID=Europe/Ljubljana:20250515T152500
DTSTAMP:20260422T102237Z
UID:fpp-AFLABS-URNIK:premaknjeno-srecanje:5869
ATTENDEE:2. letnik (N, SS)
ATTENDEE:2. letnik (N, VS)
CATEGORIES:Entry,Standard
COLOR:darkgreen
DESCRIPTION:Predmet: Ladijski pomožni sistemi (N) (LPS)\, Predavanje (P)\
 nLetniki: 2. letnik (N\, SS)\, 2. letnik (N\, VS)\nIzvajalci: Marko Perkov
 ič\nProstor: PO2
LOCATION:PO2
ORGANIZER:Marko Perkovič
RELATED-TO:fpp-AFLABS-URNIK:srecanje:390
X-WR-TIMEZONE:Europe/Ljubljana
END:VEVENT
BEGIN:VEVENT
SUMMARY:Ladijski pomožni sistemi (N) (LPS)\, Predavanje (P)
DTSTART;TZID=Europe/Ljubljana:20250522T135000
DTEND;TZID=Europe/Ljubljana:20250522T152500
DTSTAMP:20260422T102237Z
UID:fpp-AFLABS-URNIK:premaknjeno-srecanje:5870
ATTENDEE:2. letnik (N, SS)
ATTENDEE:2. letnik (N, VS)
CATEGORIES:Entry,Standard
COLOR:darkgreen
DESCRIPTION:Predmet: Ladijski pomožni sistemi (N) (LPS)\, Predavanje (P)\
 nLetniki: 2. letnik (N\, SS)\, 2. letnik (N\, VS)\nIzvajalci: Marko Perkov
 ič\nProstor: PO2
LOCATION:PO2
ORGANIZER:Marko Perkovič
RELATED-TO:fpp-AFLABS-URNIK:srecanje:390
X-WR-TIMEZONE:Europe/Ljubljana
END:VEVENT
BEGIN:VEVENT
SUMMARY:Ladijski pomožni sistemi (N) (LPS)\, Predavanje (P)
DTSTART;TZID=Europe/Ljubljana:20250529T135000
DTEND;TZID=Europe/Ljubljana:20250529T152500
DTSTAMP:20260422T102237Z
UID:fpp-AFLABS-URNIK:premaknjeno-srecanje:5871
ATTENDEE:2. letnik (N, SS)
ATTENDEE:2. letnik (N, VS)
CATEGORIES:Entry,Standard
COLOR:darkgreen
DESCRIPTION:Predmet: Ladijski pomožni sistemi (N) (LPS)\, Predavanje (P)\
 nLetniki: 2. letnik (N\, SS)\, 2. letnik (N\, VS)\nIzvajalci: Marko Perkov
 ič\nProstor: PO2
LOCATION:PO2
ORGANIZER:Marko Perkovič
RELATED-TO:fpp-AFLABS-URNIK:srecanje:390
X-WR-TIMEZONE:Europe/Ljubljana
END:VEVENT
BEGIN:VEVENT
SUMMARY:Ladijski pomožni sistemi (N) (LPS)\, Predavanje (P)
DTSTART;TZID=Europe/Ljubljana:20250605T135000
DTEND;TZID=Europe/Ljubljana:20250605T152500
DTSTAMP:20260422T102237Z
UID:fpp-AFLABS-URNIK:premaknjeno-srecanje:5872
ATTENDEE:2. letnik (N, SS)
ATTENDEE:2. letnik (N, VS)
CATEGORIES:Entry,Standard
COLOR:darkgreen
DESCRIPTION:Predmet: Ladijski pomožni sistemi (N) (LPS)\, Predavanje (P)\
 nLetniki: 2. letnik (N\, SS)\, 2. letnik (N\, VS)\nIzvajalci: Marko Perkov
 ič\nProstor: PO2
LOCATION:PO2
ORGANIZER:Marko Perkovič
RELATED-TO:fpp-AFLABS-URNIK:srecanje:390
X-WR-TIMEZONE:Europe/Ljubljana
END:VEVENT
BEGIN:VEVENT
SUMMARY:Projektno delo na navtičnih simulatorjih (N\, SS) (PDNS-ss)\, Pre
 davanje (P)
DTSTART;TZID=Europe/Ljubljana:20250516T085000
DTEND;TZID=Europe/Ljubljana:20250516T111500
DTSTAMP:20260422T102237Z
UID:fpp-AFLABS-URNIK:premaknjeno-srecanje:6619
ATTENDEE:3. letnik (N, SS)
CATEGORIES:Entry,Standard
COLOR:darkgreen
DESCRIPTION:Predmet: Projektno delo na navtičnih simulatorjih (N\, SS) (P
 DNS-ss)\, Predavanje (P)\nLetniki: 3. letnik (N\, SS)\nIzvajalci: Tanja Br
 cko Satler\, Marko Perkovič\nProstor: NE2
LOCATION:NE2
ORGANIZER:Tanja Brcko Satler, Marko Perkovič
RELATED-TO:fpp-AFLABS-URNIK:srecanje:397
X-WR-TIMEZONE:Europe/Ljubljana
END:VEVENT
BEGIN:VEVENT
SUMMARY:Projektno delo na navtičnih simulatorjih (N\, SS) (PDNS-ss)\, Pre
 davanje (P)
DTSTART;TZID=Europe/Ljubljana:20250523T085000
DTEND;TZID=Europe/Ljubljana:20250523T111500
DTSTAMP:20260422T102237Z
UID:fpp-AFLABS-URNIK:premaknjeno-srecanje:6620
ATTENDEE:3. letnik (N, SS)
CATEGORIES:Entry,Standard
COLOR:darkgreen
DESCRIPTION:Predmet: Projektno delo na navtičnih simulatorjih (N\, SS) (P
 DNS-ss)\, Predavanje (P)\nLetniki: 3. letnik (N\, SS)\nIzvajalci: Tanja Br
 cko Satler\, Marko Perkovič\nProstor: NE2
LOCATION:NE2
ORGANIZER:Tanja Brcko Satler, Marko Perkovič
RELATED-TO:fpp-AFLABS-URNIK:srecanje:397
X-WR-TIMEZONE:Europe/Ljubljana
END:VEVENT
BEGIN:VEVENT
SUMMARY:Projektno delo na navtičnih simulatorjih (N\, SS) (PDNS-ss)\, Pre
 davanje (P)
DTSTART;TZID=Europe/Ljubljana:20250530T085000
DTEND;TZID=Europe/Ljubljana:20250530T111500
DTSTAMP:20260422T102237Z
UID:fpp-AFLABS-URNIK:premaknjeno-srecanje:6621
ATTENDEE:3. letnik (N, SS)
CATEGORIES:Entry,Standard
COLOR:darkgreen
DESCRIPTION:Predmet: Projektno delo na navtičnih simulatorjih (N\, SS) (P
 DNS-ss)\, Predavanje (P)\nLetniki: 3. letnik (N\, SS)\nIzvajalci: Tanja Br
 cko Satler\, Marko Perkovič\nProstor: NE2
LOCATION:NE2
ORGANIZER:Tanja Brcko Satler, Marko Perkovič
RELATED-TO:fpp-AFLABS-URNIK:srecanje:397
X-WR-TIMEZONE:Europe/Ljubljana
END:VEVENT
BEGIN:VEVENT
SUMMARY:Projektno delo na navtičnih simulatorjih (N\, SS) (PDNS-ss)\, Pre
 davanje (P)
DTSTART;TZID=Europe/Ljubljana:20250606T085000
DTEND;TZID=Europe/Ljubljana:20250606T111500
DTSTAMP:20260422T102237Z
UID:fpp-AFLABS-URNIK:premaknjeno-srecanje:6622
ATTENDEE:3. letnik (N, SS)
CATEGORIES:Entry,Standard
COLOR:darkgreen
DESCRIPTION:Predmet: Projektno delo na navtičnih simulatorjih (N\, SS) (P
 DNS-ss)\, Predavanje (P)\nLetniki: 3. letnik (N\, SS)\nIzvajalci: Tanja Br
 cko Satler\, Marko Perkovič\nProstor: NE2
LOCATION:NE2
ORGANIZER:Tanja Brcko Satler, Marko Perkovič
RELATED-TO:fpp-AFLABS-URNIK:srecanje:397
X-WR-TIMEZONE:Europe/Ljubljana
END:VEVENT
END:VCALENDAR
