BEGIN:VCALENDAR
VERSION:2.0
PRODID:-//AFLabs urnik izvoz - fpp//aflabs.si//SI
DTSTAMP:20260422T224410Z
NAME:UL FPP Urnik
REFRESH-INTERVAL:PT1H
SOURCE:https://afurnik-fpp.dev.aflabs.org/teacher/39?day=2025-07-09&export
 =1
URL:https://afurnik-fpp.dev.aflabs.org/teacher/39?day=2025-07-09&export=1
X-PUBLISHED-TTL:PT1H
X-WR-CALNAME:UL FPP Urnik
X-WR-TIMEZONE:Europe/Ljubljana
BEGIN:VTIMEZONE
TZID:Europe/Ljubljana
BEGIN:DAYLIGHT
DTSTART:20260329T020000
RDATE:20260329T020000
RDATE:20270328T020000
TZNAME:CEST
TZOFFSETFROM:+0100
TZOFFSETTO:+0200
END:DAYLIGHT
BEGIN:STANDARD
DTSTART:20261025T030000
RDATE:20261025T030000
RDATE:20271031T030000
TZNAME:CET
TZOFFSETFROM:+0200
TZOFFSETTO:+0100
END:STANDARD
END:VTIMEZONE
BEGIN:VEVENT
SUMMARY:Ladijski pomožni sistemi (N) (LPS)\, Predavanje (P)
DTSTART;TZID=Europe/Ljubljana:20250605T135000
DTEND;TZID=Europe/Ljubljana:20250605T152500
DTSTAMP:20260422T224410Z
UID:fpp-AFLABS-URNIK:premaknjeno-srecanje:5872
ATTENDEE:2. letnik (N, SS)
ATTENDEE:2. letnik (N, VS)
CATEGORIES:Entry,Standard
COLOR:darkgreen
DESCRIPTION:Predmet: Ladijski pomožni sistemi (N) (LPS)\, Predavanje (P)\
 nLetniki: 2. letnik (N\, SS)\, 2. letnik (N\, VS)\nIzvajalci: Marko Perkov
 ič\nProstor: PO2
LOCATION:PO2
ORGANIZER:Marko Perkovič
RELATED-TO:fpp-AFLABS-URNIK:srecanje:390
X-WR-TIMEZONE:Europe/Ljubljana
END:VEVENT
BEGIN:VEVENT
SUMMARY:Projektno delo na navtičnih simulatorjih (N\, SS) (PDNS-ss)\, Pre
 davanje (P)
DTSTART;TZID=Europe/Ljubljana:20250606T085000
DTEND;TZID=Europe/Ljubljana:20250606T111500
DTSTAMP:20260422T224410Z
UID:fpp-AFLABS-URNIK:premaknjeno-srecanje:6622
ATTENDEE:3. letnik (N, SS)
CATEGORIES:Entry,Standard
COLOR:darkgreen
DESCRIPTION:Predmet: Projektno delo na navtičnih simulatorjih (N\, SS) (P
 DNS-ss)\, Predavanje (P)\nLetniki: 3. letnik (N\, SS)\nIzvajalci: Tanja Br
 cko Satler\, Marko Perkovič\nProstor: NE2
LOCATION:NE2
ORGANIZER:Tanja Brcko Satler, Marko Perkovič
RELATED-TO:fpp-AFLABS-URNIK:srecanje:397
X-WR-TIMEZONE:Europe/Ljubljana
END:VEVENT
END:VCALENDAR
