BEGIN:VCALENDAR
VERSION:2.0
PRODID:-//AFLabs urnik izvoz - fpp//aflabs.si//SI
DTSTAMP:20260422T074620Z
NAME:UL FPP Urnik
REFRESH-INTERVAL:PT1H
SOURCE:https://afurnik-fpp.dev.aflabs.org/teacher/40?day=2026-03-02&export
 =1
URL:https://afurnik-fpp.dev.aflabs.org/teacher/40?day=2026-03-02&export=1
X-PUBLISHED-TTL:PT1H
X-WR-CALNAME:UL FPP Urnik
X-WR-TIMEZONE:Europe/Ljubljana
BEGIN:VTIMEZONE
TZID:Europe/Ljubljana
BEGIN:DAYLIGHT
DTSTART:20260329T020000
RDATE:20260329T020000
RDATE:20270328T020000
TZNAME:CEST
TZOFFSETFROM:+0100
TZOFFSETTO:+0200
END:DAYLIGHT
BEGIN:STANDARD
DTSTART:20261025T030000
RDATE:20261025T030000
RDATE:20271031T030000
TZNAME:CET
TZOFFSETFROM:+0200
TZOFFSETTO:+0100
END:STANDARD
END:VTIMEZONE
BEGIN:VEVENT
SUMMARY:Delovni\, hladilni in pomožni stroji (PS) (DHPS)\, Predavanje (P)
DTSTART;TZID=Europe/Ljubljana:20260217T085000
DTEND;TZID=Europe/Ljubljana:20260217T111500
DTSTAMP:20260422T074620Z
UID:fpp-AFLABS-URNIK:premaknjeno-srecanje:21425
ATTENDEE:2. letnik (PS, SS)
ATTENDEE:2. letnik (PS, VS)
CATEGORIES:Entry,Standard
COLOR:darkgreen
DESCRIPTION:Predmet: Delovni\, hladilni in pomožni stroji (PS) (DHPS)\, P
 redavanje (P)\nLetniki: 2. letnik (PS\, SS)\, 2. letnik (PS\, VS)\nIzvajal
 ci: Blaž Luin\, Stojan Petelin\nProstor: PO1
LOCATION:PO1
ORGANIZER:Blaž Luin, Stojan Petelin
RELATED-TO:fpp-AFLABS-URNIK:srecanje:913
X-WR-TIMEZONE:Europe/Ljubljana
END:VEVENT
BEGIN:VEVENT
SUMMARY:Delovni\, hladilni in pomožni stroji (PS) (DHPS)\, Predavanje (P)
DTSTART;TZID=Europe/Ljubljana:20260224T085000
DTEND;TZID=Europe/Ljubljana:20260224T111500
DTSTAMP:20260422T074620Z
UID:fpp-AFLABS-URNIK:premaknjeno-srecanje:21426
ATTENDEE:2. letnik (PS, SS)
ATTENDEE:2. letnik (PS, VS)
CATEGORIES:Entry,Standard
COLOR:darkgreen
DESCRIPTION:Predmet: Delovni\, hladilni in pomožni stroji (PS) (DHPS)\, P
 redavanje (P)\nLetniki: 2. letnik (PS\, SS)\, 2. letnik (PS\, VS)\nIzvajal
 ci: Blaž Luin\, Stojan Petelin\nProstor: PO1
LOCATION:PO1
ORGANIZER:Blaž Luin, Stojan Petelin
RELATED-TO:fpp-AFLABS-URNIK:srecanje:913
X-WR-TIMEZONE:Europe/Ljubljana
END:VEVENT
BEGIN:VEVENT
SUMMARY:Delovni\, hladilni in pomožni stroji (PS) (DHPS)\, Predavanje (P)
DTSTART;TZID=Europe/Ljubljana:20260303T085000
DTEND;TZID=Europe/Ljubljana:20260303T111500
DTSTAMP:20260422T074620Z
UID:fpp-AFLABS-URNIK:premaknjeno-srecanje:21427
ATTENDEE:2. letnik (PS, SS)
ATTENDEE:2. letnik (PS, VS)
CATEGORIES:Entry,Standard
COLOR:darkgreen
DESCRIPTION:Predmet: Delovni\, hladilni in pomožni stroji (PS) (DHPS)\, P
 redavanje (P)\nLetniki: 2. letnik (PS\, SS)\, 2. letnik (PS\, VS)\nIzvajal
 ci: Blaž Luin\, Stojan Petelin\nProstor: PO1
LOCATION:PO1
ORGANIZER:Blaž Luin, Stojan Petelin
RELATED-TO:fpp-AFLABS-URNIK:srecanje:913
X-WR-TIMEZONE:Europe/Ljubljana
END:VEVENT
BEGIN:VEVENT
SUMMARY:Delovni\, hladilni in pomožni stroji (PS) (DHPS)\, Predavanje (P)
DTSTART;TZID=Europe/Ljubljana:20260310T085000
DTEND;TZID=Europe/Ljubljana:20260310T111500
DTSTAMP:20260422T074620Z
UID:fpp-AFLABS-URNIK:premaknjeno-srecanje:21428
ATTENDEE:2. letnik (PS, SS)
ATTENDEE:2. letnik (PS, VS)
CATEGORIES:Entry,Standard
COLOR:darkgreen
DESCRIPTION:Predmet: Delovni\, hladilni in pomožni stroji (PS) (DHPS)\, P
 redavanje (P)\nLetniki: 2. letnik (PS\, SS)\, 2. letnik (PS\, VS)\nIzvajal
 ci: Blaž Luin\, Stojan Petelin\nProstor: PO1
LOCATION:PO1
ORGANIZER:Blaž Luin, Stojan Petelin
RELATED-TO:fpp-AFLABS-URNIK:srecanje:913
X-WR-TIMEZONE:Europe/Ljubljana
END:VEVENT
BEGIN:VEVENT
SUMMARY:Delovni\, hladilni in pomožni stroji (PS) (DHPS)\, Predavanje (P)
DTSTART;TZID=Europe/Ljubljana:20260317T085000
DTEND;TZID=Europe/Ljubljana:20260317T111500
DTSTAMP:20260422T074620Z
UID:fpp-AFLABS-URNIK:premaknjeno-srecanje:21429
ATTENDEE:2. letnik (PS, SS)
ATTENDEE:2. letnik (PS, VS)
CATEGORIES:Entry,Standard
COLOR:darkgreen
DESCRIPTION:Predmet: Delovni\, hladilni in pomožni stroji (PS) (DHPS)\, P
 redavanje (P)\nLetniki: 2. letnik (PS\, SS)\, 2. letnik (PS\, VS)\nIzvajal
 ci: Blaž Luin\, Stojan Petelin\nProstor: PO1
LOCATION:PO1
ORGANIZER:Blaž Luin, Stojan Petelin
RELATED-TO:fpp-AFLABS-URNIK:srecanje:913
X-WR-TIMEZONE:Europe/Ljubljana
END:VEVENT
BEGIN:VEVENT
SUMMARY:Delovni\, hladilni in pomožni stroji (PS) (DHPS)\, Predavanje (P)
DTSTART;TZID=Europe/Ljubljana:20260324T085000
DTEND;TZID=Europe/Ljubljana:20260324T111500
DTSTAMP:20260422T074620Z
UID:fpp-AFLABS-URNIK:premaknjeno-srecanje:21430
ATTENDEE:2. letnik (PS, SS)
ATTENDEE:2. letnik (PS, VS)
CATEGORIES:Entry,Standard
COLOR:darkgreen
DESCRIPTION:Predmet: Delovni\, hladilni in pomožni stroji (PS) (DHPS)\, P
 redavanje (P)\nLetniki: 2. letnik (PS\, SS)\, 2. letnik (PS\, VS)\nIzvajal
 ci: Blaž Luin\, Stojan Petelin\nProstor: PO1
LOCATION:PO1
ORGANIZER:Blaž Luin, Stojan Petelin
RELATED-TO:fpp-AFLABS-URNIK:srecanje:913
X-WR-TIMEZONE:Europe/Ljubljana
END:VEVENT
BEGIN:VEVENT
SUMMARY:Delovni\, hladilni in pomožni stroji (PS) (DHPS)\, Predavanje (P)
DTSTART;TZID=Europe/Ljubljana:20260331T085000
DTEND;TZID=Europe/Ljubljana:20260331T111500
DTSTAMP:20260422T074620Z
UID:fpp-AFLABS-URNIK:premaknjeno-srecanje:21431
ATTENDEE:2. letnik (PS, SS)
ATTENDEE:2. letnik (PS, VS)
CATEGORIES:Entry,Standard
COLOR:darkgreen
DESCRIPTION:Predmet: Delovni\, hladilni in pomožni stroji (PS) (DHPS)\, P
 redavanje (P)\nLetniki: 2. letnik (PS\, SS)\, 2. letnik (PS\, VS)\nIzvajal
 ci: Blaž Luin\, Stojan Petelin\nProstor: PO1
LOCATION:PO1
ORGANIZER:Blaž Luin, Stojan Petelin
RELATED-TO:fpp-AFLABS-URNIK:srecanje:913
X-WR-TIMEZONE:Europe/Ljubljana
END:VEVENT
BEGIN:VEVENT
SUMMARY:Delovni\, hladilni in pomožni stroji (PS) (DHPS)\, Predavanje (P)
DTSTART;TZID=Europe/Ljubljana:20260407T085000
DTEND;TZID=Europe/Ljubljana:20260407T111500
DTSTAMP:20260422T074620Z
UID:fpp-AFLABS-URNIK:premaknjeno-srecanje:21432
ATTENDEE:2. letnik (PS, SS)
ATTENDEE:2. letnik (PS, VS)
CATEGORIES:Entry,Standard
COLOR:darkgreen
DESCRIPTION:Predmet: Delovni\, hladilni in pomožni stroji (PS) (DHPS)\, P
 redavanje (P)\nLetniki: 2. letnik (PS\, SS)\, 2. letnik (PS\, VS)\nIzvajal
 ci: Blaž Luin\, Stojan Petelin\nProstor: PO1
LOCATION:PO1
ORGANIZER:Blaž Luin, Stojan Petelin
RELATED-TO:fpp-AFLABS-URNIK:srecanje:913
X-WR-TIMEZONE:Europe/Ljubljana
END:VEVENT
BEGIN:VEVENT
SUMMARY:Delovni\, hladilni in pomožni stroji (PS) (DHPS)\, Predavanje (P)
DTSTART;TZID=Europe/Ljubljana:20260414T085000
DTEND;TZID=Europe/Ljubljana:20260414T111500
DTSTAMP:20260422T074620Z
UID:fpp-AFLABS-URNIK:premaknjeno-srecanje:21433
ATTENDEE:2. letnik (PS, SS)
ATTENDEE:2. letnik (PS, VS)
CATEGORIES:Entry,Standard
COLOR:darkgreen
DESCRIPTION:Predmet: Delovni\, hladilni in pomožni stroji (PS) (DHPS)\, P
 redavanje (P)\nLetniki: 2. letnik (PS\, SS)\, 2. letnik (PS\, VS)\nIzvajal
 ci: Blaž Luin\, Stojan Petelin\nProstor: PO1
LOCATION:PO1
ORGANIZER:Blaž Luin, Stojan Petelin
RELATED-TO:fpp-AFLABS-URNIK:srecanje:913
X-WR-TIMEZONE:Europe/Ljubljana
END:VEVENT
BEGIN:VEVENT
SUMMARY:Delovni\, hladilni in pomožni stroji (PS) (DHPS)\, Predavanje (P)
DTSTART;TZID=Europe/Ljubljana:20260421T085000
DTEND;TZID=Europe/Ljubljana:20260421T111500
DTSTAMP:20260422T074620Z
UID:fpp-AFLABS-URNIK:premaknjeno-srecanje:21434
ATTENDEE:2. letnik (PS, SS)
ATTENDEE:2. letnik (PS, VS)
CATEGORIES:Entry,Standard
COLOR:darkgreen
DESCRIPTION:Predmet: Delovni\, hladilni in pomožni stroji (PS) (DHPS)\, P
 redavanje (P)\nLetniki: 2. letnik (PS\, SS)\, 2. letnik (PS\, VS)\nIzvajal
 ci: Blaž Luin\, Stojan Petelin\nProstor: PO1
LOCATION:PO1
ORGANIZER:Blaž Luin, Stojan Petelin
RELATED-TO:fpp-AFLABS-URNIK:srecanje:913
X-WR-TIMEZONE:Europe/Ljubljana
END:VEVENT
BEGIN:VEVENT
SUMMARY:Delovni\, hladilni in pomožni stroji (PS) (DHPS)\, Predavanje (P)
DTSTART;TZID=Europe/Ljubljana:20260428T085000
DTEND;TZID=Europe/Ljubljana:20260428T111500
DTSTAMP:20260422T074620Z
UID:fpp-AFLABS-URNIK:premaknjeno-srecanje:21435
ATTENDEE:2. letnik (PS, SS)
ATTENDEE:2. letnik (PS, VS)
CATEGORIES:Entry,Standard
COLOR:darkgreen
DESCRIPTION:Predmet: Delovni\, hladilni in pomožni stroji (PS) (DHPS)\, P
 redavanje (P)\nLetniki: 2. letnik (PS\, SS)\, 2. letnik (PS\, VS)\nIzvajal
 ci: Blaž Luin\, Stojan Petelin\nProstor: PO1
LOCATION:PO1
ORGANIZER:Blaž Luin, Stojan Petelin
RELATED-TO:fpp-AFLABS-URNIK:srecanje:913
X-WR-TIMEZONE:Europe/Ljubljana
END:VEVENT
BEGIN:VEVENT
SUMMARY:Delovni\, hladilni in pomožni stroji (PS) (DHPS)\, Predavanje (P)
DTSTART;TZID=Europe/Ljubljana:20260505T085000
DTEND;TZID=Europe/Ljubljana:20260505T111500
DTSTAMP:20260422T074620Z
UID:fpp-AFLABS-URNIK:premaknjeno-srecanje:21436
ATTENDEE:2. letnik (PS, SS)
ATTENDEE:2. letnik (PS, VS)
CATEGORIES:Entry,Standard
COLOR:darkgreen
DESCRIPTION:Predmet: Delovni\, hladilni in pomožni stroji (PS) (DHPS)\, P
 redavanje (P)\nLetniki: 2. letnik (PS\, SS)\, 2. letnik (PS\, VS)\nIzvajal
 ci: Blaž Luin\, Stojan Petelin\nProstor: PO1
LOCATION:PO1
ORGANIZER:Blaž Luin, Stojan Petelin
RELATED-TO:fpp-AFLABS-URNIK:srecanje:913
X-WR-TIMEZONE:Europe/Ljubljana
END:VEVENT
BEGIN:VEVENT
SUMMARY:Delovni\, hladilni in pomožni stroji (PS) (DHPS)\, Predavanje (P)
DTSTART;TZID=Europe/Ljubljana:20260512T085000
DTEND;TZID=Europe/Ljubljana:20260512T111500
DTSTAMP:20260422T074620Z
UID:fpp-AFLABS-URNIK:premaknjeno-srecanje:21437
ATTENDEE:2. letnik (PS, SS)
ATTENDEE:2. letnik (PS, VS)
CATEGORIES:Entry,Standard
COLOR:darkgreen
DESCRIPTION:Predmet: Delovni\, hladilni in pomožni stroji (PS) (DHPS)\, P
 redavanje (P)\nLetniki: 2. letnik (PS\, SS)\, 2. letnik (PS\, VS)\nIzvajal
 ci: Blaž Luin\, Stojan Petelin\nProstor: PO1
LOCATION:PO1
ORGANIZER:Blaž Luin, Stojan Petelin
RELATED-TO:fpp-AFLABS-URNIK:srecanje:913
X-WR-TIMEZONE:Europe/Ljubljana
END:VEVENT
BEGIN:VEVENT
SUMMARY:Delovni\, hladilni in pomožni stroji (PS) (DHPS)\, Predavanje (P)
DTSTART;TZID=Europe/Ljubljana:20260519T085000
DTEND;TZID=Europe/Ljubljana:20260519T111500
DTSTAMP:20260422T074620Z
UID:fpp-AFLABS-URNIK:premaknjeno-srecanje:21438
ATTENDEE:2. letnik (PS, SS)
ATTENDEE:2. letnik (PS, VS)
CATEGORIES:Entry,Standard
COLOR:darkgreen
DESCRIPTION:Predmet: Delovni\, hladilni in pomožni stroji (PS) (DHPS)\, P
 redavanje (P)\nLetniki: 2. letnik (PS\, SS)\, 2. letnik (PS\, VS)\nIzvajal
 ci: Blaž Luin\, Stojan Petelin\nProstor: PO1
LOCATION:PO1
ORGANIZER:Blaž Luin, Stojan Petelin
RELATED-TO:fpp-AFLABS-URNIK:srecanje:913
X-WR-TIMEZONE:Europe/Ljubljana
END:VEVENT
BEGIN:VEVENT
SUMMARY:Delovni\, hladilni in pomožni stroji (PS) (DHPS)\, Predavanje (P)
DTSTART;TZID=Europe/Ljubljana:20260526T085000
DTEND;TZID=Europe/Ljubljana:20260526T111500
DTSTAMP:20260422T074620Z
UID:fpp-AFLABS-URNIK:premaknjeno-srecanje:21439
ATTENDEE:2. letnik (PS, SS)
ATTENDEE:2. letnik (PS, VS)
CATEGORIES:Entry,Standard
COLOR:darkgreen
DESCRIPTION:Predmet: Delovni\, hladilni in pomožni stroji (PS) (DHPS)\, P
 redavanje (P)\nLetniki: 2. letnik (PS\, SS)\, 2. letnik (PS\, VS)\nIzvajal
 ci: Blaž Luin\, Stojan Petelin\nProstor: PO1
LOCATION:PO1
ORGANIZER:Blaž Luin, Stojan Petelin
RELATED-TO:fpp-AFLABS-URNIK:srecanje:913
X-WR-TIMEZONE:Europe/Ljubljana
END:VEVENT
BEGIN:VEVENT
SUMMARY:Delovni\, hladilni in pomožni stroji (PS) (DHPS)\, Predavanje (P)
DTSTART;TZID=Europe/Ljubljana:20260602T085000
DTEND;TZID=Europe/Ljubljana:20260602T111500
DTSTAMP:20260422T074620Z
UID:fpp-AFLABS-URNIK:premaknjeno-srecanje:21440
ATTENDEE:2. letnik (PS, SS)
ATTENDEE:2. letnik (PS, VS)
CATEGORIES:Entry,Standard
COLOR:darkgreen
DESCRIPTION:Predmet: Delovni\, hladilni in pomožni stroji (PS) (DHPS)\, P
 redavanje (P)\nLetniki: 2. letnik (PS\, SS)\, 2. letnik (PS\, VS)\nIzvajal
 ci: Blaž Luin\, Stojan Petelin\nProstor: PO1
LOCATION:PO1
ORGANIZER:Blaž Luin, Stojan Petelin
RELATED-TO:fpp-AFLABS-URNIK:srecanje:913
X-WR-TIMEZONE:Europe/Ljubljana
END:VEVENT
END:VCALENDAR
