BEGIN:VCALENDAR
VERSION:2.0
PRODID:-//AFLabs urnik izvoz - fpp//aflabs.si//SI
DTSTAMP:20260422T035759Z
NAME:UL FPP Urnik
REFRESH-INTERVAL:PT1H
SOURCE:https://afurnik-fpp.dev.aflabs.org/teacher/46?day=2025-07-07&export
 =1
URL:https://afurnik-fpp.dev.aflabs.org/teacher/46?day=2025-07-07&export=1
X-PUBLISHED-TTL:PT1H
X-WR-CALNAME:UL FPP Urnik
X-WR-TIMEZONE:Europe/Ljubljana
BEGIN:VTIMEZONE
TZID:Europe/Ljubljana
BEGIN:DAYLIGHT
DTSTART:20260329T020000
RDATE:20260329T020000
RDATE:20270328T020000
TZNAME:CEST
TZOFFSETFROM:+0100
TZOFFSETTO:+0200
END:DAYLIGHT
BEGIN:STANDARD
DTSTART:20261025T030000
RDATE:20261025T030000
RDATE:20271031T030000
TZNAME:CET
TZOFFSETFROM:+0200
TZOFFSETTO:+0100
END:STANDARD
END:VTIMEZONE
BEGIN:VEVENT
SUMMARY:Špedicija (PTTL) (Š)\, Avditorne vaje (AV)
DTSTART;TZID=Europe/Ljubljana:20250602T112000
DTEND;TZID=Europe/Ljubljana:20250602T120500
DTSTAMP:20260422T035759Z
UID:fpp-AFLABS-URNIK:premaknjeno-srecanje:7042
ATTENDEE:2. letnik (PTTL, SS)
ATTENDEE:2. letnik (PTTL, VS)
CATEGORIES:Entry,Standard
COLOR:darkgreen
DESCRIPTION:Predmet: Špedicija (PTTL) (Š)\, Avditorne vaje (AV)\nLetniki
 : 2. letnik (PTTL\, SS)\, 2. letnik (PTTL\, VS)\nIzvajalci: Veronika Randl
 \nProstor: 205
LOCATION:205
ORGANIZER:Veronika Randl
RELATED-TO:fpp-AFLABS-URNIK:srecanje:350
X-WR-TIMEZONE:Europe/Ljubljana
END:VEVENT
BEGIN:VEVENT
SUMMARY:Špedicija (PTTL) (Š)\, Laboratorijske vaje (LV)
DTSTART;TZID=Europe/Ljubljana:20250603T121000
DTEND;TZID=Europe/Ljubljana:20250603T125500
DTSTAMP:20260422T035759Z
UID:fpp-AFLABS-URNIK:premaknjeno-srecanje:7057
ATTENDEE:2. letnik (PTTL, SS)
ATTENDEE:2. letnik (PTTL, VS)
CATEGORIES:Entry,Standard
COLOR:darkgreen
DESCRIPTION:Predmet: Špedicija (PTTL) (Š)\, Laboratorijske vaje (LV)\nLe
 tniki: 2. letnik (PTTL\, SS)\, 2. letnik (PTTL\, VS)\nIzvajalci: Veronika 
 Randl\nProstor: R4
LOCATION:R4
ORGANIZER:Veronika Randl
RELATED-TO:fpp-AFLABS-URNIK:srecanje:353
X-WR-TIMEZONE:Europe/Ljubljana
END:VEVENT
BEGIN:VEVENT
SUMMARY:Špedicija (PTTL) (Š)\, Laboratorijske vaje (LV)
DTSTART;TZID=Europe/Ljubljana:20250603T130000
DTEND;TZID=Europe/Ljubljana:20250603T134500
DTSTAMP:20260422T035759Z
UID:fpp-AFLABS-URNIK:premaknjeno-srecanje:7072
ATTENDEE:2. letnik (PTTL, SS)
ATTENDEE:2. letnik (PTTL, VS)
CATEGORIES:Entry,Standard
COLOR:darkgreen
DESCRIPTION:Predmet: Špedicija (PTTL) (Š)\, Laboratorijske vaje (LV)\nLe
 tniki: 2. letnik (PTTL\, SS)\, 2. letnik (PTTL\, VS)\nIzvajalci: Veronika 
 Randl\nProstor: R4
LOCATION:R4
ORGANIZER:Veronika Randl
RELATED-TO:fpp-AFLABS-URNIK:srecanje:356
X-WR-TIMEZONE:Europe/Ljubljana
END:VEVENT
BEGIN:VEVENT
SUMMARY:Špedicija (PTTL) (Š)\, Laboratorijske vaje (LV)
DTSTART;TZID=Europe/Ljubljana:20250603T135000
DTEND;TZID=Europe/Ljubljana:20250603T143500
DTSTAMP:20260422T035759Z
UID:fpp-AFLABS-URNIK:premaknjeno-srecanje:7087
ATTENDEE:2. letnik (PTTL, SS)
ATTENDEE:2. letnik (PTTL, VS)
CATEGORIES:Entry,Standard
COLOR:darkgreen
DESCRIPTION:Predmet: Špedicija (PTTL) (Š)\, Laboratorijske vaje (LV)\nLe
 tniki: 2. letnik (PTTL\, SS)\, 2. letnik (PTTL\, VS)\nIzvajalci: Veronika 
 Randl\nProstor: R4
LOCATION:R4
ORGANIZER:Veronika Randl
RELATED-TO:fpp-AFLABS-URNIK:srecanje:357
X-WR-TIMEZONE:Europe/Ljubljana
END:VEVENT
BEGIN:VEVENT
SUMMARY:Logistični inženiring (PROM2) (LI)\, Avditorne vaje (AV)
DTSTART;TZID=Europe/Ljubljana:20250604T185000
DTEND;TZID=Europe/Ljubljana:20250604T193500
DTSTAMP:20260422T035759Z
UID:fpp-AFLABS-URNIK:premaknjeno-srecanje:5917
ATTENDEE:1. letnik (PROM2)
CATEGORIES:Entry,Standard
COLOR:darkgreen
DESCRIPTION:Predmet: Logistični inženiring (PROM2) (LI)\, Avditorne vaje
  (AV)\nLetniki: 1. letnik (PROM2)\nIzvajalci: Veronika Randl\nProstor: R1
LOCATION:R1
ORGANIZER:Veronika Randl
RELATED-TO:fpp-AFLABS-URNIK:srecanje:366
X-WR-TIMEZONE:Europe/Ljubljana
END:VEVENT
BEGIN:VEVENT
SUMMARY:Logistični inženiring (PROM2) (LI)\, Laboratorijske vaje (LV)
DTSTART;TZID=Europe/Ljubljana:20250604T194000
DTEND;TZID=Europe/Ljubljana:20250604T211500
DTSTAMP:20260422T035759Z
UID:fpp-AFLABS-URNIK:premaknjeno-srecanje:5932
ATTENDEE:1. letnik (PROM2)
CATEGORIES:Entry,Standard
COLOR:darkgreen
DESCRIPTION:Predmet: Logistični inženiring (PROM2) (LI)\, Laboratorijske
  vaje (LV)\nLetniki: 1. letnik (PROM2)\nIzvajalci: Veronika Randl\nProstor
 : R1
LOCATION:R1
ORGANIZER:Veronika Randl
RELATED-TO:fpp-AFLABS-URNIK:srecanje:369
X-WR-TIMEZONE:Europe/Ljubljana
END:VEVENT
BEGIN:VEVENT
SUMMARY:Teorija logistike in oskrbovalnih verig (TPL-U) (TLOV)\, Laborator
 ijske vaje (LV)
DTSTART;TZID=Europe/Ljubljana:20250605T121000
DTEND;TZID=Europe/Ljubljana:20250605T125500
DTSTAMP:20260422T035759Z
UID:fpp-AFLABS-URNIK:premaknjeno-srecanje:7507
ATTENDEE:2. letnik (TPL-U)
CATEGORIES:Entry,Standard
COLOR:darkgreen
DESCRIPTION:Predmet: Teorija logistike in oskrbovalnih verig (TPL-U) (TLOV
 )\, Laboratorijske vaje (LV)\nLetniki: 2. letnik (TPL-U)\nIzvajalci: Veron
 ika Randl\nProstor: R4
LOCATION:R4
ORGANIZER:Veronika Randl
RELATED-TO:fpp-AFLABS-URNIK:srecanje:434
X-WR-TIMEZONE:Europe/Ljubljana
END:VEVENT
BEGIN:VEVENT
SUMMARY:Teorija logistike in oskrbovalnih verig (TPL-U) (TLOV)\, Seminar (
 S)
DTSTART;TZID=Europe/Ljubljana:20250605T112000
DTEND;TZID=Europe/Ljubljana:20250605T120500
DTSTAMP:20260422T035759Z
UID:fpp-AFLABS-URNIK:premaknjeno-srecanje:7552
ATTENDEE:2. letnik (TPL-U)
CATEGORIES:Entry,Standard
COLOR:darkgreen
DESCRIPTION:Predmet: Teorija logistike in oskrbovalnih verig (TPL-U) (TLOV
 )\, Seminar (S)\nLetniki: 2. letnik (TPL-U)\nIzvajalci: Veronika Randl\nPr
 ostor: 204
LOCATION:204
ORGANIZER:Veronika Randl
RELATED-TO:fpp-AFLABS-URNIK:srecanje:432
X-WR-TIMEZONE:Europe/Ljubljana
END:VEVENT
END:VCALENDAR
