BEGIN:VCALENDAR
VERSION:2.0
PRODID:-//AFLabs urnik izvoz - fpp//aflabs.si//SI
DTSTAMP:20260425T123818Z
NAME:UL FPP Urnik
REFRESH-INTERVAL:PT1H
SOURCE:https://afurnik-fpp.dev.aflabs.org/teacher/47?day=2025-08-27&export
 =1
URL:https://afurnik-fpp.dev.aflabs.org/teacher/47?day=2025-08-27&export=1
X-PUBLISHED-TTL:PT1H
X-WR-CALNAME:UL FPP Urnik
X-WR-TIMEZONE:Europe/Ljubljana
BEGIN:VTIMEZONE
TZID:Europe/Ljubljana
BEGIN:DAYLIGHT
DTSTART:20260329T020000
RDATE:20260329T020000
RDATE:20270328T020000
TZNAME:CEST
TZOFFSETFROM:+0100
TZOFFSETTO:+0200
END:DAYLIGHT
BEGIN:STANDARD
DTSTART:20261025T030000
RDATE:20261025T030000
RDATE:20271031T030000
TZNAME:CET
TZOFFSETFROM:+0200
TZOFFSETTO:+0100
END:STANDARD
END:VTIMEZONE
BEGIN:VEVENT
SUMMARY:Propulzija in manevriranje (N) (PM)\, Avditorne vaje (AV)
DTSTART;TZID=Europe/Ljubljana:20251001T162000
DTEND;TZID=Europe/Ljubljana:20251001T170500
DTSTAMP:20260425T123818Z
UID:fpp-AFLABS-URNIK:premaknjeno-srecanje:20651
ATTENDEE:3. letnik (N, SS)
ATTENDEE:3. letnik (N, VS)
CATEGORIES:Entry,Standard
COLOR:darkgreen
DESCRIPTION:Predmet: Propulzija in manevriranje (N) (PM)\, Avditorne vaje 
 (AV)\nLetniki: 3. letnik (N\, SS)\, 3. letnik (N\, VS)\nIzvajalci: Jure Sr
 še\nProstor: NE2
LOCATION:NE2
ORGANIZER:Jure Srše
RELATED-TO:fpp-AFLABS-URNIK:srecanje:728
X-WR-TIMEZONE:Europe/Ljubljana
END:VEVENT
BEGIN:VEVENT
SUMMARY:Propulzija in manevriranje (PS) (PM)\, Avditorne vaje (AV)
DTSTART;TZID=Europe/Ljubljana:20251001T162000
DTEND;TZID=Europe/Ljubljana:20251001T170500
DTSTAMP:20260425T123818Z
UID:fpp-AFLABS-URNIK:premaknjeno-srecanje:20667
ATTENDEE:3. letnik (PS, SS)
ATTENDEE:3. letnik (PS, VS)
CATEGORIES:Entry,Standard
COLOR:darkgreen
DESCRIPTION:Predmet: Propulzija in manevriranje (PS) (PM)\, Avditorne vaje
  (AV)\nLetniki: 3. letnik (PS\, SS)\, 3. letnik (PS\, VS)\nIzvajalci: Jure
  Srše\nProstor: NE2
LOCATION:NE2
ORGANIZER:Jure Srše
RELATED-TO:fpp-AFLABS-URNIK:srecanje:732
X-WR-TIMEZONE:Europe/Ljubljana
END:VEVENT
BEGIN:VEVENT
SUMMARY:Propulzija in manevriranje (N) (PM)\, Avditorne vaje (AV)
DTSTART;TZID=Europe/Ljubljana:20251001T171000
DTEND;TZID=Europe/Ljubljana:20251001T175500
DTSTAMP:20260425T123818Z
UID:fpp-AFLABS-URNIK:premaknjeno-srecanje:20683
ATTENDEE:3. letnik (N, SS)
ATTENDEE:3. letnik (N, VS)
CATEGORIES:Entry,Standard
COLOR:darkgreen
DESCRIPTION:Predmet: Propulzija in manevriranje (N) (PM)\, Avditorne vaje 
 (AV)\nLetniki: 3. letnik (N\, SS)\, 3. letnik (N\, VS)\nIzvajalci: Jure Sr
 še\nProstor: SSIM
LOCATION:SSIM
ORGANIZER:Jure Srše
RELATED-TO:fpp-AFLABS-URNIK:srecanje:729
X-WR-TIMEZONE:Europe/Ljubljana
END:VEVENT
BEGIN:VEVENT
SUMMARY:Propulzija in manevriranje (PS) (PM)\, Avditorne vaje (AV)
DTSTART;TZID=Europe/Ljubljana:20251001T171000
DTEND;TZID=Europe/Ljubljana:20251001T175500
DTSTAMP:20260425T123818Z
UID:fpp-AFLABS-URNIK:premaknjeno-srecanje:20699
ATTENDEE:3. letnik (PS, SS)
ATTENDEE:3. letnik (PS, VS)
CATEGORIES:Entry,Standard
COLOR:darkgreen
DESCRIPTION:Predmet: Propulzija in manevriranje (PS) (PM)\, Avditorne vaje
  (AV)\nLetniki: 3. letnik (PS\, SS)\, 3. letnik (PS\, VS)\nIzvajalci: Jure
  Srše\nProstor: SSIM
LOCATION:SSIM
ORGANIZER:Jure Srše
RELATED-TO:fpp-AFLABS-URNIK:srecanje:733
X-WR-TIMEZONE:Europe/Ljubljana
END:VEVENT
END:VCALENDAR
