BEGIN:VCALENDAR
VERSION:2.0
PRODID:-//AFLabs urnik izvoz - fpp//aflabs.si//SI
DTSTAMP:20260423T214500Z
NAME:UL FPP Urnik
REFRESH-INTERVAL:PT1H
SOURCE:https://afurnik-fpp.dev.aflabs.org/teacher/48?day=2024-08-27&export
 =1
URL:https://afurnik-fpp.dev.aflabs.org/teacher/48?day=2024-08-27&export=1
X-PUBLISHED-TTL:PT1H
X-WR-CALNAME:UL FPP Urnik
X-WR-TIMEZONE:Europe/Ljubljana
BEGIN:VTIMEZONE
TZID:Europe/Ljubljana
BEGIN:DAYLIGHT
DTSTART:20260329T020000
RDATE:20260329T020000
RDATE:20270328T020000
TZNAME:CEST
TZOFFSETFROM:+0100
TZOFFSETTO:+0200
END:DAYLIGHT
BEGIN:STANDARD
DTSTART:20261025T030000
RDATE:20261025T030000
RDATE:20271031T030000
TZNAME:CET
TZOFFSETFROM:+0200
TZOFFSETTO:+0100
END:STANDARD
END:VTIMEZONE
BEGIN:VEVENT
SUMMARY:Prometni sistem (TPL-U) (PS)\, Predavanje (P)
DTSTART;TZID=Europe/Ljubljana:20241001T085000
DTEND;TZID=Europe/Ljubljana:20241001T111500
DTSTAMP:20260423T214500Z
UID:fpp-AFLABS-URNIK:premaknjeno-srecanje:157
ATTENDEE:1. letnik (TPL-U)
CATEGORIES:Entry,Standard
COLOR:darkgreen
DESCRIPTION:Predmet: Prometni sistem (TPL-U) (PS)\, Predavanje (P)\nLetnik
 i: 1. letnik (TPL-U)\nIzvajalci: Maja Stojaković\nProstor: 202
LOCATION:202
ORGANIZER:Maja Stojaković
RELATED-TO:fpp-AFLABS-URNIK:srecanje:157
X-WR-TIMEZONE:Europe/Ljubljana
END:VEVENT
BEGIN:VEVENT
SUMMARY:Prometni sistem (TPL-U) (PS)\, Seminar (S)
DTSTART;TZID=Europe/Ljubljana:20241001T112000
DTEND;TZID=Europe/Ljubljana:20241001T120500
DTSTAMP:20260423T214500Z
UID:fpp-AFLABS-URNIK:premaknjeno-srecanje:164
ATTENDEE:1. letnik (TPL-U)
CATEGORIES:Entry,Standard
COLOR:darkgreen
DESCRIPTION:Predmet: Prometni sistem (TPL-U) (PS)\, Seminar (S)\nLetniki: 
 1. letnik (TPL-U)\nIzvajalci: Maja Stojaković\nProstor: 202
LOCATION:202
ORGANIZER:Maja Stojaković
RELATED-TO:fpp-AFLABS-URNIK:srecanje:164
X-WR-TIMEZONE:Europe/Ljubljana
END:VEVENT
END:VCALENDAR
