BEGIN:VCALENDAR
VERSION:2.0
PRODID:-//AFLabs urnik izvoz - fpp//aflabs.si//SI
DTSTAMP:20260422T015642Z
NAME:UL FPP Urnik
REFRESH-INTERVAL:PT1H
SOURCE:https://afurnik-fpp.dev.aflabs.org/teacher/48?day=2026-01-26&export
 =1
URL:https://afurnik-fpp.dev.aflabs.org/teacher/48?day=2026-01-26&export=1
X-PUBLISHED-TTL:PT1H
X-WR-CALNAME:UL FPP Urnik
X-WR-TIMEZONE:Europe/Ljubljana
BEGIN:VTIMEZONE
TZID:Europe/Ljubljana
BEGIN:DAYLIGHT
DTSTART:20260329T020000
RDATE:20260329T020000
RDATE:20270328T020000
TZNAME:CEST
TZOFFSETFROM:+0100
TZOFFSETTO:+0200
END:DAYLIGHT
BEGIN:STANDARD
DTSTART:20261025T030000
RDATE:20261025T030000
RDATE:20271031T030000
TZNAME:CET
TZOFFSETFROM:+0200
TZOFFSETTO:+0100
END:STANDARD
END:VTIMEZONE
BEGIN:VEVENT
SUMMARY:Poslovanje pomorskih agentov (PTTL) (PPA)\, Predavanje (P)
DTSTART;TZID=Europe/Ljubljana:20251222T171000
DTEND;TZID=Europe/Ljubljana:20251222T184500
DTSTAMP:20260422T015642Z
UID:fpp-AFLABS-URNIK:premaknjeno-srecanje:16064
ATTENDEE:3. letnik (PTTL, SS)
ATTENDEE:3. letnik (PTTL, VS)
CATEGORIES:Entry,Standard
COLOR:darkgreen
DESCRIPTION:Predmet: Poslovanje pomorskih agentov (PTTL) (PPA)\, Predavanj
 e (P)\nLetniki: 3. letnik (PTTL\, SS)\, 3. letnik (PTTL\, VS)\nIzvajalci: 
 Maja Stojaković\, Patrick Vlačič\nProstor: 202
LOCATION:202
ORGANIZER:Maja Stojaković, Patrick Vlačič
RELATED-TO:fpp-AFLABS-URNIK:srecanje:686
X-WR-TIMEZONE:Europe/Ljubljana
END:VEVENT
BEGIN:VEVENT
SUMMARY:Poslovanje pomorskih agentov (PTTL) (PPA)\, Predavanje (P)
DTSTART;TZID=Europe/Ljubljana:20251229T171000
DTEND;TZID=Europe/Ljubljana:20251229T184500
DTSTAMP:20260422T015642Z
UID:fpp-AFLABS-URNIK:premaknjeno-srecanje:16065
ATTENDEE:3. letnik (PTTL, SS)
ATTENDEE:3. letnik (PTTL, VS)
CATEGORIES:Entry,Standard
COLOR:darkgreen
DESCRIPTION:Predmet: Poslovanje pomorskih agentov (PTTL) (PPA)\, Predavanj
 e (P)\nLetniki: 3. letnik (PTTL\, SS)\, 3. letnik (PTTL\, VS)\nIzvajalci: 
 Maja Stojaković\, Patrick Vlačič\nProstor: 202
LOCATION:202
ORGANIZER:Maja Stojaković, Patrick Vlačič
RELATED-TO:fpp-AFLABS-URNIK:srecanje:686
X-WR-TIMEZONE:Europe/Ljubljana
END:VEVENT
BEGIN:VEVENT
SUMMARY:Poslovanje pomorskih agentov (PTTL) (PPA)\, Predavanje (P)
DTSTART;TZID=Europe/Ljubljana:20260112T171000
DTEND;TZID=Europe/Ljubljana:20260112T184500
DTSTAMP:20260422T015642Z
UID:fpp-AFLABS-URNIK:premaknjeno-srecanje:16067
ATTENDEE:3. letnik (PTTL, SS)
ATTENDEE:3. letnik (PTTL, VS)
CATEGORIES:Entry,Standard
COLOR:darkgreen
DESCRIPTION:Predmet: Poslovanje pomorskih agentov (PTTL) (PPA)\, Predavanj
 e (P)\nLetniki: 3. letnik (PTTL\, SS)\, 3. letnik (PTTL\, VS)\nIzvajalci: 
 Maja Stojaković\, Patrick Vlačič\nProstor: 202
LOCATION:202
ORGANIZER:Maja Stojaković, Patrick Vlačič
RELATED-TO:fpp-AFLABS-URNIK:srecanje:686
X-WR-TIMEZONE:Europe/Ljubljana
END:VEVENT
BEGIN:VEVENT
SUMMARY:Poslovanje pomorskih agentov (PTTL) (PPA)\, Seminar (S)
DTSTART;TZID=Europe/Ljubljana:20251222T185000
DTEND;TZID=Europe/Ljubljana:20251222T193500
DTSTAMP:20260422T015642Z
UID:fpp-AFLABS-URNIK:premaknjeno-srecanje:16169
ATTENDEE:3. letnik (PTTL, SS)
ATTENDEE:3. letnik (PTTL, VS)
CATEGORIES:Entry,Standard
COLOR:darkgreen
DESCRIPTION:Predmet: Poslovanje pomorskih agentov (PTTL) (PPA)\, Seminar (
 S)\nLetniki: 3. letnik (PTTL\, SS)\, 3. letnik (PTTL\, VS)\nIzvajalci: Maj
 a Stojaković\nProstor: 202
LOCATION:202
ORGANIZER:Maja Stojaković
RELATED-TO:fpp-AFLABS-URNIK:srecanje:687
X-WR-TIMEZONE:Europe/Ljubljana
END:VEVENT
BEGIN:VEVENT
SUMMARY:Poslovanje pomorskih agentov (PTTL) (PPA)\, Seminar (S)
DTSTART;TZID=Europe/Ljubljana:20251229T185000
DTEND;TZID=Europe/Ljubljana:20251229T193500
DTSTAMP:20260422T015642Z
UID:fpp-AFLABS-URNIK:premaknjeno-srecanje:16170
ATTENDEE:3. letnik (PTTL, SS)
ATTENDEE:3. letnik (PTTL, VS)
CATEGORIES:Entry,Standard
COLOR:darkgreen
DESCRIPTION:Predmet: Poslovanje pomorskih agentov (PTTL) (PPA)\, Seminar (
 S)\nLetniki: 3. letnik (PTTL\, SS)\, 3. letnik (PTTL\, VS)\nIzvajalci: Maj
 a Stojaković\nProstor: 202
LOCATION:202
ORGANIZER:Maja Stojaković
RELATED-TO:fpp-AFLABS-URNIK:srecanje:687
X-WR-TIMEZONE:Europe/Ljubljana
END:VEVENT
BEGIN:VEVENT
SUMMARY:Poslovanje pomorskih agentov (PTTL) (PPA)\, Seminar (S)
DTSTART;TZID=Europe/Ljubljana:20260112T185000
DTEND;TZID=Europe/Ljubljana:20260112T193500
DTSTAMP:20260422T015642Z
UID:fpp-AFLABS-URNIK:premaknjeno-srecanje:16172
ATTENDEE:3. letnik (PTTL, SS)
ATTENDEE:3. letnik (PTTL, VS)
CATEGORIES:Entry,Standard
COLOR:darkgreen
DESCRIPTION:Predmet: Poslovanje pomorskih agentov (PTTL) (PPA)\, Seminar (
 S)\nLetniki: 3. letnik (PTTL\, SS)\, 3. letnik (PTTL\, VS)\nIzvajalci: Maj
 a Stojaković\nProstor: 202
LOCATION:202
ORGANIZER:Maja Stojaković
RELATED-TO:fpp-AFLABS-URNIK:srecanje:687
X-WR-TIMEZONE:Europe/Ljubljana
END:VEVENT
BEGIN:VEVENT
SUMMARY:Prometni sistem (TPL-U) (PS)\, Predavanje (P)
DTSTART;TZID=Europe/Ljubljana:20251223T085000
DTEND;TZID=Europe/Ljubljana:20251223T111500
DTSTAMP:20260422T015642Z
UID:fpp-AFLABS-URNIK:premaknjeno-srecanje:13709
ATTENDEE:1. letnik (TPL-U)
CATEGORIES:Entry,Standard
COLOR:darkgreen
DESCRIPTION:Predmet: Prometni sistem (TPL-U) (PS)\, Predavanje (P)\nLetnik
 i: 1. letnik (TPL-U)\nIzvajalci: Maja Stojaković\nProstor: 202
LOCATION:202
ORGANIZER:Maja Stojaković
RELATED-TO:fpp-AFLABS-URNIK:srecanje:715
X-WR-TIMEZONE:Europe/Ljubljana
END:VEVENT
BEGIN:VEVENT
SUMMARY:Prometni sistem (TPL-U) (PS)\, Predavanje (P)
DTSTART;TZID=Europe/Ljubljana:20251230T085000
DTEND;TZID=Europe/Ljubljana:20251230T111500
DTSTAMP:20260422T015642Z
UID:fpp-AFLABS-URNIK:premaknjeno-srecanje:13710
ATTENDEE:1. letnik (TPL-U)
CATEGORIES:Entry,Standard
COLOR:darkgreen
DESCRIPTION:Predmet: Prometni sistem (TPL-U) (PS)\, Predavanje (P)\nLetnik
 i: 1. letnik (TPL-U)\nIzvajalci: Maja Stojaković\nProstor: 202
LOCATION:202
ORGANIZER:Maja Stojaković
RELATED-TO:fpp-AFLABS-URNIK:srecanje:715
X-WR-TIMEZONE:Europe/Ljubljana
END:VEVENT
BEGIN:VEVENT
SUMMARY:Prometni sistem (TPL-U) (PS)\, Predavanje (P)
DTSTART;TZID=Europe/Ljubljana:20260113T085000
DTEND;TZID=Europe/Ljubljana:20260113T111500
DTSTAMP:20260422T015642Z
UID:fpp-AFLABS-URNIK:premaknjeno-srecanje:13712
ATTENDEE:1. letnik (TPL-U)
CATEGORIES:Entry,Standard
COLOR:darkgreen
DESCRIPTION:Predmet: Prometni sistem (TPL-U) (PS)\, Predavanje (P)\nLetnik
 i: 1. letnik (TPL-U)\nIzvajalci: Maja Stojaković\nProstor: 202
LOCATION:202
ORGANIZER:Maja Stojaković
RELATED-TO:fpp-AFLABS-URNIK:srecanje:715
X-WR-TIMEZONE:Europe/Ljubljana
END:VEVENT
BEGIN:VEVENT
SUMMARY:Prometni sistem (TPL-U) (PS)\, Seminar (S)
DTSTART;TZID=Europe/Ljubljana:20251223T112000
DTEND;TZID=Europe/Ljubljana:20251223T120500
DTSTAMP:20260422T015642Z
UID:fpp-AFLABS-URNIK:premaknjeno-srecanje:13857
ATTENDEE:1. letnik (TPL-U)
CATEGORIES:Entry,Standard
COLOR:darkgreen
DESCRIPTION:Predmet: Prometni sistem (TPL-U) (PS)\, Seminar (S)\nLetniki: 
 1. letnik (TPL-U)\nIzvajalci: Maja Stojaković\nProstor: 202
LOCATION:202
ORGANIZER:Maja Stojaković
RELATED-TO:fpp-AFLABS-URNIK:srecanje:716
X-WR-TIMEZONE:Europe/Ljubljana
END:VEVENT
BEGIN:VEVENT
SUMMARY:Prometni sistem (TPL-U) (PS)\, Seminar (S)
DTSTART;TZID=Europe/Ljubljana:20251230T112000
DTEND;TZID=Europe/Ljubljana:20251230T120500
DTSTAMP:20260422T015642Z
UID:fpp-AFLABS-URNIK:premaknjeno-srecanje:13858
ATTENDEE:1. letnik (TPL-U)
CATEGORIES:Entry,Standard
COLOR:darkgreen
DESCRIPTION:Predmet: Prometni sistem (TPL-U) (PS)\, Seminar (S)\nLetniki: 
 1. letnik (TPL-U)\nIzvajalci: Maja Stojaković\nProstor: 202
LOCATION:202
ORGANIZER:Maja Stojaković
RELATED-TO:fpp-AFLABS-URNIK:srecanje:716
X-WR-TIMEZONE:Europe/Ljubljana
END:VEVENT
BEGIN:VEVENT
SUMMARY:Prometni sistem (TPL-U) (PS)\, Seminar (S)
DTSTART;TZID=Europe/Ljubljana:20260113T112000
DTEND;TZID=Europe/Ljubljana:20260113T120500
DTSTAMP:20260422T015642Z
UID:fpp-AFLABS-URNIK:premaknjeno-srecanje:13860
ATTENDEE:1. letnik (TPL-U)
CATEGORIES:Entry,Standard
COLOR:darkgreen
DESCRIPTION:Predmet: Prometni sistem (TPL-U) (PS)\, Seminar (S)\nLetniki: 
 1. letnik (TPL-U)\nIzvajalci: Maja Stojaković\nProstor: 202
LOCATION:202
ORGANIZER:Maja Stojaković
RELATED-TO:fpp-AFLABS-URNIK:srecanje:716
X-WR-TIMEZONE:Europe/Ljubljana
END:VEVENT
BEGIN:VEVENT
SUMMARY:Pristanišča in terminali (PTTL) (PIT)\, Predavanje (P)
DTSTART;TZID=Europe/Ljubljana:20251224T094000
DTEND;TZID=Europe/Ljubljana:20251224T111500
DTSTAMP:20260422T015642Z
UID:fpp-AFLABS-URNIK:premaknjeno-srecanje:33972
ATTENDEE:3. letnik (PTTL, SS)
ATTENDEE:3. letnik (PTTL, VS)
CATEGORIES:Entry,Standard
COLOR:darkgreen
DESCRIPTION:Predmet: Pristanišča in terminali (PTTL) (PIT)\, Predavanje 
 (P)\nLetniki: 3. letnik (PTTL\, SS)\, 3. letnik (PTTL\, VS)\nIzvajalci: Ma
 ja Stojaković\nProstor: R4
LOCATION:R4
ORGANIZER:Maja Stojaković
RELATED-TO:fpp-AFLABS-URNIK:srecanje:1797
X-WR-TIMEZONE:Europe/Ljubljana
END:VEVENT
BEGIN:VEVENT
SUMMARY:Pristanišča in terminali (PTTL) (PIT)\, Predavanje (P)
DTSTART;TZID=Europe/Ljubljana:20251231T135000
DTEND;TZID=Europe/Ljubljana:20251231T152500
DTSTAMP:20260422T015642Z
UID:fpp-AFLABS-URNIK:premaknjeno-srecanje:16478
ATTENDEE:3. letnik (PTTL, SS)
ATTENDEE:3. letnik (PTTL, VS)
CATEGORIES:Entry,Standard
COLOR:darkgreen
DESCRIPTION:Predmet: Pristanišča in terminali (PTTL) (PIT)\, Predavanje 
 (P)\nLetniki: 3. letnik (PTTL\, SS)\, 3. letnik (PTTL\, VS)\nIzvajalci: Ma
 ja Stojaković\nProstor: 202
LOCATION:202
ORGANIZER:Maja Stojaković
RELATED-TO:fpp-AFLABS-URNIK:srecanje:1180
X-WR-TIMEZONE:Europe/Ljubljana
END:VEVENT
BEGIN:VEVENT
SUMMARY:Pristanišča in terminali (PTTL) (PIT)\, Predavanje (P)
DTSTART;TZID=Europe/Ljubljana:20260114T135000
DTEND;TZID=Europe/Ljubljana:20260114T152500
DTSTAMP:20260422T015642Z
UID:fpp-AFLABS-URNIK:premaknjeno-srecanje:16480
ATTENDEE:3. letnik (PTTL, SS)
ATTENDEE:3. letnik (PTTL, VS)
CATEGORIES:Entry,Standard
COLOR:darkgreen
DESCRIPTION:Predmet: Pristanišča in terminali (PTTL) (PIT)\, Predavanje 
 (P)\nLetniki: 3. letnik (PTTL\, SS)\, 3. letnik (PTTL\, VS)\nIzvajalci: Ma
 ja Stojaković\nProstor: 202
LOCATION:202
ORGANIZER:Maja Stojaković
RELATED-TO:fpp-AFLABS-URNIK:srecanje:1180
X-WR-TIMEZONE:Europe/Ljubljana
END:VEVENT
BEGIN:VEVENT
SUMMARY:Pristanišča in terminali (PTTL) (PIT)\, Seminar (S)
DTSTART;TZID=Europe/Ljubljana:20251231T153000
DTEND;TZID=Europe/Ljubljana:20251231T161500
DTSTAMP:20260422T015642Z
UID:fpp-AFLABS-URNIK:premaknjeno-srecanje:16508
ATTENDEE:3. letnik (PTTL, SS)
ATTENDEE:3. letnik (PTTL, VS)
CATEGORIES:Entry,Standard
COLOR:darkgreen
DESCRIPTION:Predmet: Pristanišča in terminali (PTTL) (PIT)\, Seminar (S)
 \nLetniki: 3. letnik (PTTL\, SS)\, 3. letnik (PTTL\, VS)\nIzvajalci: Maja 
 Stojaković\nProstor: 202
LOCATION:202
ORGANIZER:Maja Stojaković
RELATED-TO:fpp-AFLABS-URNIK:srecanje:1181
X-WR-TIMEZONE:Europe/Ljubljana
END:VEVENT
BEGIN:VEVENT
SUMMARY:Pristanišča in terminali (PTTL) (PIT)\, Seminar (S)
DTSTART;TZID=Europe/Ljubljana:20260114T153000
DTEND;TZID=Europe/Ljubljana:20260114T161500
DTSTAMP:20260422T015642Z
UID:fpp-AFLABS-URNIK:premaknjeno-srecanje:16510
ATTENDEE:3. letnik (PTTL, SS)
ATTENDEE:3. letnik (PTTL, VS)
CATEGORIES:Entry,Standard
COLOR:darkgreen
DESCRIPTION:Predmet: Pristanišča in terminali (PTTL) (PIT)\, Seminar (S)
 \nLetniki: 3. letnik (PTTL\, SS)\, 3. letnik (PTTL\, VS)\nIzvajalci: Maja 
 Stojaković\nProstor: 202
LOCATION:202
ORGANIZER:Maja Stojaković
RELATED-TO:fpp-AFLABS-URNIK:srecanje:1181
X-WR-TIMEZONE:Europe/Ljubljana
END:VEVENT
BEGIN:VEVENT
SUMMARY:Transportna logistika (PTTL) (TL)\, Predavanje (P)
DTSTART;TZID=Europe/Ljubljana:20260115T085000
DTEND;TZID=Europe/Ljubljana:20260115T102500
DTSTAMP:20260422T015642Z
UID:fpp-AFLABS-URNIK:premaknjeno-srecanje:30143
ATTENDEE:1. letnik (PTTL, SS)
ATTENDEE:1. letnik (PTTL, VS)
CATEGORIES:Entry,Standard
COLOR:darkgreen
DESCRIPTION:Predmet: Transportna logistika (PTTL) (TL)\, Predavanje (P)\nL
 etniki: 1. letnik (PTTL\, SS)\, 1. letnik (PTTL\, VS)\nIzvajalci: Maja Sto
 jaković\nProstor: P2
LOCATION:P2
ORGANIZER:Maja Stojaković
RELATED-TO:fpp-AFLABS-URNIK:srecanje:800
X-WR-TIMEZONE:Europe/Ljubljana
END:VEVENT
BEGIN:VEVENT
SUMMARY:Špedicija (PTTL) (Š)\, Predavanje (P)
DTSTART;TZID=Europe/Ljubljana:20260216T085000
DTEND;TZID=Europe/Ljubljana:20260216T102500
DTSTAMP:20260422T015642Z
UID:fpp-AFLABS-URNIK:premaknjeno-srecanje:31180
ATTENDEE:2. letnik (PTTL, SS)
ATTENDEE:2. letnik (PTTL, VS)
CATEGORIES:Entry,Standard
COLOR:darkgreen
DESCRIPTION:Predmet: Špedicija (PTTL) (Š)\, Predavanje (P)\nLetniki: 2. 
 letnik (PTTL\, SS)\, 2. letnik (PTTL\, VS)\nIzvajalci: Maja Stojaković\nP
 rostor: 205
LOCATION:205
ORGANIZER:Maja Stojaković
RELATED-TO:fpp-AFLABS-URNIK:srecanje:1021
X-WR-TIMEZONE:Europe/Ljubljana
END:VEVENT
BEGIN:VEVENT
SUMMARY:Špedicija (PTTL) (Š)\, Predavanje (P)
DTSTART;TZID=Europe/Ljubljana:20260223T085000
DTEND;TZID=Europe/Ljubljana:20260223T102500
DTSTAMP:20260422T015642Z
UID:fpp-AFLABS-URNIK:premaknjeno-srecanje:31181
ATTENDEE:2. letnik (PTTL, SS)
ATTENDEE:2. letnik (PTTL, VS)
CATEGORIES:Entry,Standard
COLOR:darkgreen
DESCRIPTION:Predmet: Špedicija (PTTL) (Š)\, Predavanje (P)\nLetniki: 2. 
 letnik (PTTL\, SS)\, 2. letnik (PTTL\, VS)\nIzvajalci: Maja Stojaković\nP
 rostor: 205
LOCATION:205
ORGANIZER:Maja Stojaković
RELATED-TO:fpp-AFLABS-URNIK:srecanje:1021
X-WR-TIMEZONE:Europe/Ljubljana
END:VEVENT
BEGIN:VEVENT
SUMMARY:Špedicija (PTTL) (Š)\, Predavanje (P)
DTSTART;TZID=Europe/Ljubljana:20260302T085000
DTEND;TZID=Europe/Ljubljana:20260302T102500
DTSTAMP:20260422T015642Z
UID:fpp-AFLABS-URNIK:premaknjeno-srecanje:31182
ATTENDEE:2. letnik (PTTL, SS)
ATTENDEE:2. letnik (PTTL, VS)
CATEGORIES:Entry,Standard
COLOR:darkgreen
DESCRIPTION:Predmet: Špedicija (PTTL) (Š)\, Predavanje (P)\nLetniki: 2. 
 letnik (PTTL\, SS)\, 2. letnik (PTTL\, VS)\nIzvajalci: Maja Stojaković\nP
 rostor: 205
LOCATION:205
ORGANIZER:Maja Stojaković
RELATED-TO:fpp-AFLABS-URNIK:srecanje:1021
X-WR-TIMEZONE:Europe/Ljubljana
END:VEVENT
BEGIN:VEVENT
SUMMARY:Špedicija (PTTL) (Š)\, Seminar (S)
DTSTART;TZID=Europe/Ljubljana:20260216T103000
DTEND;TZID=Europe/Ljubljana:20260216T111500
DTSTAMP:20260422T015642Z
UID:fpp-AFLABS-URNIK:premaknjeno-srecanje:31222
ATTENDEE:2. letnik (PTTL, SS)
ATTENDEE:2. letnik (PTTL, VS)
CATEGORIES:Entry,Standard
COLOR:darkgreen
DESCRIPTION:Predmet: Špedicija (PTTL) (Š)\, Seminar (S)\nLetniki: 2. let
 nik (PTTL\, SS)\, 2. letnik (PTTL\, VS)\nIzvajalci: Maja Stojaković\nPros
 tor: 205
LOCATION:205
ORGANIZER:Maja Stojaković
RELATED-TO:fpp-AFLABS-URNIK:srecanje:1022
X-WR-TIMEZONE:Europe/Ljubljana
END:VEVENT
BEGIN:VEVENT
SUMMARY:Špedicija (PTTL) (Š)\, Seminar (S)
DTSTART;TZID=Europe/Ljubljana:20260223T103000
DTEND;TZID=Europe/Ljubljana:20260223T111500
DTSTAMP:20260422T015642Z
UID:fpp-AFLABS-URNIK:premaknjeno-srecanje:31223
ATTENDEE:2. letnik (PTTL, SS)
ATTENDEE:2. letnik (PTTL, VS)
CATEGORIES:Entry,Standard
COLOR:darkgreen
DESCRIPTION:Predmet: Špedicija (PTTL) (Š)\, Seminar (S)\nLetniki: 2. let
 nik (PTTL\, SS)\, 2. letnik (PTTL\, VS)\nIzvajalci: Maja Stojaković\nPros
 tor: 205
LOCATION:205
ORGANIZER:Maja Stojaković
RELATED-TO:fpp-AFLABS-URNIK:srecanje:1022
X-WR-TIMEZONE:Europe/Ljubljana
END:VEVENT
BEGIN:VEVENT
SUMMARY:Špedicija (PTTL) (Š)\, Seminar (S)
DTSTART;TZID=Europe/Ljubljana:20260302T103000
DTEND;TZID=Europe/Ljubljana:20260302T111500
DTSTAMP:20260422T015642Z
UID:fpp-AFLABS-URNIK:premaknjeno-srecanje:31224
ATTENDEE:2. letnik (PTTL, SS)
ATTENDEE:2. letnik (PTTL, VS)
CATEGORIES:Entry,Standard
COLOR:darkgreen
DESCRIPTION:Predmet: Špedicija (PTTL) (Š)\, Seminar (S)\nLetniki: 2. let
 nik (PTTL\, SS)\, 2. letnik (PTTL\, VS)\nIzvajalci: Maja Stojaković\nPros
 tor: 205
LOCATION:205
ORGANIZER:Maja Stojaković
RELATED-TO:fpp-AFLABS-URNIK:srecanje:1022
X-WR-TIMEZONE:Europe/Ljubljana
END:VEVENT
BEGIN:VEVENT
SUMMARY:Urbani transport (TPL-U) (UT)\, Predavanje (P)
DTSTART;TZID=Europe/Ljubljana:20260217T085000
DTEND;TZID=Europe/Ljubljana:20260217T102500
DTSTAMP:20260422T015642Z
UID:fpp-AFLABS-URNIK:premaknjeno-srecanje:25810
ATTENDEE:3. letnik (TPL-U)
CATEGORIES:Entry,Standard
COLOR:darkgreen
DESCRIPTION:Predmet: Urbani transport (TPL-U) (UT)\, Predavanje (P)\nLetni
 ki: 3. letnik (TPL-U)\nIzvajalci: Maja Stojaković\nProstor: 206
LOCATION:206
ORGANIZER:Maja Stojaković
RELATED-TO:fpp-AFLABS-URNIK:srecanje:1070
X-WR-TIMEZONE:Europe/Ljubljana
END:VEVENT
BEGIN:VEVENT
SUMMARY:Urbani transport (TPL-U) (UT)\, Predavanje (P)
DTSTART;TZID=Europe/Ljubljana:20260224T085000
DTEND;TZID=Europe/Ljubljana:20260224T102500
DTSTAMP:20260422T015642Z
UID:fpp-AFLABS-URNIK:premaknjeno-srecanje:25811
ATTENDEE:3. letnik (TPL-U)
CATEGORIES:Entry,Standard
COLOR:darkgreen
DESCRIPTION:Predmet: Urbani transport (TPL-U) (UT)\, Predavanje (P)\nLetni
 ki: 3. letnik (TPL-U)\nIzvajalci: Maja Stojaković\nProstor: 206
LOCATION:206
ORGANIZER:Maja Stojaković
RELATED-TO:fpp-AFLABS-URNIK:srecanje:1070
X-WR-TIMEZONE:Europe/Ljubljana
END:VEVENT
BEGIN:VEVENT
SUMMARY:Pomorska logistika (PROM2) (PL)\, Laboratorijske vaje (LV)
DTSTART;TZID=Europe/Ljubljana:20260217T203000
DTEND;TZID=Europe/Ljubljana:20260217T211500
DTSTAMP:20260422T015642Z
UID:fpp-AFLABS-URNIK:premaknjeno-srecanje:28572
ATTENDEE:1. letnik (PROM2)
CATEGORIES:Entry,Standard
COLOR:darkgreen
DESCRIPTION:Predmet: Pomorska logistika (PROM2) (PL)\, Laboratorijske vaje
  (LV)\nLetniki: 1. letnik (PROM2)\nIzvajalci: Maja Stojaković\nProstor: R
 1
LOCATION:R1
ORGANIZER:Maja Stojaković
RELATED-TO:fpp-AFLABS-URNIK:srecanje:974
X-WR-TIMEZONE:Europe/Ljubljana
END:VEVENT
BEGIN:VEVENT
SUMMARY:Pomorska logistika (PROM2) (PL)\, Laboratorijske vaje (LV)
DTSTART;TZID=Europe/Ljubljana:20260224T203000
DTEND;TZID=Europe/Ljubljana:20260224T211500
DTSTAMP:20260422T015642Z
UID:fpp-AFLABS-URNIK:premaknjeno-srecanje:28573
ATTENDEE:1. letnik (PROM2)
CATEGORIES:Entry,Standard
COLOR:darkgreen
DESCRIPTION:Predmet: Pomorska logistika (PROM2) (PL)\, Laboratorijske vaje
  (LV)\nLetniki: 1. letnik (PROM2)\nIzvajalci: Maja Stojaković\nProstor: R
 1
LOCATION:R1
ORGANIZER:Maja Stojaković
RELATED-TO:fpp-AFLABS-URNIK:srecanje:974
X-WR-TIMEZONE:Europe/Ljubljana
END:VEVENT
BEGIN:VEVENT
SUMMARY:Pomorska logistika (POM2) (PL)\, Laboratorijske vaje (LV)
DTSTART;TZID=Europe/Ljubljana:20260217T203000
DTEND;TZID=Europe/Ljubljana:20260217T211500
DTSTAMP:20260422T015642Z
UID:fpp-AFLABS-URNIK:premaknjeno-srecanje:28998
ATTENDEE:1. letnik (POM2)
CATEGORIES:Entry,Standard
COLOR:darkgreen
DESCRIPTION:Predmet: Pomorska logistika (POM2) (PL)\, Laboratorijske vaje 
 (LV)\nLetniki: 1. letnik (POM2)\nIzvajalci: Maja Stojaković\nProstor: R1
LOCATION:R1
ORGANIZER:Maja Stojaković
RELATED-TO:fpp-AFLABS-URNIK:srecanje:1124
X-WR-TIMEZONE:Europe/Ljubljana
END:VEVENT
BEGIN:VEVENT
SUMMARY:Pomorska logistika (POM2) (PL)\, Laboratorijske vaje (LV)
DTSTART;TZID=Europe/Ljubljana:20260224T203000
DTEND;TZID=Europe/Ljubljana:20260224T211500
DTSTAMP:20260422T015642Z
UID:fpp-AFLABS-URNIK:premaknjeno-srecanje:28999
ATTENDEE:1. letnik (POM2)
CATEGORIES:Entry,Standard
COLOR:darkgreen
DESCRIPTION:Predmet: Pomorska logistika (POM2) (PL)\, Laboratorijske vaje 
 (LV)\nLetniki: 1. letnik (POM2)\nIzvajalci: Maja Stojaković\nProstor: R1
LOCATION:R1
ORGANIZER:Maja Stojaković
RELATED-TO:fpp-AFLABS-URNIK:srecanje:1124
X-WR-TIMEZONE:Europe/Ljubljana
END:VEVENT
BEGIN:VEVENT
SUMMARY:Predavanja PPA
DTSTART;TZID=Europe/Ljubljana:20260116T130000
DTEND;TZID=Europe/Ljubljana:20260116T143500
DTSTAMP:20260422T015642Z
UID:fpp-AFLABS-URNIK:rezervacija:105
ATTENDEE:3. letnik (PTTL, SS)
ATTENDEE:3. letnik (PTTL, VS)
CATEGORIES:Reservation
COLOR:royalblue
DESCRIPTION:Predmeti: Poslovanje pomorskih agentov (PTTL) (PPA)\nLetniki: 
 3. letnik (PTTL\, SS)\, 3. letnik (PTTL\, VS)\nIzvajalci: Maja Stojaković
 \nProstori: 203
LOCATION:203
ORGANIZER:Maja Stojaković
X-WR-TIMEZONE:Europe/Ljubljana
END:VEVENT
BEGIN:VEVENT
SUMMARY:Diplome
DTSTART;TZID=Europe/Ljubljana:20260120T110000
DTEND;TZID=Europe/Ljubljana:20260120T120000
DTSTAMP:20260422T015642Z
UID:fpp-AFLABS-URNIK:rezervacija:109
CATEGORIES:Reservation
COLOR:royalblue
DESCRIPTION:Predmeti: \nLetniki: \nIzvajalci: UL FPP Dekanat\,\, UL FPP He
 lpDesk\,\, Blaž Luin\, Marko Perkovič\, UL FPP Referat\,\, Maja Stojakov
 ić\nProstori: Sejna soba
LOCATION:Sejna soba
ORGANIZER:UL FPP Dekanat,, UL FPP HelpDesk,, Blaž Luin, Marko Perkovič, 
 UL FPP Referat,, Maja Stojaković
X-WR-TIMEZONE:Europe/Ljubljana
END:VEVENT
END:VCALENDAR
