BEGIN:VCALENDAR
VERSION:2.0
PRODID:-//AFLabs urnik izvoz - fpp//aflabs.si//SI
DTSTAMP:20260422T020127Z
NAME:UL FPP Urnik
REFRESH-INTERVAL:PT1H
SOURCE:https://afurnik-fpp.dev.aflabs.org/teacher/54?day=2025-09-01&export
 =1
URL:https://afurnik-fpp.dev.aflabs.org/teacher/54?day=2025-09-01&export=1
X-PUBLISHED-TTL:PT1H
X-WR-CALNAME:UL FPP Urnik
X-WR-TIMEZONE:Europe/Ljubljana
BEGIN:VTIMEZONE
TZID:Europe/Ljubljana
BEGIN:DAYLIGHT
DTSTART:20260329T020000
RDATE:20260329T020000
RDATE:20270328T020000
TZNAME:CEST
TZOFFSETFROM:+0100
TZOFFSETTO:+0200
END:DAYLIGHT
BEGIN:STANDARD
DTSTART:20261025T030000
RDATE:20261025T030000
RDATE:20271031T030000
TZNAME:CET
TZOFFSETFROM:+0200
TZOFFSETTO:+0100
END:STANDARD
END:VTIMEZONE
BEGIN:VEVENT
SUMMARY:Tehniška matematika 2 (PS) (TM2)\, Predavanje (P)
DTSTART;TZID=Europe/Ljubljana:20251001T085000
DTEND;TZID=Europe/Ljubljana:20251001T111500
DTSTAMP:20260422T020127Z
UID:fpp-AFLABS-URNIK:premaknjeno-srecanje:19605
ATTENDEE:2. letnik (PS, SS)
ATTENDEE:2. letnik (PS, VS)
CATEGORIES:Entry,Standard
COLOR:darkgreen
DESCRIPTION:Predmet: Tehniška matematika 2 (PS) (TM2)\, Predavanje (P)\nL
 etniki: 2. letnik (PS\, SS)\, 2. letnik (PS\, VS)\nIzvajalci: Danijela Tul
 jak-Suban\nProstor: 203
LOCATION:203
ORGANIZER:Danijela Tuljak-Suban
RELATED-TO:fpp-AFLABS-URNIK:srecanje:783
X-WR-TIMEZONE:Europe/Ljubljana
END:VEVENT
BEGIN:VEVENT
SUMMARY:Pametna orodja za promet in logistiko (PTTL) (POPL)\, Predavanje (
 P)
DTSTART;TZID=Europe/Ljubljana:20251006T112000
DTEND;TZID=Europe/Ljubljana:20251006T125500
DTSTAMP:20260422T020127Z
UID:fpp-AFLABS-URNIK:premaknjeno-srecanje:32637
ATTENDEE:3. letnik (PTTL, SS)
ATTENDEE:3. letnik (PTTL, VS)
CATEGORIES:Entry,Standard
COLOR:darkgreen
DESCRIPTION:Predmet: Pametna orodja za promet in logistiko (PTTL) (POPL)\,
  Predavanje (P)\nLetniki: 3. letnik (PTTL\, SS)\, 3. letnik (PTTL\, VS)\nI
 zvajalci: Danijela Tuljak-Suban\nProstor: 206
LOCATION:206
ORGANIZER:Danijela Tuljak-Suban
RELATED-TO:fpp-AFLABS-URNIK:srecanje:1173
X-WR-TIMEZONE:Europe/Ljubljana
END:VEVENT
BEGIN:VEVENT
SUMMARY:Pametna orodja za promet in logistiko (PTTL) (POPL)\, Predavanje (
 P)
DTSTART;TZID=Europe/Ljubljana:20251006T130000
DTEND;TZID=Europe/Ljubljana:20251006T143500
DTSTAMP:20260422T020127Z
UID:fpp-AFLABS-URNIK:premaknjeno-srecanje:32638
ATTENDEE:3. letnik (PTTL, SS)
ATTENDEE:3. letnik (PTTL, VS)
CATEGORIES:Entry,Standard
COLOR:darkgreen
DESCRIPTION:Predmet: Pametna orodja za promet in logistiko (PTTL) (POPL)\,
  Predavanje (P)\nLetniki: 3. letnik (PTTL\, SS)\, 3. letnik (PTTL\, VS)\nI
 zvajalci: Danijela Tuljak-Suban\nProstor: 206
LOCATION:206
ORGANIZER:Danijela Tuljak-Suban
RELATED-TO:fpp-AFLABS-URNIK:srecanje:670
X-WR-TIMEZONE:Europe/Ljubljana
END:VEVENT
BEGIN:VEVENT
SUMMARY:Pametna orodja za promet in logistiko (PTTL) (POPL)\, Seminar (S)
DTSTART;TZID=Europe/Ljubljana:20251006T144000
DTEND;TZID=Europe/Ljubljana:20251006T152500
DTSTAMP:20260422T020127Z
UID:fpp-AFLABS-URNIK:premaknjeno-srecanje:32639
ATTENDEE:3. letnik (PTTL, SS)
ATTENDEE:3. letnik (PTTL, VS)
CATEGORIES:Entry,Standard
COLOR:darkgreen
DESCRIPTION:Predmet: Pametna orodja za promet in logistiko (PTTL) (POPL)\,
  Seminar (S)\nLetniki: 3. letnik (PTTL\, SS)\, 3. letnik (PTTL\, VS)\nIzva
 jalci: Danijela Tuljak-Suban\nProstor: 206
LOCATION:206
ORGANIZER:Danijela Tuljak-Suban
RELATED-TO:fpp-AFLABS-URNIK:srecanje:671
X-WR-TIMEZONE:Europe/Ljubljana
END:VEVENT
END:VCALENDAR
