BEGIN:VCALENDAR
VERSION:2.0
PRODID:-//AFLabs urnik izvoz - fpp//aflabs.si//SI
DTSTAMP:20260423T161408Z
NAME:UL FPP Urnik
REFRESH-INTERVAL:PT1H
SOURCE:https://afurnik-fpp.dev.aflabs.org/teacher/55?day=2024-09-09&export
 =1
URL:https://afurnik-fpp.dev.aflabs.org/teacher/55?day=2024-09-09&export=1
X-PUBLISHED-TTL:PT1H
X-WR-CALNAME:UL FPP Urnik
X-WR-TIMEZONE:Europe/Ljubljana
BEGIN:VTIMEZONE
TZID:Europe/Ljubljana
BEGIN:DAYLIGHT
DTSTART:20260329T020000
RDATE:20260329T020000
RDATE:20270328T020000
TZNAME:CEST
TZOFFSETFROM:+0100
TZOFFSETTO:+0200
END:DAYLIGHT
BEGIN:STANDARD
DTSTART:20261025T030000
RDATE:20261025T030000
RDATE:20271031T030000
TZNAME:CET
TZOFFSETFROM:+0200
TZOFFSETTO:+0100
END:STANDARD
END:VTIMEZONE
BEGIN:VEVENT
SUMMARY:Verjetnost in statistika (TPL-U) (VS)\, Predavanje (P)
DTSTART;TZID=Europe/Ljubljana:20241002T085000
DTEND;TZID=Europe/Ljubljana:20241002T111500
DTSTAMP:20260423T161408Z
UID:fpp-AFLABS-URNIK:premaknjeno-srecanje:177
ATTENDEE:2. letnik (TPL-U)
CATEGORIES:Entry,Standard
COLOR:darkgreen
DESCRIPTION:Predmet: Verjetnost in statistika (TPL-U) (VS)\, Predavanje (P
 )\nLetniki: 2. letnik (TPL-U)\nIzvajalci: Aleksej Turnšek\nProstor: 204
LOCATION:204
ORGANIZER:Aleksej Turnšek
RELATED-TO:fpp-AFLABS-URNIK:srecanje:177
X-WR-TIMEZONE:Europe/Ljubljana
END:VEVENT
BEGIN:VEVENT
SUMMARY:Verjetnost in statistika (TPL-U) (VS)\, Predavanje (P)
DTSTART;TZID=Europe/Ljubljana:20241009T085000
DTEND;TZID=Europe/Ljubljana:20241009T111500
DTSTAMP:20260423T161408Z
UID:fpp-AFLABS-URNIK:premaknjeno-srecanje:5123
ATTENDEE:2. letnik (TPL-U)
CATEGORIES:Entry,Standard
COLOR:darkgreen
DESCRIPTION:Predmet: Verjetnost in statistika (TPL-U) (VS)\, Predavanje (P
 )\nLetniki: 2. letnik (TPL-U)\nIzvajalci: Aleksej Turnšek\nProstor: 204
LOCATION:204
ORGANIZER:Aleksej Turnšek
RELATED-TO:fpp-AFLABS-URNIK:srecanje:177
X-WR-TIMEZONE:Europe/Ljubljana
END:VEVENT
BEGIN:VEVENT
SUMMARY:Verjetnost in statistika (TPL-U) (VS)\, Seminar (S)
DTSTART;TZID=Europe/Ljubljana:20241002T112000
DTEND;TZID=Europe/Ljubljana:20241002T120500
DTSTAMP:20260423T161408Z
UID:fpp-AFLABS-URNIK:premaknjeno-srecanje:184
ATTENDEE:2. letnik (TPL-U)
CATEGORIES:Entry,Standard
COLOR:darkgreen
DESCRIPTION:Predmet: Verjetnost in statistika (TPL-U) (VS)\, Seminar (S)\n
 Letniki: 2. letnik (TPL-U)\nIzvajalci: Aleksej Turnšek\nProstor: 204
LOCATION:204
ORGANIZER:Aleksej Turnšek
RELATED-TO:fpp-AFLABS-URNIK:srecanje:184
X-WR-TIMEZONE:Europe/Ljubljana
END:VEVENT
BEGIN:VEVENT
SUMMARY:Verjetnost in statistika (TPL-U) (VS)\, Seminar (S)
DTSTART;TZID=Europe/Ljubljana:20241009T112000
DTEND;TZID=Europe/Ljubljana:20241009T120500
DTSTAMP:20260423T161408Z
UID:fpp-AFLABS-URNIK:premaknjeno-srecanje:5138
ATTENDEE:2. letnik (TPL-U)
CATEGORIES:Entry,Standard
COLOR:darkgreen
DESCRIPTION:Predmet: Verjetnost in statistika (TPL-U) (VS)\, Seminar (S)\n
 Letniki: 2. letnik (TPL-U)\nIzvajalci: Aleksej Turnšek\nProstor: 204
LOCATION:204
ORGANIZER:Aleksej Turnšek
RELATED-TO:fpp-AFLABS-URNIK:srecanje:184
X-WR-TIMEZONE:Europe/Ljubljana
END:VEVENT
BEGIN:VEVENT
SUMMARY:Izbrana poglavja iz višje matematike (POM2) (IPVM)\, Predavanje (
 P)
DTSTART;TZID=Europe/Ljubljana:20241002T162000
DTEND;TZID=Europe/Ljubljana:20241002T193500
DTSTAMP:20260423T161408Z
UID:fpp-AFLABS-URNIK:premaknjeno-srecanje:251
ATTENDEE:1. letnik (POM2)
CATEGORIES:Entry,Standard
COLOR:darkgreen
DESCRIPTION:Predmet: Izbrana poglavja iz višje matematike (POM2) (IPVM)\,
  Predavanje (P)\nLetniki: 1. letnik (POM2)\nIzvajalci: Aleksej Turnšek\nP
 rostor: P2
LOCATION:P2
ORGANIZER:Aleksej Turnšek
RELATED-TO:fpp-AFLABS-URNIK:srecanje:251
X-WR-TIMEZONE:Europe/Ljubljana
END:VEVENT
BEGIN:VEVENT
SUMMARY:Izbrana poglavja iz višje matematike (POM2) (IPVM)\, Predavanje (
 P)
DTSTART;TZID=Europe/Ljubljana:20241009T162000
DTEND;TZID=Europe/Ljubljana:20241009T193500
DTSTAMP:20260423T161408Z
UID:fpp-AFLABS-URNIK:premaknjeno-srecanje:1388
ATTENDEE:1. letnik (POM2)
CATEGORIES:Entry,Standard
COLOR:darkgreen
DESCRIPTION:Predmet: Izbrana poglavja iz višje matematike (POM2) (IPVM)\,
  Predavanje (P)\nLetniki: 1. letnik (POM2)\nIzvajalci: Aleksej Turnšek\nP
 rostor: P2
LOCATION:P2
ORGANIZER:Aleksej Turnšek
RELATED-TO:fpp-AFLABS-URNIK:srecanje:251
X-WR-TIMEZONE:Europe/Ljubljana
END:VEVENT
BEGIN:VEVENT
SUMMARY:Matematika I (TPL-U) (MAT1)\, Predavanje (P)
DTSTART;TZID=Europe/Ljubljana:20241007T085000
DTEND;TZID=Europe/Ljubljana:20241007T111500
DTSTAMP:20260423T161408Z
UID:fpp-AFLABS-URNIK:premaknjeno-srecanje:1963
ATTENDEE:1. letnik (TPL-U)
CATEGORIES:Entry,Standard
COLOR:darkgreen
DESCRIPTION:Predmet: Matematika I (TPL-U) (MAT1)\, Predavanje (P)\nLetniki
 : 1. letnik (TPL-U)\nIzvajalci: Aleksej Turnšek\nProstor: 202
LOCATION:202
ORGANIZER:Aleksej Turnšek
RELATED-TO:fpp-AFLABS-URNIK:srecanje:156
X-WR-TIMEZONE:Europe/Ljubljana
END:VEVENT
BEGIN:VEVENT
SUMMARY:Matematika I (TPL-U) (MAT1)\, Predavanje (P)
DTSTART;TZID=Europe/Ljubljana:20241014T085000
DTEND;TZID=Europe/Ljubljana:20241014T111500
DTSTAMP:20260423T161408Z
UID:fpp-AFLABS-URNIK:premaknjeno-srecanje:1964
ATTENDEE:1. letnik (TPL-U)
CATEGORIES:Entry,Standard
COLOR:darkgreen
DESCRIPTION:Predmet: Matematika I (TPL-U) (MAT1)\, Predavanje (P)\nLetniki
 : 1. letnik (TPL-U)\nIzvajalci: Aleksej Turnšek\nProstor: 202
LOCATION:202
ORGANIZER:Aleksej Turnšek
RELATED-TO:fpp-AFLABS-URNIK:srecanje:156
X-WR-TIMEZONE:Europe/Ljubljana
END:VEVENT
END:VCALENDAR
