BEGIN:VCALENDAR
VERSION:2.0
PRODID:-//AFLabs urnik izvoz - fpp//aflabs.si//SI
DTSTAMP:20260422T015550Z
NAME:UL FPP Urnik
REFRESH-INTERVAL:PT1H
SOURCE:https://afurnik-fpp.dev.aflabs.org/teacher/63?day=2026-01-26&export
 =1
URL:https://afurnik-fpp.dev.aflabs.org/teacher/63?day=2026-01-26&export=1
X-PUBLISHED-TTL:PT1H
X-WR-CALNAME:UL FPP Urnik
X-WR-TIMEZONE:Europe/Ljubljana
BEGIN:VTIMEZONE
TZID:Europe/Ljubljana
BEGIN:DAYLIGHT
DTSTART:20260329T020000
RDATE:20260329T020000
RDATE:20270328T020000
TZNAME:CEST
TZOFFSETFROM:+0100
TZOFFSETTO:+0200
END:DAYLIGHT
BEGIN:STANDARD
DTSTART:20261025T030000
RDATE:20261025T030000
RDATE:20271031T030000
TZNAME:CET
TZOFFSETFROM:+0200
TZOFFSETTO:+0100
END:STANDARD
END:VTIMEZONE
BEGIN:VEVENT
SUMMARY:Transportna ekonomika (TPL-U) (TE)\, Predavanje (P)
DTSTART;TZID=Europe/Ljubljana:20251224T135000
DTEND;TZID=Europe/Ljubljana:20251224T161500
DTSTAMP:20260422T015550Z
UID:fpp-AFLABS-URNIK:premaknjeno-srecanje:14316
ATTENDEE:2. letnik (TPL-U)
CATEGORIES:Entry,Standard
COLOR:darkgreen
DESCRIPTION:Predmet: Transportna ekonomika (TPL-U) (TE)\, Predavanje (P)\n
 Letniki: 2. letnik (TPL-U)\nIzvajalci: Marina Zanne\nProstor: 206
LOCATION:206
ORGANIZER:Marina Zanne
RELATED-TO:fpp-AFLABS-URNIK:srecanje:797
X-WR-TIMEZONE:Europe/Ljubljana
END:VEVENT
BEGIN:VEVENT
SUMMARY:Transportna ekonomika (TPL-U) (TE)\, Predavanje (P)
DTSTART;TZID=Europe/Ljubljana:20251231T135000
DTEND;TZID=Europe/Ljubljana:20251231T161500
DTSTAMP:20260422T015550Z
UID:fpp-AFLABS-URNIK:premaknjeno-srecanje:14317
ATTENDEE:2. letnik (TPL-U)
CATEGORIES:Entry,Standard
COLOR:darkgreen
DESCRIPTION:Predmet: Transportna ekonomika (TPL-U) (TE)\, Predavanje (P)\n
 Letniki: 2. letnik (TPL-U)\nIzvajalci: Marina Zanne\nProstor: 206
LOCATION:206
ORGANIZER:Marina Zanne
RELATED-TO:fpp-AFLABS-URNIK:srecanje:797
X-WR-TIMEZONE:Europe/Ljubljana
END:VEVENT
BEGIN:VEVENT
SUMMARY:Transportna ekonomika (TPL-U) (TE)\, Predavanje (P)
DTSTART;TZID=Europe/Ljubljana:20260107T135000
DTEND;TZID=Europe/Ljubljana:20260107T161500
DTSTAMP:20260422T015550Z
UID:fpp-AFLABS-URNIK:premaknjeno-srecanje:14318
ATTENDEE:2. letnik (TPL-U)
CATEGORIES:Entry,Standard
COLOR:darkgreen
DESCRIPTION:Predmet: Transportna ekonomika (TPL-U) (TE)\, Predavanje (P)\n
 Letniki: 2. letnik (TPL-U)\nIzvajalci: Marina Zanne\nProstor: 206
LOCATION:206
ORGANIZER:Marina Zanne
RELATED-TO:fpp-AFLABS-URNIK:srecanje:797
X-WR-TIMEZONE:Europe/Ljubljana
END:VEVENT
BEGIN:VEVENT
SUMMARY:Transportna ekonomika (TPL-U) (TE)\, Predavanje (P)
DTSTART;TZID=Europe/Ljubljana:20260114T135000
DTEND;TZID=Europe/Ljubljana:20260114T161500
DTSTAMP:20260422T015550Z
UID:fpp-AFLABS-URNIK:premaknjeno-srecanje:14319
ATTENDEE:2. letnik (TPL-U)
CATEGORIES:Entry,Standard
COLOR:darkgreen
DESCRIPTION:Predmet: Transportna ekonomika (TPL-U) (TE)\, Predavanje (P)\n
 Letniki: 2. letnik (TPL-U)\nIzvajalci: Marina Zanne\nProstor: 206
LOCATION:206
ORGANIZER:Marina Zanne
RELATED-TO:fpp-AFLABS-URNIK:srecanje:797
X-WR-TIMEZONE:Europe/Ljubljana
END:VEVENT
BEGIN:VEVENT
SUMMARY:Poslovno ekonomska analitika (PROM2) (PEA)\, Predavanje (P)
DTSTART;TZID=Europe/Ljubljana:20251224T162000
DTEND;TZID=Europe/Ljubljana:20251224T184500
DTSTAMP:20260422T015550Z
UID:fpp-AFLABS-URNIK:premaknjeno-srecanje:17393
ATTENDEE:1. letnik (PROM2)
CATEGORIES:Entry,Standard
COLOR:darkgreen
DESCRIPTION:Predmet: Poslovno ekonomska analitika (PROM2) (PEA)\, Predavan
 je (P)\nLetniki: 1. letnik (PROM2)\nIzvajalci: Marina Zanne\nProstor: 205
LOCATION:205
ORGANIZER:Marina Zanne
RELATED-TO:fpp-AFLABS-URNIK:srecanje:689
X-WR-TIMEZONE:Europe/Ljubljana
END:VEVENT
BEGIN:VEVENT
SUMMARY:Poslovno ekonomska analitika (PROM2) (PEA)\, Predavanje (P)
DTSTART;TZID=Europe/Ljubljana:20251231T162000
DTEND;TZID=Europe/Ljubljana:20251231T184500
DTSTAMP:20260422T015550Z
UID:fpp-AFLABS-URNIK:premaknjeno-srecanje:17394
ATTENDEE:1. letnik (PROM2)
CATEGORIES:Entry,Standard
COLOR:darkgreen
DESCRIPTION:Predmet: Poslovno ekonomska analitika (PROM2) (PEA)\, Predavan
 je (P)\nLetniki: 1. letnik (PROM2)\nIzvajalci: Marina Zanne\nProstor: 205
LOCATION:205
ORGANIZER:Marina Zanne
RELATED-TO:fpp-AFLABS-URNIK:srecanje:689
X-WR-TIMEZONE:Europe/Ljubljana
END:VEVENT
BEGIN:VEVENT
SUMMARY:Poslovno ekonomska analitika (PROM2) (PEA)\, Predavanje (P)
DTSTART;TZID=Europe/Ljubljana:20260107T162000
DTEND;TZID=Europe/Ljubljana:20260107T184500
DTSTAMP:20260422T015550Z
UID:fpp-AFLABS-URNIK:premaknjeno-srecanje:17395
ATTENDEE:1. letnik (PROM2)
CATEGORIES:Entry,Standard
COLOR:darkgreen
DESCRIPTION:Predmet: Poslovno ekonomska analitika (PROM2) (PEA)\, Predavan
 je (P)\nLetniki: 1. letnik (PROM2)\nIzvajalci: Marina Zanne\nProstor: 205
LOCATION:205
ORGANIZER:Marina Zanne
RELATED-TO:fpp-AFLABS-URNIK:srecanje:689
X-WR-TIMEZONE:Europe/Ljubljana
END:VEVENT
BEGIN:VEVENT
SUMMARY:Poslovno ekonomska analitika (PROM2) (PEA)\, Predavanje (P)
DTSTART;TZID=Europe/Ljubljana:20260114T162000
DTEND;TZID=Europe/Ljubljana:20260114T184500
DTSTAMP:20260422T015550Z
UID:fpp-AFLABS-URNIK:premaknjeno-srecanje:17396
ATTENDEE:1. letnik (PROM2)
CATEGORIES:Entry,Standard
COLOR:darkgreen
DESCRIPTION:Predmet: Poslovno ekonomska analitika (PROM2) (PEA)\, Predavan
 je (P)\nLetniki: 1. letnik (PROM2)\nIzvajalci: Marina Zanne\nProstor: 205
LOCATION:205
ORGANIZER:Marina Zanne
RELATED-TO:fpp-AFLABS-URNIK:srecanje:689
X-WR-TIMEZONE:Europe/Ljubljana
END:VEVENT
BEGIN:VEVENT
SUMMARY:Ekonomika pomorstva in poslovanje ladjarja (N) (EPPL)\, Predavanje
  (P)
DTSTART;TZID=Europe/Ljubljana:20260108T112000
DTEND;TZID=Europe/Ljubljana:20260108T143500
DTSTAMP:20260422T015550Z
UID:fpp-AFLABS-URNIK:premaknjeno-srecanje:30296
ATTENDEE:2. letnik (N, SS)
ATTENDEE:3. letnik (N, VS)
CATEGORIES:Entry,Standard
COLOR:darkgreen
DESCRIPTION:Predmet: Ekonomika pomorstva in poslovanje ladjarja (N) (EPPL)
 \, Predavanje (P)\nLetniki: 2. letnik (N\, SS)\, 3. letnik (N\, VS)\nIzvaj
 alci: Marina Zanne\nProstor: 205
LOCATION:205
ORGANIZER:Marina Zanne
RELATED-TO:fpp-AFLABS-URNIK:srecanje:532
X-WR-TIMEZONE:Europe/Ljubljana
END:VEVENT
BEGIN:VEVENT
SUMMARY:Ekonomika pomorstva in poslovanje ladjarja (N) (EPPL)\, Predavanje
  (P)
DTSTART;TZID=Europe/Ljubljana:20260115T112000
DTEND;TZID=Europe/Ljubljana:20260115T143500
DTSTAMP:20260422T015550Z
UID:fpp-AFLABS-URNIK:premaknjeno-srecanje:30297
ATTENDEE:2. letnik (N, SS)
ATTENDEE:3. letnik (N, VS)
CATEGORIES:Entry,Standard
COLOR:darkgreen
DESCRIPTION:Predmet: Ekonomika pomorstva in poslovanje ladjarja (N) (EPPL)
 \, Predavanje (P)\nLetniki: 2. letnik (N\, SS)\, 3. letnik (N\, VS)\nIzvaj
 alci: Marina Zanne\nProstor: 205
LOCATION:205
ORGANIZER:Marina Zanne
RELATED-TO:fpp-AFLABS-URNIK:srecanje:532
X-WR-TIMEZONE:Europe/Ljubljana
END:VEVENT
BEGIN:VEVENT
SUMMARY:Ekonomika pomorstva in poslovanje ladjarja (PS) (EPPL)\, Predavanj
 e (P)
DTSTART;TZID=Europe/Ljubljana:20260108T112000
DTEND;TZID=Europe/Ljubljana:20260108T143500
DTSTAMP:20260422T015550Z
UID:fpp-AFLABS-URNIK:premaknjeno-srecanje:30534
ATTENDEE:3. letnik (PS, SS)
ATTENDEE:3. letnik (PS, VS)
CATEGORIES:Entry,Standard
COLOR:darkgreen
DESCRIPTION:Predmet: Ekonomika pomorstva in poslovanje ladjarja (PS) (EPPL
 )\, Predavanje (P)\nLetniki: 3. letnik (PS\, SS)\, 3. letnik (PS\, VS)\nIz
 vajalci: Marina Zanne\nProstor: 205
LOCATION:205
ORGANIZER:Marina Zanne
RELATED-TO:fpp-AFLABS-URNIK:srecanje:1167
X-WR-TIMEZONE:Europe/Ljubljana
END:VEVENT
BEGIN:VEVENT
SUMMARY:Ekonomika pomorstva in poslovanje ladjarja (PS) (EPPL)\, Predavanj
 e (P)
DTSTART;TZID=Europe/Ljubljana:20260115T112000
DTEND;TZID=Europe/Ljubljana:20260115T143500
DTSTAMP:20260422T015550Z
UID:fpp-AFLABS-URNIK:premaknjeno-srecanje:30535
ATTENDEE:3. letnik (PS, SS)
ATTENDEE:3. letnik (PS, VS)
CATEGORIES:Entry,Standard
COLOR:darkgreen
DESCRIPTION:Predmet: Ekonomika pomorstva in poslovanje ladjarja (PS) (EPPL
 )\, Predavanje (P)\nLetniki: 3. letnik (PS\, SS)\, 3. letnik (PS\, VS)\nIz
 vajalci: Marina Zanne\nProstor: 205
LOCATION:205
ORGANIZER:Marina Zanne
RELATED-TO:fpp-AFLABS-URNIK:srecanje:1167
X-WR-TIMEZONE:Europe/Ljubljana
END:VEVENT
BEGIN:VEVENT
SUMMARY:Ekonomika (TPL-U) (EK)\, Predavanje (P)
DTSTART;TZID=Europe/Ljubljana:20260109T085000
DTEND;TZID=Europe/Ljubljana:20260109T102500
DTSTAMP:20260422T015550Z
UID:fpp-AFLABS-URNIK:premaknjeno-srecanje:13756
ATTENDEE:1. letnik (TPL-U)
CATEGORIES:Entry,Standard
COLOR:darkgreen
DESCRIPTION:Predmet: Ekonomika (TPL-U) (EK)\, Predavanje (P)\nLetniki: 1. 
 letnik (TPL-U)\nIzvajalci: Marina Zanne\nProstor: 202
LOCATION:202
ORGANIZER:Marina Zanne
RELATED-TO:fpp-AFLABS-URNIK:srecanje:538
X-WR-TIMEZONE:Europe/Ljubljana
END:VEVENT
BEGIN:VEVENT
SUMMARY:Ekonomika (TPL-U) (EK)\, Predavanje (P)
DTSTART;TZID=Europe/Ljubljana:20260116T085000
DTEND;TZID=Europe/Ljubljana:20260116T102500
DTSTAMP:20260422T015550Z
UID:fpp-AFLABS-URNIK:premaknjeno-srecanje:13757
ATTENDEE:1. letnik (TPL-U)
CATEGORIES:Entry,Standard
COLOR:darkgreen
DESCRIPTION:Predmet: Ekonomika (TPL-U) (EK)\, Predavanje (P)\nLetniki: 1. 
 letnik (TPL-U)\nIzvajalci: Marina Zanne\nProstor: 202
LOCATION:202
ORGANIZER:Marina Zanne
RELATED-TO:fpp-AFLABS-URNIK:srecanje:538
X-WR-TIMEZONE:Europe/Ljubljana
END:VEVENT
BEGIN:VEVENT
SUMMARY:Prometna ekonomika (PTTL) (PE)\, Predavanje (P)
DTSTART;TZID=Europe/Ljubljana:20260217T085000
DTEND;TZID=Europe/Ljubljana:20260217T102500
DTSTAMP:20260422T015550Z
UID:fpp-AFLABS-URNIK:premaknjeno-srecanje:26187
ATTENDEE:1. letnik (PTTL, SS)
ATTENDEE:1. letnik (PTTL, VS)
CATEGORIES:Entry,Standard
COLOR:darkgreen
DESCRIPTION:Predmet: Prometna ekonomika (PTTL) (PE)\, Predavanje (P)\nLetn
 iki: 1. letnik (PTTL\, SS)\, 1. letnik (PTTL\, VS)\nIzvajalci: Marina Zann
 e\nProstor: amfiteater
LOCATION:amfiteater
ORGANIZER:Marina Zanne
RELATED-TO:fpp-AFLABS-URNIK:srecanje:997
X-WR-TIMEZONE:Europe/Ljubljana
END:VEVENT
BEGIN:VEVENT
SUMMARY:Prometna ekonomika (PTTL) (PE)\, Predavanje (P)
DTSTART;TZID=Europe/Ljubljana:20260224T085000
DTEND;TZID=Europe/Ljubljana:20260224T102500
DTSTAMP:20260422T015550Z
UID:fpp-AFLABS-URNIK:premaknjeno-srecanje:26188
ATTENDEE:1. letnik (PTTL, SS)
ATTENDEE:1. letnik (PTTL, VS)
CATEGORIES:Entry,Standard
COLOR:darkgreen
DESCRIPTION:Predmet: Prometna ekonomika (PTTL) (PE)\, Predavanje (P)\nLetn
 iki: 1. letnik (PTTL\, SS)\, 1. letnik (PTTL\, VS)\nIzvajalci: Marina Zann
 e\nProstor: amfiteater
LOCATION:amfiteater
ORGANIZER:Marina Zanne
RELATED-TO:fpp-AFLABS-URNIK:srecanje:997
X-WR-TIMEZONE:Europe/Ljubljana
END:VEVENT
BEGIN:VEVENT
SUMMARY:Management v prometu (PTTL) (MVP)\, Predavanje (P)
DTSTART;TZID=Europe/Ljubljana:20260219T085000
DTEND;TZID=Europe/Ljubljana:20260219T102500
DTSTAMP:20260422T015550Z
UID:fpp-AFLABS-URNIK:premaknjeno-srecanje:28338
ATTENDEE:2. letnik (PTTL, SS)
ATTENDEE:2. letnik (PTTL, VS)
CATEGORIES:Entry,Standard
COLOR:darkgreen
DESCRIPTION:Predmet: Management v prometu (PTTL) (MVP)\, Predavanje (P)\nL
 etniki: 2. letnik (PTTL\, SS)\, 2. letnik (PTTL\, VS)\nIzvajalci: Marina Z
 anne\nProstor: P2
LOCATION:P2
ORGANIZER:Marina Zanne
RELATED-TO:fpp-AFLABS-URNIK:srecanje:946
X-WR-TIMEZONE:Europe/Ljubljana
END:VEVENT
BEGIN:VEVENT
SUMMARY:Management v prometu (PTTL) (MVP)\, Predavanje (P)
DTSTART;TZID=Europe/Ljubljana:20260226T085000
DTEND;TZID=Europe/Ljubljana:20260226T102500
DTSTAMP:20260422T015550Z
UID:fpp-AFLABS-URNIK:premaknjeno-srecanje:28339
ATTENDEE:2. letnik (PTTL, SS)
ATTENDEE:2. letnik (PTTL, VS)
CATEGORIES:Entry,Standard
COLOR:darkgreen
DESCRIPTION:Predmet: Management v prometu (PTTL) (MVP)\, Predavanje (P)\nL
 etniki: 2. letnik (PTTL\, SS)\, 2. letnik (PTTL\, VS)\nIzvajalci: Marina Z
 anne\nProstor: P2
LOCATION:P2
ORGANIZER:Marina Zanne
RELATED-TO:fpp-AFLABS-URNIK:srecanje:946
X-WR-TIMEZONE:Europe/Ljubljana
END:VEVENT
BEGIN:VEVENT
SUMMARY:Ekskurzija v Kopru
DTSTART;TZID=Europe/Ljubljana:20260105T112000
DTEND;TZID=Europe/Ljubljana:20260105T152500
DTSTAMP:20260422T015550Z
UID:fpp-AFLABS-URNIK:rezervacija:5
ATTENDEE:3. letnik (PTTL, SS)
ATTENDEE:3. letnik (PTTL, VS)
CATEGORIES:Reservation
COLOR:royalblue
DESCRIPTION:Predmeti: Pametna orodja za promet in logistiko (PTTL) (POPL)\
 nLetniki: 3. letnik (PTTL\, SS)\, 3. letnik (PTTL\, VS)\nIzvajalci: Evelin
  Krmac\, Danijela Tuljak-Suban\, Marina Zanne\nProstori: Morje
LOCATION:Morje
ORGANIZER:Evelin Krmac, Danijela Tuljak-Suban, Marina Zanne
X-WR-TIMEZONE:Europe/Ljubljana
END:VEVENT
BEGIN:VEVENT
SUMMARY:Zagovor seminarjev
DTSTART;TZID=Europe/Ljubljana:20260112T112000
DTEND;TZID=Europe/Ljubljana:20260112T152500
DTSTAMP:20260422T015550Z
UID:fpp-AFLABS-URNIK:rezervacija:6
ATTENDEE:3. letnik (PTTL, SS)
ATTENDEE:3. letnik (PTTL, VS)
CATEGORIES:Reservation
COLOR:royalblue
DESCRIPTION:Predmeti: Pametna orodja za promet in logistiko (PTTL) (POPL)\
 nLetniki: 3. letnik (PTTL\, SS)\, 3. letnik (PTTL\, VS)\nIzvajalci: Evelin
  Krmac\, Danijela Tuljak-Suban\, Marina Zanne\nProstori: 206
LOCATION:206
ORGANIZER:Evelin Krmac, Danijela Tuljak-Suban, Marina Zanne
X-WR-TIMEZONE:Europe/Ljubljana
END:VEVENT
END:VCALENDAR
