BEGIN:VCALENDAR
VERSION:2.0
PRODID:-//AFLabs urnik izvoz - fpp//aflabs.si//SI
DTSTAMP:20260422T074921Z
NAME:UL FPP Urnik
REFRESH-INTERVAL:PT1H
SOURCE:https://afurnik-fpp.dev.aflabs.org/teacher/6?day=2025-01-27&export=
 1
URL:https://afurnik-fpp.dev.aflabs.org/teacher/6?day=2025-01-27&export=1
X-PUBLISHED-TTL:PT1H
X-WR-CALNAME:UL FPP Urnik
X-WR-TIMEZONE:Europe/Ljubljana
BEGIN:VTIMEZONE
TZID:Europe/Ljubljana
BEGIN:DAYLIGHT
DTSTART:20260329T020000
RDATE:20260329T020000
RDATE:20270328T020000
TZNAME:CEST
TZOFFSETFROM:+0100
TZOFFSETTO:+0200
END:DAYLIGHT
BEGIN:STANDARD
DTSTART:20261025T030000
RDATE:20261025T030000
RDATE:20271031T030000
TZNAME:CET
TZOFFSETFROM:+0200
TZOFFSETTO:+0100
END:STANDARD
END:VTIMEZONE
BEGIN:VEVENT
SUMMARY:Tehniška mehanika 1 (PS) (TeHM1)\, Avditorne vaje (AV)
DTSTART;TZID=Europe/Ljubljana:20241224T103000
DTEND;TZID=Europe/Ljubljana:20241224T120500
DTSTAMP:20260422T074921Z
UID:fpp-AFLABS-URNIK:premaknjeno-srecanje:4544
ATTENDEE:1. letnik (PS, SS)
ATTENDEE:1. letnik (PS, VS)
CATEGORIES:Entry,Standard
COLOR:darkgreen
DESCRIPTION:Predmet: Tehniška mehanika 1 (PS) (TeHM1)\, Avditorne vaje (A
 V)\nLetniki: 1. letnik (PS\, SS)\, 1. letnik (PS\, VS)\nIzvajalci: Matej B
 ažec\nProstor: 206
LOCATION:206
ORGANIZER:Matej Bažec
RELATED-TO:fpp-AFLABS-URNIK:srecanje:22
X-WR-TIMEZONE:Europe/Ljubljana
END:VEVENT
BEGIN:VEVENT
SUMMARY:Tehniška mehanika 1 (PS) (TeHM1)\, Avditorne vaje (AV)
DTSTART;TZID=Europe/Ljubljana:20241231T103000
DTEND;TZID=Europe/Ljubljana:20241231T120500
DTSTAMP:20260422T074921Z
UID:fpp-AFLABS-URNIK:premaknjeno-srecanje:4545
ATTENDEE:1. letnik (PS, SS)
ATTENDEE:1. letnik (PS, VS)
CATEGORIES:Entry,Standard
COLOR:darkgreen
DESCRIPTION:Predmet: Tehniška mehanika 1 (PS) (TeHM1)\, Avditorne vaje (A
 V)\nLetniki: 1. letnik (PS\, SS)\, 1. letnik (PS\, VS)\nIzvajalci: Matej B
 ažec\nProstor: 206
LOCATION:206
ORGANIZER:Matej Bažec
RELATED-TO:fpp-AFLABS-URNIK:srecanje:22
X-WR-TIMEZONE:Europe/Ljubljana
END:VEVENT
BEGIN:VEVENT
SUMMARY:Tehniška mehanika 1 (PS) (TeHM1)\, Avditorne vaje (AV)
DTSTART;TZID=Europe/Ljubljana:20250107T103000
DTEND;TZID=Europe/Ljubljana:20250107T120500
DTSTAMP:20260422T074921Z
UID:fpp-AFLABS-URNIK:premaknjeno-srecanje:4546
ATTENDEE:1. letnik (PS, SS)
ATTENDEE:1. letnik (PS, VS)
CATEGORIES:Entry,Standard
COLOR:darkgreen
DESCRIPTION:Predmet: Tehniška mehanika 1 (PS) (TeHM1)\, Avditorne vaje (A
 V)\nLetniki: 1. letnik (PS\, SS)\, 1. letnik (PS\, VS)\nIzvajalci: Matej B
 ažec\nProstor: 206
LOCATION:206
ORGANIZER:Matej Bažec
RELATED-TO:fpp-AFLABS-URNIK:srecanje:22
X-WR-TIMEZONE:Europe/Ljubljana
END:VEVENT
BEGIN:VEVENT
SUMMARY:Tehniška mehanika 1 (PS) (TeHM1)\, Avditorne vaje (AV)
DTSTART;TZID=Europe/Ljubljana:20250114T103000
DTEND;TZID=Europe/Ljubljana:20250114T120500
DTSTAMP:20260422T074921Z
UID:fpp-AFLABS-URNIK:premaknjeno-srecanje:4547
ATTENDEE:1. letnik (PS, SS)
ATTENDEE:1. letnik (PS, VS)
CATEGORIES:Entry,Standard
COLOR:darkgreen
DESCRIPTION:Predmet: Tehniška mehanika 1 (PS) (TeHM1)\, Avditorne vaje (A
 V)\nLetniki: 1. letnik (PS\, SS)\, 1. letnik (PS\, VS)\nIzvajalci: Matej B
 ažec\nProstor: 206
LOCATION:206
ORGANIZER:Matej Bažec
RELATED-TO:fpp-AFLABS-URNIK:srecanje:22
X-WR-TIMEZONE:Europe/Ljubljana
END:VEVENT
BEGIN:VEVENT
SUMMARY:Inteligentni transportni sistemi in storitve (TPL-U) (ITSS)\, Labo
 ratorijske vaje (LV)
DTSTART;TZID=Europe/Ljubljana:20241227T121000
DTEND;TZID=Europe/Ljubljana:20241227T134500
DTSTAMP:20260422T074921Z
UID:fpp-AFLABS-URNIK:premaknjeno-srecanje:1064
ATTENDEE:3. letnik (TPL-U)
CATEGORIES:Entry,Standard
COLOR:darkgreen
DESCRIPTION:Predmet: Inteligentni transportni sistemi in storitve (TPL-U) 
 (ITSS)\, Laboratorijske vaje (LV)\nLetniki: 3. letnik (TPL-U)\nIzvajalci: 
 Matej Bažec\nProstor: R1
LOCATION:R1
ORGANIZER:Matej Bažec
RELATED-TO:fpp-AFLABS-URNIK:srecanje:243
X-WR-TIMEZONE:Europe/Ljubljana
END:VEVENT
BEGIN:VEVENT
SUMMARY:Inteligentni transportni sistemi in storitve (TPL-U) (ITSS)\, Labo
 ratorijske vaje (LV)
DTSTART;TZID=Europe/Ljubljana:20250103T121000
DTEND;TZID=Europe/Ljubljana:20250103T134500
DTSTAMP:20260422T074921Z
UID:fpp-AFLABS-URNIK:premaknjeno-srecanje:1065
ATTENDEE:3. letnik (TPL-U)
CATEGORIES:Entry,Standard
COLOR:darkgreen
DESCRIPTION:Predmet: Inteligentni transportni sistemi in storitve (TPL-U) 
 (ITSS)\, Laboratorijske vaje (LV)\nLetniki: 3. letnik (TPL-U)\nIzvajalci: 
 Matej Bažec\nProstor: R1
LOCATION:R1
ORGANIZER:Matej Bažec
RELATED-TO:fpp-AFLABS-URNIK:srecanje:243
X-WR-TIMEZONE:Europe/Ljubljana
END:VEVENT
BEGIN:VEVENT
SUMMARY:Inteligentni transportni sistemi in storitve (TPL-U) (ITSS)\, Labo
 ratorijske vaje (LV)
DTSTART;TZID=Europe/Ljubljana:20250110T121000
DTEND;TZID=Europe/Ljubljana:20250110T134500
DTSTAMP:20260422T074921Z
UID:fpp-AFLABS-URNIK:premaknjeno-srecanje:1066
ATTENDEE:3. letnik (TPL-U)
CATEGORIES:Entry,Standard
COLOR:darkgreen
DESCRIPTION:Predmet: Inteligentni transportni sistemi in storitve (TPL-U) 
 (ITSS)\, Laboratorijske vaje (LV)\nLetniki: 3. letnik (TPL-U)\nIzvajalci: 
 Matej Bažec\nProstor: R1
LOCATION:R1
ORGANIZER:Matej Bažec
RELATED-TO:fpp-AFLABS-URNIK:srecanje:243
X-WR-TIMEZONE:Europe/Ljubljana
END:VEVENT
BEGIN:VEVENT
SUMMARY:Inteligentni transportni sistemi in storitve (TPL-U) (ITSS)\, Labo
 ratorijske vaje (LV)
DTSTART;TZID=Europe/Ljubljana:20250117T121000
DTEND;TZID=Europe/Ljubljana:20250117T134500
DTSTAMP:20260422T074921Z
UID:fpp-AFLABS-URNIK:premaknjeno-srecanje:1067
ATTENDEE:3. letnik (TPL-U)
CATEGORIES:Entry,Standard
COLOR:darkgreen
DESCRIPTION:Predmet: Inteligentni transportni sistemi in storitve (TPL-U) 
 (ITSS)\, Laboratorijske vaje (LV)\nLetniki: 3. letnik (TPL-U)\nIzvajalci: 
 Matej Bažec\nProstor: R1
LOCATION:R1
ORGANIZER:Matej Bažec
RELATED-TO:fpp-AFLABS-URNIK:srecanje:243
X-WR-TIMEZONE:Europe/Ljubljana
END:VEVENT
BEGIN:VEVENT
SUMMARY:Tehniška mehanika 2 (PS) (TM2)\, Avditorne vaje (AV)
DTSTART;TZID=Europe/Ljubljana:20250217T085000
DTEND;TZID=Europe/Ljubljana:20250217T102500
DTSTAMP:20260422T074921Z
UID:fpp-AFLABS-URNIK:premaknjeno-srecanje:306
ATTENDEE:2. letnik (PS, SS)
ATTENDEE:2. letnik (PS, VS)
CATEGORIES:Entry,Standard
COLOR:darkgreen
DESCRIPTION:Predmet: Tehniška mehanika 2 (PS) (TM2)\, Avditorne vaje (AV)
 \nLetniki: 2. letnik (PS\, SS)\, 2. letnik (PS\, VS)\nIzvajalci: Matej Ba
 žec\nProstor: PO2
LOCATION:PO2
ORGANIZER:Matej Bažec
RELATED-TO:fpp-AFLABS-URNIK:srecanje:306
X-WR-TIMEZONE:Europe/Ljubljana
END:VEVENT
BEGIN:VEVENT
SUMMARY:Tehniška mehanika 2 (PS) (TM2)\, Avditorne vaje (AV)
DTSTART;TZID=Europe/Ljubljana:20250224T085000
DTEND;TZID=Europe/Ljubljana:20250224T102500
DTSTAMP:20260422T074921Z
UID:fpp-AFLABS-URNIK:premaknjeno-srecanje:7343
ATTENDEE:2. letnik (PS, SS)
ATTENDEE:2. letnik (PS, VS)
CATEGORIES:Entry,Standard
COLOR:darkgreen
DESCRIPTION:Predmet: Tehniška mehanika 2 (PS) (TM2)\, Avditorne vaje (AV)
 \nLetniki: 2. letnik (PS\, SS)\, 2. letnik (PS\, VS)\nIzvajalci: Matej Ba
 žec\nProstor: PO2
LOCATION:PO2
ORGANIZER:Matej Bažec
RELATED-TO:fpp-AFLABS-URNIK:srecanje:306
X-WR-TIMEZONE:Europe/Ljubljana
END:VEVENT
BEGIN:VEVENT
SUMMARY:Tehniška mehanika 2 (PS) (TM2)\, Avditorne vaje (AV)
DTSTART;TZID=Europe/Ljubljana:20250303T085000
DTEND;TZID=Europe/Ljubljana:20250303T102500
DTSTAMP:20260422T074921Z
UID:fpp-AFLABS-URNIK:premaknjeno-srecanje:7344
ATTENDEE:2. letnik (PS, SS)
ATTENDEE:2. letnik (PS, VS)
CATEGORIES:Entry,Standard
COLOR:darkgreen
DESCRIPTION:Predmet: Tehniška mehanika 2 (PS) (TM2)\, Avditorne vaje (AV)
 \nLetniki: 2. letnik (PS\, SS)\, 2. letnik (PS\, VS)\nIzvajalci: Matej Ba
 žec\nProstor: PO2
LOCATION:PO2
ORGANIZER:Matej Bažec
RELATED-TO:fpp-AFLABS-URNIK:srecanje:306
X-WR-TIMEZONE:Europe/Ljubljana
END:VEVENT
BEGIN:VEVENT
SUMMARY:Mehanika v prometu (TPL-U) (MP)\, Avditorne vaje (AV)
DTSTART;TZID=Europe/Ljubljana:20250217T112000
DTEND;TZID=Europe/Ljubljana:20250217T134500
DTSTAMP:20260422T074921Z
UID:fpp-AFLABS-URNIK:premaknjeno-srecanje:407
ATTENDEE:1. letnik (TPL-U)
CATEGORIES:Entry,Standard
COLOR:darkgreen
DESCRIPTION:Predmet: Mehanika v prometu (TPL-U) (MP)\, Avditorne vaje (AV)
 \nLetniki: 1. letnik (TPL-U)\nIzvajalci: Matej Bažec\nProstor: 202
LOCATION:202
ORGANIZER:Matej Bažec
RELATED-TO:fpp-AFLABS-URNIK:srecanje:407
X-WR-TIMEZONE:Europe/Ljubljana
END:VEVENT
BEGIN:VEVENT
SUMMARY:Mehanika v prometu (TPL-U) (MP)\, Avditorne vaje (AV)
DTSTART;TZID=Europe/Ljubljana:20250224T112000
DTEND;TZID=Europe/Ljubljana:20250224T134500
DTSTAMP:20260422T074921Z
UID:fpp-AFLABS-URNIK:premaknjeno-srecanje:6113
ATTENDEE:1. letnik (TPL-U)
CATEGORIES:Entry,Standard
COLOR:darkgreen
DESCRIPTION:Predmet: Mehanika v prometu (TPL-U) (MP)\, Avditorne vaje (AV)
 \nLetniki: 1. letnik (TPL-U)\nIzvajalci: Matej Bažec\nProstor: 202
LOCATION:202
ORGANIZER:Matej Bažec
RELATED-TO:fpp-AFLABS-URNIK:srecanje:407
X-WR-TIMEZONE:Europe/Ljubljana
END:VEVENT
BEGIN:VEVENT
SUMMARY:Mehanika v prometu (TPL-U) (MP)\, Avditorne vaje (AV)
DTSTART;TZID=Europe/Ljubljana:20250303T112000
DTEND;TZID=Europe/Ljubljana:20250303T134500
DTSTAMP:20260422T074921Z
UID:fpp-AFLABS-URNIK:premaknjeno-srecanje:6114
ATTENDEE:1. letnik (TPL-U)
CATEGORIES:Entry,Standard
COLOR:darkgreen
DESCRIPTION:Predmet: Mehanika v prometu (TPL-U) (MP)\, Avditorne vaje (AV)
 \nLetniki: 1. letnik (TPL-U)\nIzvajalci: Matej Bažec\nProstor: 202
LOCATION:202
ORGANIZER:Matej Bažec
RELATED-TO:fpp-AFLABS-URNIK:srecanje:407
X-WR-TIMEZONE:Europe/Ljubljana
END:VEVENT
BEGIN:VEVENT
SUMMARY:Tehniške meritve (PS) (TeM)\, Seminar (S)
DTSTART;TZID=Europe/Ljubljana:20250218T103000
DTEND;TZID=Europe/Ljubljana:20250218T111500
DTSTAMP:20260422T074921Z
UID:fpp-AFLABS-URNIK:premaknjeno-srecanje:418
ATTENDEE:3. letnik (PS, SS)
CATEGORIES:Entry,Standard
COLOR:darkgreen
DESCRIPTION:Predmet: Tehniške meritve (PS) (TeM)\, Seminar (S)\nLetniki: 
 3. letnik (PS\, SS)\nIzvajalci: Matej Bažec\nProstor: LPI
LOCATION:LPI
ORGANIZER:Matej Bažec
RELATED-TO:fpp-AFLABS-URNIK:srecanje:418
X-WR-TIMEZONE:Europe/Ljubljana
END:VEVENT
BEGIN:VEVENT
SUMMARY:Tehniške meritve (PS) (TeM)\, Seminar (S)
DTSTART;TZID=Europe/Ljubljana:20250225T103000
DTEND;TZID=Europe/Ljubljana:20250225T111500
DTSTAMP:20260422T074921Z
UID:fpp-AFLABS-URNIK:premaknjeno-srecanje:7403
ATTENDEE:3. letnik (PS, SS)
CATEGORIES:Entry,Standard
COLOR:darkgreen
DESCRIPTION:Predmet: Tehniške meritve (PS) (TeM)\, Seminar (S)\nLetniki: 
 3. letnik (PS\, SS)\nIzvajalci: Matej Bažec\nProstor: LPI
LOCATION:LPI
ORGANIZER:Matej Bažec
RELATED-TO:fpp-AFLABS-URNIK:srecanje:418
X-WR-TIMEZONE:Europe/Ljubljana
END:VEVENT
BEGIN:VEVENT
SUMMARY:Tehniške meritve (PS) (TeM)\, Laboratorijske vaje (LV)
DTSTART;TZID=Europe/Ljubljana:20250218T112000
DTEND;TZID=Europe/Ljubljana:20250218T125500
DTSTAMP:20260422T074921Z
UID:fpp-AFLABS-URNIK:premaknjeno-srecanje:420
ATTENDEE:3. letnik (PS, SS)
CATEGORIES:Entry,Standard
COLOR:darkgreen
DESCRIPTION:Predmet: Tehniške meritve (PS) (TeM)\, Laboratorijske vaje (L
 V)\nLetniki: 3. letnik (PS\, SS)\nIzvajalci: Matej Bažec\nProstor: LPI
LOCATION:LPI
ORGANIZER:Matej Bažec
RELATED-TO:fpp-AFLABS-URNIK:srecanje:420
X-WR-TIMEZONE:Europe/Ljubljana
END:VEVENT
BEGIN:VEVENT
SUMMARY:Tehniške meritve (PS) (TeM)\, Laboratorijske vaje (LV)
DTSTART;TZID=Europe/Ljubljana:20250225T112000
DTEND;TZID=Europe/Ljubljana:20250225T125500
DTSTAMP:20260422T074921Z
UID:fpp-AFLABS-URNIK:premaknjeno-srecanje:7373
ATTENDEE:3. letnik (PS, SS)
CATEGORIES:Entry,Standard
COLOR:darkgreen
DESCRIPTION:Predmet: Tehniške meritve (PS) (TeM)\, Laboratorijske vaje (L
 V)\nLetniki: 3. letnik (PS\, SS)\nIzvajalci: Matej Bažec\nProstor: LPI
LOCATION:LPI
ORGANIZER:Matej Bažec
RELATED-TO:fpp-AFLABS-URNIK:srecanje:420
X-WR-TIMEZONE:Europe/Ljubljana
END:VEVENT
BEGIN:VEVENT
SUMMARY:Tehniška fizika (PS) (TF)\, Avditorne vaje (AV)
DTSTART;TZID=Europe/Ljubljana:20250219T112000
DTEND;TZID=Europe/Ljubljana:20250219T125500
DTSTAMP:20260422T074921Z
UID:fpp-AFLABS-URNIK:premaknjeno-srecanje:331
ATTENDEE:1. letnik (PS, SS)
ATTENDEE:1. letnik (PS, VS)
CATEGORIES:Entry,Standard
COLOR:darkgreen
DESCRIPTION:Predmet: Tehniška fizika (PS) (TF)\, Avditorne vaje (AV)\nLet
 niki: 1. letnik (PS\, SS)\, 1. letnik (PS\, VS)\nIzvajalci: Matej Bažec\n
 Prostor: NEPTUN (NE1+NE2)
LOCATION:NEPTUN (NE1+NE2)
ORGANIZER:Matej Bažec
RELATED-TO:fpp-AFLABS-URNIK:srecanje:331
X-WR-TIMEZONE:Europe/Ljubljana
END:VEVENT
BEGIN:VEVENT
SUMMARY:Tehniška fizika (PS) (TF)\, Avditorne vaje (AV)
DTSTART;TZID=Europe/Ljubljana:20250226T112000
DTEND;TZID=Europe/Ljubljana:20250226T125500
DTSTAMP:20260422T074921Z
UID:fpp-AFLABS-URNIK:premaknjeno-srecanje:7313
ATTENDEE:1. letnik (PS, SS)
ATTENDEE:1. letnik (PS, VS)
CATEGORIES:Entry,Standard
COLOR:darkgreen
DESCRIPTION:Predmet: Tehniška fizika (PS) (TF)\, Avditorne vaje (AV)\nLet
 niki: 1. letnik (PS\, SS)\, 1. letnik (PS\, VS)\nIzvajalci: Matej Bažec\n
 Prostor: NEPTUN (NE1+NE2)
LOCATION:NEPTUN (NE1+NE2)
ORGANIZER:Matej Bažec
RELATED-TO:fpp-AFLABS-URNIK:srecanje:331
X-WR-TIMEZONE:Europe/Ljubljana
END:VEVENT
BEGIN:VEVENT
SUMMARY:Tehniška fizika (N) (TF)\, Avditorne vaje (AV)
DTSTART;TZID=Europe/Ljubljana:20250219T112000
DTEND;TZID=Europe/Ljubljana:20250219T125500
DTSTAMP:20260422T074921Z
UID:fpp-AFLABS-URNIK:premaknjeno-srecanje:511
ATTENDEE:1. letnik (N, SS)
ATTENDEE:1. letnik (N, VS)
CATEGORIES:Entry,Standard
COLOR:darkgreen
DESCRIPTION:Predmet: Tehniška fizika (N) (TF)\, Avditorne vaje (AV)\nLetn
 iki: 1. letnik (N\, SS)\, 1. letnik (N\, VS)\nIzvajalci: Matej Bažec\nPro
 stor: NEPTUN (NE1+NE2)
LOCATION:NEPTUN (NE1+NE2)
ORGANIZER:Matej Bažec
RELATED-TO:fpp-AFLABS-URNIK:srecanje:511
X-WR-TIMEZONE:Europe/Ljubljana
END:VEVENT
BEGIN:VEVENT
SUMMARY:Tehniška fizika (N) (TF)\, Avditorne vaje (AV)
DTSTART;TZID=Europe/Ljubljana:20250226T112000
DTEND;TZID=Europe/Ljubljana:20250226T125500
DTSTAMP:20260422T074921Z
UID:fpp-AFLABS-URNIK:premaknjeno-srecanje:7283
ATTENDEE:1. letnik (N, SS)
ATTENDEE:1. letnik (N, VS)
CATEGORIES:Entry,Standard
COLOR:darkgreen
DESCRIPTION:Predmet: Tehniška fizika (N) (TF)\, Avditorne vaje (AV)\nLetn
 iki: 1. letnik (N\, SS)\, 1. letnik (N\, VS)\nIzvajalci: Matej Bažec\nPro
 stor: NEPTUN (NE1+NE2)
LOCATION:NEPTUN (NE1+NE2)
ORGANIZER:Matej Bažec
RELATED-TO:fpp-AFLABS-URNIK:srecanje:511
X-WR-TIMEZONE:Europe/Ljubljana
END:VEVENT
BEGIN:VEVENT
SUMMARY:Tehnična mehanika (PTTL) (TM)\, Avditorne vaje (AV)
DTSTART;TZID=Europe/Ljubljana:20250220T112000
DTEND;TZID=Europe/Ljubljana:20250220T134500
DTSTAMP:20260422T074921Z
UID:fpp-AFLABS-URNIK:premaknjeno-srecanje:487
ATTENDEE:1. letnik (PTTL, SS)
ATTENDEE:1. letnik (PTTL, VS)
CATEGORIES:Entry,Standard
COLOR:darkgreen
DESCRIPTION:Predmet: Tehnična mehanika (PTTL) (TM)\, Avditorne vaje (AV)\
 nLetniki: 1. letnik (PTTL\, SS)\, 1. letnik (PTTL\, VS)\nIzvajalci: Matej 
 Bažec\nProstor: amfiteater
LOCATION:amfiteater
ORGANIZER:Matej Bažec
RELATED-TO:fpp-AFLABS-URNIK:srecanje:487
X-WR-TIMEZONE:Europe/Ljubljana
END:VEVENT
BEGIN:VEVENT
SUMMARY:Tehnična mehanika (PTTL) (TM)\, Avditorne vaje (AV)
DTSTART;TZID=Europe/Ljubljana:20250227T112000
DTEND;TZID=Europe/Ljubljana:20250227T134500
DTSTAMP:20260422T074921Z
UID:fpp-AFLABS-URNIK:premaknjeno-srecanje:7238
ATTENDEE:1. letnik (PTTL, SS)
ATTENDEE:1. letnik (PTTL, VS)
CATEGORIES:Entry,Standard
COLOR:darkgreen
DESCRIPTION:Predmet: Tehnična mehanika (PTTL) (TM)\, Avditorne vaje (AV)\
 nLetniki: 1. letnik (PTTL\, SS)\, 1. letnik (PTTL\, VS)\nIzvajalci: Matej 
 Bažec\nProstor: amfiteater
LOCATION:amfiteater
ORGANIZER:Matej Bažec
RELATED-TO:fpp-AFLABS-URNIK:srecanje:487
X-WR-TIMEZONE:Europe/Ljubljana
END:VEVENT
BEGIN:VEVENT
SUMMARY:Tehnična mehanika (PTTL) (TM)\, Avditorne vaje (AV)
DTSTART;TZID=Europe/Ljubljana:20250220T135000
DTEND;TZID=Europe/Ljubljana:20250220T161500
DTSTAMP:20260422T074921Z
UID:fpp-AFLABS-URNIK:premaknjeno-srecanje:497
ATTENDEE:1. letnik (PTTL, SS)
ATTENDEE:1. letnik (PTTL, VS)
CATEGORIES:Entry,Standard
COLOR:darkgreen
DESCRIPTION:Predmet: Tehnična mehanika (PTTL) (TM)\, Avditorne vaje (AV)\
 nLetniki: 1. letnik (PTTL\, SS)\, 1. letnik (PTTL\, VS)\nIzvajalci: Matej 
 Bažec\nProstor: amfiteater
LOCATION:amfiteater
ORGANIZER:Matej Bažec
RELATED-TO:fpp-AFLABS-URNIK:srecanje:497
X-WR-TIMEZONE:Europe/Ljubljana
END:VEVENT
BEGIN:VEVENT
SUMMARY:Tehnična mehanika (PTTL) (TM)\, Avditorne vaje (AV)
DTSTART;TZID=Europe/Ljubljana:20250227T135000
DTEND;TZID=Europe/Ljubljana:20250227T161500
DTSTAMP:20260422T074921Z
UID:fpp-AFLABS-URNIK:premaknjeno-srecanje:7253
ATTENDEE:1. letnik (PTTL, SS)
ATTENDEE:1. letnik (PTTL, VS)
CATEGORIES:Entry,Standard
COLOR:darkgreen
DESCRIPTION:Predmet: Tehnična mehanika (PTTL) (TM)\, Avditorne vaje (AV)\
 nLetniki: 1. letnik (PTTL\, SS)\, 1. letnik (PTTL\, VS)\nIzvajalci: Matej 
 Bažec\nProstor: amfiteater
LOCATION:amfiteater
ORGANIZER:Matej Bažec
RELATED-TO:fpp-AFLABS-URNIK:srecanje:497
X-WR-TIMEZONE:Europe/Ljubljana
END:VEVENT
BEGIN:VEVENT
SUMMARY:Elektrotehnika v prometu (TPL-U) (EL)\, Laboratorijske vaje (LV)
DTSTART;TZID=Europe/Ljubljana:20250221T112000
DTEND;TZID=Europe/Ljubljana:20250221T125500
DTSTAMP:20260422T074921Z
UID:fpp-AFLABS-URNIK:premaknjeno-srecanje:410
ATTENDEE:1. letnik (TPL-U)
CATEGORIES:Entry,Standard
COLOR:darkgreen
DESCRIPTION:Predmet: Elektrotehnika v prometu (TPL-U) (EL)\, Laboratorijsk
 e vaje (LV)\nLetniki: 1. letnik (TPL-U)\nIzvajalci: Matej Bažec\nProstor:
  LEA
LOCATION:LEA
ORGANIZER:Matej Bažec
RELATED-TO:fpp-AFLABS-URNIK:srecanje:410
X-WR-TIMEZONE:Europe/Ljubljana
END:VEVENT
BEGIN:VEVENT
SUMMARY:Elektrotehnika v prometu (TPL-U) (EL)\, Laboratorijske vaje (LV)
DTSTART;TZID=Europe/Ljubljana:20250228T112000
DTEND;TZID=Europe/Ljubljana:20250228T125500
DTSTAMP:20260422T074921Z
UID:fpp-AFLABS-URNIK:premaknjeno-srecanje:5498
ATTENDEE:1. letnik (TPL-U)
CATEGORIES:Entry,Standard
COLOR:darkgreen
DESCRIPTION:Predmet: Elektrotehnika v prometu (TPL-U) (EL)\, Laboratorijsk
 e vaje (LV)\nLetniki: 1. letnik (TPL-U)\nIzvajalci: Matej Bažec\nProstor:
  LEA
LOCATION:LEA
ORGANIZER:Matej Bažec
RELATED-TO:fpp-AFLABS-URNIK:srecanje:410
X-WR-TIMEZONE:Europe/Ljubljana
END:VEVENT
BEGIN:VEVENT
SUMMARY:Elektrotehnika v prometu (TPL-U) (EL)\, Laboratorijske vaje (LV)
DTSTART;TZID=Europe/Ljubljana:20250221T130000
DTEND;TZID=Europe/Ljubljana:20250221T143500
DTSTAMP:20260422T074921Z
UID:fpp-AFLABS-URNIK:premaknjeno-srecanje:413
ATTENDEE:1. letnik (TPL-U)
CATEGORIES:Entry,Standard
COLOR:darkgreen
DESCRIPTION:Predmet: Elektrotehnika v prometu (TPL-U) (EL)\, Laboratorijsk
 e vaje (LV)\nLetniki: 1. letnik (TPL-U)\nIzvajalci: Matej Bažec\nProstor:
  LEA
LOCATION:LEA
ORGANIZER:Matej Bažec
RELATED-TO:fpp-AFLABS-URNIK:srecanje:413
X-WR-TIMEZONE:Europe/Ljubljana
END:VEVENT
BEGIN:VEVENT
SUMMARY:Elektrotehnika v prometu (TPL-U) (EL)\, Laboratorijske vaje (LV)
DTSTART;TZID=Europe/Ljubljana:20250228T130000
DTEND;TZID=Europe/Ljubljana:20250228T143500
DTSTAMP:20260422T074921Z
UID:fpp-AFLABS-URNIK:premaknjeno-srecanje:5513
ATTENDEE:1. letnik (TPL-U)
CATEGORIES:Entry,Standard
COLOR:darkgreen
DESCRIPTION:Predmet: Elektrotehnika v prometu (TPL-U) (EL)\, Laboratorijsk
 e vaje (LV)\nLetniki: 1. letnik (TPL-U)\nIzvajalci: Matej Bažec\nProstor:
  LEA
LOCATION:LEA
ORGANIZER:Matej Bažec
RELATED-TO:fpp-AFLABS-URNIK:srecanje:413
X-WR-TIMEZONE:Europe/Ljubljana
END:VEVENT
END:VCALENDAR
