BEGIN:VCALENDAR
VERSION:2.0
PRODID:-//AFLabs urnik izvoz - fpp//aflabs.si//SI
DTSTAMP:20260422T060432Z
NAME:UL FPP Urnik
REFRESH-INTERVAL:PT1H
SOURCE:https://afurnik-fpp.dev.aflabs.org/teacher/70?day=2025-09-01&export
 =1
URL:https://afurnik-fpp.dev.aflabs.org/teacher/70?day=2025-09-01&export=1
X-PUBLISHED-TTL:PT1H
X-WR-CALNAME:UL FPP Urnik
X-WR-TIMEZONE:Europe/Ljubljana
BEGIN:VTIMEZONE
TZID:Europe/Ljubljana
BEGIN:DAYLIGHT
DTSTART:20260329T020000
RDATE:20260329T020000
RDATE:20270328T020000
TZNAME:CEST
TZOFFSETFROM:+0100
TZOFFSETTO:+0200
END:DAYLIGHT
BEGIN:STANDARD
DTSTART:20261025T030000
RDATE:20261025T030000
RDATE:20271031T030000
TZNAME:CET
TZOFFSETFROM:+0200
TZOFFSETTO:+0100
END:STANDARD
END:VTIMEZONE
BEGIN:VEVENT
SUMMARY:Računalništvo in informatika (TPL-U) (RaI)\, Avditorne vaje (AV)
 \, [_sk 1.1]
DTSTART;TZID=Europe/Ljubljana:20251002T112000
DTEND;TZID=Europe/Ljubljana:20251002T134500
DTSTAMP:20260422T060432Z
UID:fpp-AFLABS-URNIK:premaknjeno-srecanje:30704
ATTENDEE:1. letnik (TPL-U)
CATEGORIES:Entry,Standard
COLOR:darkgreen
DESCRIPTION:Predmet: Računalništvo in informatika (TPL-U) (RaI)\, Avdito
 rne vaje (AV)\, [_sk 1.1]\nLetniki: 1. letnik (TPL-U)\nIzvajalci: Mozhgan 
 Mansouri Kaleibar\nProstor: R1
LOCATION:R1
ORGANIZER:Mozhgan Mansouri Kaleibar
RELATED-TO:fpp-AFLABS-URNIK:srecanje:736
X-WR-TIMEZONE:Europe/Ljubljana
END:VEVENT
END:VCALENDAR
