BEGIN:VCALENDAR
VERSION:2.0
PRODID:-//AFLabs urnik izvoz - fpp//aflabs.si//SI
DTSTAMP:20260422T015644Z
NAME:UL FPP Urnik
REFRESH-INTERVAL:PT1H
SOURCE:https://afurnik-fpp.dev.aflabs.org/teacher/7?day=2025-09-01&export=
 1
URL:https://afurnik-fpp.dev.aflabs.org/teacher/7?day=2025-09-01&export=1
X-PUBLISHED-TTL:PT1H
X-WR-CALNAME:UL FPP Urnik
X-WR-TIMEZONE:Europe/Ljubljana
BEGIN:VTIMEZONE
TZID:Europe/Ljubljana
BEGIN:DAYLIGHT
DTSTART:20260329T020000
RDATE:20260329T020000
RDATE:20270328T020000
TZNAME:CEST
TZOFFSETFROM:+0100
TZOFFSETTO:+0200
END:DAYLIGHT
BEGIN:STANDARD
DTSTART:20261025T030000
RDATE:20261025T030000
RDATE:20271031T030000
TZNAME:CET
TZOFFSETFROM:+0200
TZOFFSETTO:+0100
END:STANDARD
END:VTIMEZONE
BEGIN:VEVENT
SUMMARY:Sodobne tehnologije v zračnem prometu (PTTL) (STZP)\, Seminar (S)
DTSTART;TZID=Europe/Ljubljana:20251001T180000
DTEND;TZID=Europe/Ljubljana:20251001T184500
DTSTAMP:20260422T015644Z
UID:fpp-AFLABS-URNIK:premaknjeno-srecanje:16599
ATTENDEE:3. letnik (PTTL, SS)
ATTENDEE:3. letnik (PTTL, VS)
CATEGORIES:Entry,Standard
COLOR:darkgreen
DESCRIPTION:Predmet: Sodobne tehnologije v zračnem prometu (PTTL) (STZP)\
 , Seminar (S)\nLetniki: 3. letnik (PTTL\, SS)\, 3. letnik (PTTL\, VS)\nIzv
 ajalci: Bojan Beškovnik\nProstor: 204
LOCATION:204
ORGANIZER:Bojan Beškovnik
RELATED-TO:fpp-AFLABS-URNIK:srecanje:759
X-WR-TIMEZONE:Europe/Ljubljana
END:VEVENT
BEGIN:VEVENT
SUMMARY:Sodobne tehnologije v zračnem prometu (PTTL) (STZP)\, Predavanje 
 (P)
DTSTART;TZID=Europe/Ljubljana:20251001T162000
DTEND;TZID=Europe/Ljubljana:20251001T175500
DTSTAMP:20260422T015644Z
UID:fpp-AFLABS-URNIK:premaknjeno-srecanje:29708
ATTENDEE:3. letnik (PTTL, SS)
ATTENDEE:3. letnik (PTTL, VS)
CATEGORIES:Entry,Standard
COLOR:darkgreen
DESCRIPTION:Predmet: Sodobne tehnologije v zračnem prometu (PTTL) (STZP)\
 , Predavanje (P)\nLetniki: 3. letnik (PTTL\, SS)\, 3. letnik (PTTL\, VS)\n
 Izvajalci: Bojan Beškovnik\nProstor: 204
LOCATION:204
ORGANIZER:Bojan Beškovnik
RELATED-TO:fpp-AFLABS-URNIK:srecanje:758
X-WR-TIMEZONE:Europe/Ljubljana
END:VEVENT
BEGIN:VEVENT
SUMMARY:Sodobne prometne tehnologije (PROM2) (SPT)\, Predavanje (P)
DTSTART;TZID=Europe/Ljubljana:20251002T162000
DTEND;TZID=Europe/Ljubljana:20251002T184500
DTSTAMP:20260422T015644Z
UID:fpp-AFLABS-URNIK:premaknjeno-srecanje:30172
ATTENDEE:1. letnik (PROM2)
CATEGORIES:Entry,Standard
COLOR:darkgreen
DESCRIPTION:Predmet: Sodobne prometne tehnologije (PROM2) (SPT)\, Predavan
 je (P)\nLetniki: 1. letnik (PROM2)\nIzvajalci: Bojan Beškovnik\nProstor: 
 205
LOCATION:205
ORGANIZER:Bojan Beškovnik
RELATED-TO:fpp-AFLABS-URNIK:srecanje:755
X-WR-TIMEZONE:Europe/Ljubljana
END:VEVENT
BEGIN:VEVENT
SUMMARY:Prometne tehnologije (PTTL) - izredni (PT-i)\, Predavanje (P)
DTSTART;TZID=Europe/Ljubljana:20251003T160000
DTEND;TZID=Europe/Ljubljana:20251003T191500
DTSTAMP:20260422T015644Z
UID:fpp-AFLABS-URNIK:premaknjeno-srecanje:32352
ATTENDEE:2. letnik - izredni (PTTL, SS)
CATEGORIES:Entry,Standard
COLOR:darkgreen
DESCRIPTION:Predmet: Prometne tehnologije (PTTL) - izredni (PT-i)\, Predav
 anje (P)\nLetniki: 2. letnik - izredni (PTTL\, SS)\nIzvajalci: Bojan Bešk
 ovnik\nProstor: Videokonferenca
LOCATION:Videokonferenca
ORGANIZER:Bojan Beškovnik
RELATED-TO:fpp-AFLABS-URNIK:srecanje:1295
X-WR-TIMEZONE:Europe/Ljubljana
END:VEVENT
BEGIN:VEVENT
SUMMARY:Tehnologija prometa (TPL-U) - izredni (TP-i)\, Predavanje (P)
DTSTART;TZID=Europe/Ljubljana:20251003T160000
DTEND;TZID=Europe/Ljubljana:20251003T191500
DTSTAMP:20260422T015644Z
UID:fpp-AFLABS-URNIK:premaknjeno-srecanje:32549
ATTENDEE:2. letnik - izredni (TPL-U)
CATEGORIES:Entry,Standard
COLOR:darkgreen
DESCRIPTION:Predmet: Tehnologija prometa (TPL-U) - izredni (TP-i)\, Predav
 anje (P)\nLetniki: 2. letnik - izredni (TPL-U)\nIzvajalci: Bojan Beškovni
 k\nProstor: Videokonferenca
LOCATION:Videokonferenca
ORGANIZER:Bojan Beškovnik
RELATED-TO:fpp-AFLABS-URNIK:srecanje:1360
X-WR-TIMEZONE:Europe/Ljubljana
END:VEVENT
BEGIN:VEVENT
SUMMARY:Prometne tehnologije (PTTL) - izredni (PT-i)\, Predavanje (P)
DTSTART;TZID=Europe/Ljubljana:20251004T090000
DTEND;TZID=Europe/Ljubljana:20251004T121500
DTSTAMP:20260422T015644Z
UID:fpp-AFLABS-URNIK:premaknjeno-srecanje:32355
ATTENDEE:2. letnik - izredni (PTTL, SS)
CATEGORIES:Entry,Standard
COLOR:darkgreen
DESCRIPTION:Predmet: Prometne tehnologije (PTTL) - izredni (PT-i)\, Predav
 anje (P)\nLetniki: 2. letnik - izredni (PTTL\, SS)\nIzvajalci: Bojan Bešk
 ovnik\nProstor: Videokonferenca
LOCATION:Videokonferenca
ORGANIZER:Bojan Beškovnik
RELATED-TO:fpp-AFLABS-URNIK:srecanje:1296
X-WR-TIMEZONE:Europe/Ljubljana
END:VEVENT
BEGIN:VEVENT
SUMMARY:Tehnologija prometa (TPL-U) - izredni (TP-i)\, Predavanje (P)
DTSTART;TZID=Europe/Ljubljana:20251004T090000
DTEND;TZID=Europe/Ljubljana:20251004T121500
DTSTAMP:20260422T015644Z
UID:fpp-AFLABS-URNIK:premaknjeno-srecanje:32555
ATTENDEE:2. letnik - izredni (TPL-U)
CATEGORIES:Entry,Standard
COLOR:darkgreen
DESCRIPTION:Predmet: Tehnologija prometa (TPL-U) - izredni (TP-i)\, Predav
 anje (P)\nLetniki: 2. letnik - izredni (TPL-U)\nIzvajalci: Bojan Beškovni
 k\nProstor: Videokonferenca
LOCATION:Videokonferenca
ORGANIZER:Bojan Beškovnik
RELATED-TO:fpp-AFLABS-URNIK:srecanje:1362
X-WR-TIMEZONE:Europe/Ljubljana
END:VEVENT
END:VCALENDAR
