BEGIN:VCALENDAR
VERSION:2.0
PRODID:-//AFLabs urnik izvoz - fpp//aflabs.si//SI
DTSTAMP:20260422T015627Z
NAME:UL FPP Urnik
REFRESH-INTERVAL:PT1H
SOURCE:https://afurnik-fpp.dev.aflabs.org/teacher/7?day=2026-02-02&export=
 1
URL:https://afurnik-fpp.dev.aflabs.org/teacher/7?day=2026-02-02&export=1
X-PUBLISHED-TTL:PT1H
X-WR-CALNAME:UL FPP Urnik
X-WR-TIMEZONE:Europe/Ljubljana
BEGIN:VTIMEZONE
TZID:Europe/Ljubljana
BEGIN:DAYLIGHT
DTSTART:20260329T020000
RDATE:20260329T020000
RDATE:20270328T020000
TZNAME:CEST
TZOFFSETFROM:+0100
TZOFFSETTO:+0200
END:DAYLIGHT
BEGIN:STANDARD
DTSTART:20261025T030000
RDATE:20261025T030000
RDATE:20271031T030000
TZNAME:CET
TZOFFSETFROM:+0200
TZOFFSETTO:+0100
END:STANDARD
END:VTIMEZONE
BEGIN:VEVENT
SUMMARY:Prometne tehnologije (PTTL) (PT)\, Predavanje (P)
DTSTART;TZID=Europe/Ljubljana:20251230T085000
DTEND;TZID=Europe/Ljubljana:20251230T102500
DTSTAMP:20260422T015627Z
UID:fpp-AFLABS-URNIK:premaknjeno-srecanje:33741
ATTENDEE:2. letnik (PTTL, SS)
ATTENDEE:2. letnik (PTTL, VS)
CATEGORIES:Entry,Standard
COLOR:darkgreen
DESCRIPTION:Predmet: Prometne tehnologije (PTTL) (PT)\, Predavanje (P)\nLe
 tniki: 2. letnik (PTTL\, SS)\, 2. letnik (PTTL\, VS)\nIzvajalci: Bojan Be
 škovnik\nProstor: Videokonferenca
LOCATION:Videokonferenca
ORGANIZER:Bojan Beškovnik
RELATED-TO:fpp-AFLABS-URNIK:srecanje:1670
X-WR-TIMEZONE:Europe/Ljubljana
END:VEVENT
BEGIN:VEVENT
SUMMARY:Prometne tehnologije (PTTL) (PT)\, Predavanje (P)
DTSTART;TZID=Europe/Ljubljana:20260106T085000
DTEND;TZID=Europe/Ljubljana:20260106T102500
DTSTAMP:20260422T015627Z
UID:fpp-AFLABS-URNIK:premaknjeno-srecanje:33742
ATTENDEE:2. letnik (PTTL, SS)
ATTENDEE:2. letnik (PTTL, VS)
CATEGORIES:Entry,Standard
COLOR:darkgreen
DESCRIPTION:Predmet: Prometne tehnologije (PTTL) (PT)\, Predavanje (P)\nLe
 tniki: 2. letnik (PTTL\, SS)\, 2. letnik (PTTL\, VS)\nIzvajalci: Bojan Be
 škovnik\nProstor: Videokonferenca
LOCATION:Videokonferenca
ORGANIZER:Bojan Beškovnik
RELATED-TO:fpp-AFLABS-URNIK:srecanje:1670
X-WR-TIMEZONE:Europe/Ljubljana
END:VEVENT
BEGIN:VEVENT
SUMMARY:Prometne tehnologije (PTTL) (PT)\, Predavanje (P)
DTSTART;TZID=Europe/Ljubljana:20260113T085000
DTEND;TZID=Europe/Ljubljana:20260113T102500
DTSTAMP:20260422T015627Z
UID:fpp-AFLABS-URNIK:premaknjeno-srecanje:33743
ATTENDEE:2. letnik (PTTL, SS)
ATTENDEE:2. letnik (PTTL, VS)
CATEGORIES:Entry,Standard
COLOR:darkgreen
DESCRIPTION:Predmet: Prometne tehnologije (PTTL) (PT)\, Predavanje (P)\nLe
 tniki: 2. letnik (PTTL\, SS)\, 2. letnik (PTTL\, VS)\nIzvajalci: Bojan Be
 škovnik\nProstor: Videokonferenca
LOCATION:Videokonferenca
ORGANIZER:Bojan Beškovnik
RELATED-TO:fpp-AFLABS-URNIK:srecanje:1670
X-WR-TIMEZONE:Europe/Ljubljana
END:VEVENT
BEGIN:VEVENT
SUMMARY:Prometne tehnologije (PTTL) (PT)\, Seminar (S)
DTSTART;TZID=Europe/Ljubljana:20251230T103000
DTEND;TZID=Europe/Ljubljana:20251230T111500
DTSTAMP:20260422T015627Z
UID:fpp-AFLABS-URNIK:premaknjeno-srecanje:33748
ATTENDEE:2. letnik (PTTL, SS)
ATTENDEE:2. letnik (PTTL, VS)
CATEGORIES:Entry,Standard
COLOR:darkgreen
DESCRIPTION:Predmet: Prometne tehnologije (PTTL) (PT)\, Seminar (S)\nLetni
 ki: 2. letnik (PTTL\, SS)\, 2. letnik (PTTL\, VS)\nIzvajalci: Bojan Beško
 vnik\nProstor: Videokonferenca
LOCATION:Videokonferenca
ORGANIZER:Bojan Beškovnik
RELATED-TO:fpp-AFLABS-URNIK:srecanje:1671
X-WR-TIMEZONE:Europe/Ljubljana
END:VEVENT
BEGIN:VEVENT
SUMMARY:Prometne tehnologije (PTTL) (PT)\, Seminar (S)
DTSTART;TZID=Europe/Ljubljana:20260106T103000
DTEND;TZID=Europe/Ljubljana:20260106T111500
DTSTAMP:20260422T015627Z
UID:fpp-AFLABS-URNIK:premaknjeno-srecanje:33749
ATTENDEE:2. letnik (PTTL, SS)
ATTENDEE:2. letnik (PTTL, VS)
CATEGORIES:Entry,Standard
COLOR:darkgreen
DESCRIPTION:Predmet: Prometne tehnologije (PTTL) (PT)\, Seminar (S)\nLetni
 ki: 2. letnik (PTTL\, SS)\, 2. letnik (PTTL\, VS)\nIzvajalci: Bojan Beško
 vnik\nProstor: Videokonferenca
LOCATION:Videokonferenca
ORGANIZER:Bojan Beškovnik
RELATED-TO:fpp-AFLABS-URNIK:srecanje:1671
X-WR-TIMEZONE:Europe/Ljubljana
END:VEVENT
BEGIN:VEVENT
SUMMARY:Prometne tehnologije (PTTL) (PT)\, Seminar (S)
DTSTART;TZID=Europe/Ljubljana:20260113T103000
DTEND;TZID=Europe/Ljubljana:20260113T111500
DTSTAMP:20260422T015627Z
UID:fpp-AFLABS-URNIK:premaknjeno-srecanje:33750
ATTENDEE:2. letnik (PTTL, SS)
ATTENDEE:2. letnik (PTTL, VS)
CATEGORIES:Entry,Standard
COLOR:darkgreen
DESCRIPTION:Predmet: Prometne tehnologije (PTTL) (PT)\, Seminar (S)\nLetni
 ki: 2. letnik (PTTL\, SS)\, 2. letnik (PTTL\, VS)\nIzvajalci: Bojan Beško
 vnik\nProstor: Videokonferenca
LOCATION:Videokonferenca
ORGANIZER:Bojan Beškovnik
RELATED-TO:fpp-AFLABS-URNIK:srecanje:1671
X-WR-TIMEZONE:Europe/Ljubljana
END:VEVENT
BEGIN:VEVENT
SUMMARY:Sodobne tehnologije v zračnem prometu (PTTL) (STZP)\, Seminar (S)
DTSTART;TZID=Europe/Ljubljana:20251231T180000
DTEND;TZID=Europe/Ljubljana:20251231T184500
DTSTAMP:20260422T015627Z
UID:fpp-AFLABS-URNIK:premaknjeno-srecanje:33760
ATTENDEE:3. letnik (PTTL, SS)
ATTENDEE:3. letnik (PTTL, VS)
CATEGORIES:Entry,Standard
COLOR:darkgreen
DESCRIPTION:Predmet: Sodobne tehnologije v zračnem prometu (PTTL) (STZP)\
 , Seminar (S)\nLetniki: 3. letnik (PTTL\, SS)\, 3. letnik (PTTL\, VS)\nIzv
 ajalci: Bojan Beškovnik\nProstor: Videokonferenca
LOCATION:Videokonferenca
ORGANIZER:Bojan Beškovnik
RELATED-TO:fpp-AFLABS-URNIK:srecanje:1673
X-WR-TIMEZONE:Europe/Ljubljana
END:VEVENT
BEGIN:VEVENT
SUMMARY:Sodobne tehnologije v zračnem prometu (PTTL) (STZP)\, Seminar (S)
DTSTART;TZID=Europe/Ljubljana:20260107T180000
DTEND;TZID=Europe/Ljubljana:20260107T184500
DTSTAMP:20260422T015627Z
UID:fpp-AFLABS-URNIK:premaknjeno-srecanje:33761
ATTENDEE:3. letnik (PTTL, SS)
ATTENDEE:3. letnik (PTTL, VS)
CATEGORIES:Entry,Standard
COLOR:darkgreen
DESCRIPTION:Predmet: Sodobne tehnologije v zračnem prometu (PTTL) (STZP)\
 , Seminar (S)\nLetniki: 3. letnik (PTTL\, SS)\, 3. letnik (PTTL\, VS)\nIzv
 ajalci: Bojan Beškovnik\nProstor: Videokonferenca
LOCATION:Videokonferenca
ORGANIZER:Bojan Beškovnik
RELATED-TO:fpp-AFLABS-URNIK:srecanje:1673
X-WR-TIMEZONE:Europe/Ljubljana
END:VEVENT
BEGIN:VEVENT
SUMMARY:Sodobne tehnologije v zračnem prometu (PTTL) (STZP)\, Seminar (S)
DTSTART;TZID=Europe/Ljubljana:20260114T180000
DTEND;TZID=Europe/Ljubljana:20260114T184500
DTSTAMP:20260422T015627Z
UID:fpp-AFLABS-URNIK:premaknjeno-srecanje:33762
ATTENDEE:3. letnik (PTTL, SS)
ATTENDEE:3. letnik (PTTL, VS)
CATEGORIES:Entry,Standard
COLOR:darkgreen
DESCRIPTION:Predmet: Sodobne tehnologije v zračnem prometu (PTTL) (STZP)\
 , Seminar (S)\nLetniki: 3. letnik (PTTL\, SS)\, 3. letnik (PTTL\, VS)\nIzv
 ajalci: Bojan Beškovnik\nProstor: Videokonferenca
LOCATION:Videokonferenca
ORGANIZER:Bojan Beškovnik
RELATED-TO:fpp-AFLABS-URNIK:srecanje:1673
X-WR-TIMEZONE:Europe/Ljubljana
END:VEVENT
BEGIN:VEVENT
SUMMARY:Sodobne tehnologije v zračnem prometu (PTTL) (STZP)\, Predavanje 
 (P)
DTSTART;TZID=Europe/Ljubljana:20251231T162000
DTEND;TZID=Europe/Ljubljana:20251231T175500
DTSTAMP:20260422T015627Z
UID:fpp-AFLABS-URNIK:premaknjeno-srecanje:33767
ATTENDEE:3. letnik (PTTL, SS)
ATTENDEE:3. letnik (PTTL, VS)
CATEGORIES:Entry,Standard
COLOR:darkgreen
DESCRIPTION:Predmet: Sodobne tehnologije v zračnem prometu (PTTL) (STZP)\
 , Predavanje (P)\nLetniki: 3. letnik (PTTL\, SS)\, 3. letnik (PTTL\, VS)\n
 Izvajalci: Bojan Beškovnik\nProstor: Videokonferenca
LOCATION:Videokonferenca
ORGANIZER:Bojan Beškovnik
RELATED-TO:fpp-AFLABS-URNIK:srecanje:1674
X-WR-TIMEZONE:Europe/Ljubljana
END:VEVENT
BEGIN:VEVENT
SUMMARY:Sodobne tehnologije v zračnem prometu (PTTL) (STZP)\, Predavanje 
 (P)
DTSTART;TZID=Europe/Ljubljana:20260107T162000
DTEND;TZID=Europe/Ljubljana:20260107T175500
DTSTAMP:20260422T015627Z
UID:fpp-AFLABS-URNIK:premaknjeno-srecanje:33768
ATTENDEE:3. letnik (PTTL, SS)
ATTENDEE:3. letnik (PTTL, VS)
CATEGORIES:Entry,Standard
COLOR:darkgreen
DESCRIPTION:Predmet: Sodobne tehnologije v zračnem prometu (PTTL) (STZP)\
 , Predavanje (P)\nLetniki: 3. letnik (PTTL\, SS)\, 3. letnik (PTTL\, VS)\n
 Izvajalci: Bojan Beškovnik\nProstor: Videokonferenca
LOCATION:Videokonferenca
ORGANIZER:Bojan Beškovnik
RELATED-TO:fpp-AFLABS-URNIK:srecanje:1674
X-WR-TIMEZONE:Europe/Ljubljana
END:VEVENT
BEGIN:VEVENT
SUMMARY:Sodobne tehnologije v zračnem prometu (PTTL) (STZP)\, Predavanje 
 (P)
DTSTART;TZID=Europe/Ljubljana:20260114T162000
DTEND;TZID=Europe/Ljubljana:20260114T175500
DTSTAMP:20260422T015627Z
UID:fpp-AFLABS-URNIK:premaknjeno-srecanje:33769
ATTENDEE:3. letnik (PTTL, SS)
ATTENDEE:3. letnik (PTTL, VS)
CATEGORIES:Entry,Standard
COLOR:darkgreen
DESCRIPTION:Predmet: Sodobne tehnologije v zračnem prometu (PTTL) (STZP)\
 , Predavanje (P)\nLetniki: 3. letnik (PTTL\, SS)\, 3. letnik (PTTL\, VS)\n
 Izvajalci: Bojan Beškovnik\nProstor: Videokonferenca
LOCATION:Videokonferenca
ORGANIZER:Bojan Beškovnik
RELATED-TO:fpp-AFLABS-URNIK:srecanje:1674
X-WR-TIMEZONE:Europe/Ljubljana
END:VEVENT
BEGIN:VEVENT
SUMMARY:Sodobne prometne tehnologije (PROM2) (SPT)\, Predavanje (P)
DTSTART;TZID=Europe/Ljubljana:20260108T162000
DTEND;TZID=Europe/Ljubljana:20260108T184500
DTSTAMP:20260422T015627Z
UID:fpp-AFLABS-URNIK:premaknjeno-srecanje:33754
ATTENDEE:1. letnik (PROM2)
CATEGORIES:Entry,Standard
COLOR:darkgreen
DESCRIPTION:Predmet: Sodobne prometne tehnologije (PROM2) (SPT)\, Predavan
 je (P)\nLetniki: 1. letnik (PROM2)\nIzvajalci: Bojan Beškovnik\nProstor: 
 Videokonferenca
LOCATION:Videokonferenca
ORGANIZER:Bojan Beškovnik
RELATED-TO:fpp-AFLABS-URNIK:srecanje:1672
X-WR-TIMEZONE:Europe/Ljubljana
END:VEVENT
BEGIN:VEVENT
SUMMARY:Sodobne prometne tehnologije (PROM2) (SPT)\, Predavanje (P)
DTSTART;TZID=Europe/Ljubljana:20260115T162000
DTEND;TZID=Europe/Ljubljana:20260115T184500
DTSTAMP:20260422T015627Z
UID:fpp-AFLABS-URNIK:premaknjeno-srecanje:33755
ATTENDEE:1. letnik (PROM2)
CATEGORIES:Entry,Standard
COLOR:darkgreen
DESCRIPTION:Predmet: Sodobne prometne tehnologije (PROM2) (SPT)\, Predavan
 je (P)\nLetniki: 1. letnik (PROM2)\nIzvajalci: Bojan Beškovnik\nProstor: 
 Videokonferenca
LOCATION:Videokonferenca
ORGANIZER:Bojan Beškovnik
RELATED-TO:fpp-AFLABS-URNIK:srecanje:1672
X-WR-TIMEZONE:Europe/Ljubljana
END:VEVENT
BEGIN:VEVENT
SUMMARY:Teorija logistike in oskrbovalnih verig (TPL-U) - izredni (TLOV-i)
 \, Predavanje (P)
DTSTART;TZID=Europe/Ljubljana:20260116T160000
DTEND;TZID=Europe/Ljubljana:20260116T182500
DTSTAMP:20260422T015627Z
UID:fpp-AFLABS-URNIK:premaknjeno-srecanje:32563
ATTENDEE:2. letnik - izredni (TPL-U)
CATEGORIES:Entry,Standard
COLOR:darkgreen
DESCRIPTION:Predmet: Teorija logistike in oskrbovalnih verig (TPL-U) - izr
 edni (TLOV-i)\, Predavanje (P)\nLetniki: 2. letnik - izredni (TPL-U)\nIzva
 jalci: Bojan Beškovnik\nProstor: Videokonferenca
LOCATION:Videokonferenca
ORGANIZER:Bojan Beškovnik
RELATED-TO:fpp-AFLABS-URNIK:srecanje:1366
X-WR-TIMEZONE:Europe/Ljubljana
END:VEVENT
BEGIN:VEVENT
SUMMARY:Teorija logistike in oskrbovalnih verig (TPL-U) - izredni (TLOV-i)
 \, Predavanje (P)
DTSTART;TZID=Europe/Ljubljana:20260117T090000
DTEND;TZID=Europe/Ljubljana:20260117T112500
DTSTAMP:20260422T015627Z
UID:fpp-AFLABS-URNIK:premaknjeno-srecanje:32564
ATTENDEE:2. letnik - izredni (TPL-U)
CATEGORIES:Entry,Standard
COLOR:darkgreen
DESCRIPTION:Predmet: Teorija logistike in oskrbovalnih verig (TPL-U) - izr
 edni (TLOV-i)\, Predavanje (P)\nLetniki: 2. letnik - izredni (TPL-U)\nIzva
 jalci: Bojan Beškovnik\nProstor: Videokonferenca
LOCATION:Videokonferenca
ORGANIZER:Bojan Beškovnik
RELATED-TO:fpp-AFLABS-URNIK:srecanje:1367
X-WR-TIMEZONE:Europe/Ljubljana
END:VEVENT
BEGIN:VEVENT
SUMMARY:Prometne tehnologije (PTTL) (PT)\, Kolokvij (K)
DTSTART;TZID=Europe/Ljubljana:20260122T100000
DTEND;TZID=Europe/Ljubljana:20260122T110000
DTSTAMP:20260422T015627Z
UID:fpp-AFLABS-URNIK:premaknjeno-srecanje:33981
ATTENDEE:2. letnik (PTTL, SS)
ATTENDEE:2. letnik (PTTL, VS)
CATEGORIES:Entry,Standard
COLOR:darkgreen
DESCRIPTION:Predmet: Prometne tehnologije (PTTL) (PT)\, Kolokvij (K)\nLetn
 iki: 2. letnik (PTTL\, SS)\, 2. letnik (PTTL\, VS)\nIzvajalci: Bojan Bešk
 ovnik\nProstor: 204
LOCATION:204
ORGANIZER:Bojan Beškovnik
RELATED-TO:fpp-AFLABS-URNIK:srecanje:1805
X-WR-TIMEZONE:Europe/Ljubljana
END:VEVENT
BEGIN:VEVENT
SUMMARY:Intermodalni terminali (PROM2) (InT)\, Predavanje (P)
DTSTART;TZID=Europe/Ljubljana:20260216T162000
DTEND;TZID=Europe/Ljubljana:20260216T184500
DTSTAMP:20260422T015627Z
UID:fpp-AFLABS-URNIK:premaknjeno-srecanje:33770
ATTENDEE:1. letnik (PROM2)
CATEGORIES:Entry,Standard
COLOR:darkgreen
DESCRIPTION:Predmet: Intermodalni terminali (PROM2) (InT)\, Predavanje (P)
 \nLetniki: 1. letnik (PROM2)\nIzvajalci: Bojan Beškovnik\nProstor: Videok
 onferenca
LOCATION:Videokonferenca
ORGANIZER:Bojan Beškovnik
RELATED-TO:fpp-AFLABS-URNIK:srecanje:1675
X-WR-TIMEZONE:Europe/Ljubljana
END:VEVENT
BEGIN:VEVENT
SUMMARY:Intermodalni terminali (PROM2) (InT)\, Predavanje (P)
DTSTART;TZID=Europe/Ljubljana:20260223T162000
DTEND;TZID=Europe/Ljubljana:20260223T184500
DTSTAMP:20260422T015627Z
UID:fpp-AFLABS-URNIK:premaknjeno-srecanje:33771
ATTENDEE:1. letnik (PROM2)
CATEGORIES:Entry,Standard
COLOR:darkgreen
DESCRIPTION:Predmet: Intermodalni terminali (PROM2) (InT)\, Predavanje (P)
 \nLetniki: 1. letnik (PROM2)\nIzvajalci: Bojan Beškovnik\nProstor: Videok
 onferenca
LOCATION:Videokonferenca
ORGANIZER:Bojan Beškovnik
RELATED-TO:fpp-AFLABS-URNIK:srecanje:1675
X-WR-TIMEZONE:Europe/Ljubljana
END:VEVENT
BEGIN:VEVENT
SUMMARY:Intermodalni terminali (PROM2) (InT)\, Seminar (S)
DTSTART;TZID=Europe/Ljubljana:20260216T185000
DTEND;TZID=Europe/Ljubljana:20260216T202500
DTSTAMP:20260422T015627Z
UID:fpp-AFLABS-URNIK:premaknjeno-srecanje:33772
ATTENDEE:1. letnik (PROM2)
CATEGORIES:Entry,Standard
COLOR:darkgreen
DESCRIPTION:Predmet: Intermodalni terminali (PROM2) (InT)\, Seminar (S)\nL
 etniki: 1. letnik (PROM2)\nIzvajalci: Bojan Beškovnik\nProstor: Videokonf
 erenca
LOCATION:Videokonferenca
ORGANIZER:Bojan Beškovnik
RELATED-TO:fpp-AFLABS-URNIK:srecanje:1676
X-WR-TIMEZONE:Europe/Ljubljana
END:VEVENT
BEGIN:VEVENT
SUMMARY:Intermodalni terminali (PROM2) (InT)\, Seminar (S)
DTSTART;TZID=Europe/Ljubljana:20260223T185000
DTEND;TZID=Europe/Ljubljana:20260223T202500
DTSTAMP:20260422T015627Z
UID:fpp-AFLABS-URNIK:premaknjeno-srecanje:33773
ATTENDEE:1. letnik (PROM2)
CATEGORIES:Entry,Standard
COLOR:darkgreen
DESCRIPTION:Predmet: Intermodalni terminali (PROM2) (InT)\, Seminar (S)\nL
 etniki: 1. letnik (PROM2)\nIzvajalci: Bojan Beškovnik\nProstor: Videokonf
 erenca
LOCATION:Videokonferenca
ORGANIZER:Bojan Beškovnik
RELATED-TO:fpp-AFLABS-URNIK:srecanje:1676
X-WR-TIMEZONE:Europe/Ljubljana
END:VEVENT
BEGIN:VEVENT
SUMMARY:Tehnologija prometa (TPL-U) (TP)\, Predavanje (P)
DTSTART;TZID=Europe/Ljubljana:20260218T085000
DTEND;TZID=Europe/Ljubljana:20260218T111500
DTSTAMP:20260422T015627Z
UID:fpp-AFLABS-URNIK:premaknjeno-srecanje:33774
ATTENDEE:2. letnik (TPL-U)
CATEGORIES:Entry,Standard
COLOR:darkgreen
DESCRIPTION:Predmet: Tehnologija prometa (TPL-U) (TP)\, Predavanje (P)\nLe
 tniki: 2. letnik (TPL-U)\nIzvajalci: Bojan Beškovnik\nProstor: Videokonfe
 renca
LOCATION:Videokonferenca
ORGANIZER:Bojan Beškovnik
RELATED-TO:fpp-AFLABS-URNIK:srecanje:1677
X-WR-TIMEZONE:Europe/Ljubljana
END:VEVENT
BEGIN:VEVENT
SUMMARY:Tehnologija prometa (TPL-U) (TP)\, Predavanje (P)
DTSTART;TZID=Europe/Ljubljana:20260225T085000
DTEND;TZID=Europe/Ljubljana:20260225T111500
DTSTAMP:20260422T015627Z
UID:fpp-AFLABS-URNIK:premaknjeno-srecanje:33775
ATTENDEE:2. letnik (TPL-U)
CATEGORIES:Entry,Standard
COLOR:darkgreen
DESCRIPTION:Predmet: Tehnologija prometa (TPL-U) (TP)\, Predavanje (P)\nLe
 tniki: 2. letnik (TPL-U)\nIzvajalci: Bojan Beškovnik\nProstor: Videokonfe
 renca
LOCATION:Videokonferenca
ORGANIZER:Bojan Beškovnik
RELATED-TO:fpp-AFLABS-URNIK:srecanje:1677
X-WR-TIMEZONE:Europe/Ljubljana
END:VEVENT
BEGIN:VEVENT
SUMMARY:Teorija logistike in oskrbovalnih verig (TPL-U) (TLOV)\, Predavanj
 e (P)
DTSTART;TZID=Europe/Ljubljana:20260219T085000
DTEND;TZID=Europe/Ljubljana:20260219T111500
DTSTAMP:20260422T015627Z
UID:fpp-AFLABS-URNIK:premaknjeno-srecanje:33784
ATTENDEE:2. letnik (TPL-U)
CATEGORIES:Entry,Standard
COLOR:darkgreen
DESCRIPTION:Predmet: Teorija logistike in oskrbovalnih verig (TPL-U) (TLOV
 )\, Predavanje (P)\nLetniki: 2. letnik (TPL-U)\nIzvajalci: Bojan Beškovni
 k\nProstor: Videokonferenca
LOCATION:Videokonferenca
ORGANIZER:Bojan Beškovnik
RELATED-TO:fpp-AFLABS-URNIK:srecanje:1679
X-WR-TIMEZONE:Europe/Ljubljana
END:VEVENT
BEGIN:VEVENT
SUMMARY:Teorija logistike in oskrbovalnih verig (TPL-U) (TLOV)\, Predavanj
 e (P)
DTSTART;TZID=Europe/Ljubljana:20260226T085000
DTEND;TZID=Europe/Ljubljana:20260226T111500
DTSTAMP:20260422T015627Z
UID:fpp-AFLABS-URNIK:premaknjeno-srecanje:33785
ATTENDEE:2. letnik (TPL-U)
CATEGORIES:Entry,Standard
COLOR:darkgreen
DESCRIPTION:Predmet: Teorija logistike in oskrbovalnih verig (TPL-U) (TLOV
 )\, Predavanje (P)\nLetniki: 2. letnik (TPL-U)\nIzvajalci: Bojan Beškovni
 k\nProstor: Videokonferenca
LOCATION:Videokonferenca
ORGANIZER:Bojan Beškovnik
RELATED-TO:fpp-AFLABS-URNIK:srecanje:1679
X-WR-TIMEZONE:Europe/Ljubljana
END:VEVENT
BEGIN:VEVENT
SUMMARY:Intermodalni terminali (PROM2) (InT)\, Predavanje (P)
DTSTART;TZID=Europe/Ljubljana:20260302T162000
DTEND;TZID=Europe/Ljubljana:20260302T184500
DTSTAMP:20260422T015627Z
UID:fpp-AFLABS-URNIK:premaknjeno-srecanje:30888
ATTENDEE:1. letnik (PROM2)
CATEGORIES:Entry,Standard
COLOR:darkgreen
DESCRIPTION:Predmet: Intermodalni terminali (PROM2) (InT)\, Predavanje (P)
 \nLetniki: 1. letnik (PROM2)\nIzvajalci: Bojan Beškovnik\nProstor: 205
LOCATION:205
ORGANIZER:Bojan Beškovnik
RELATED-TO:fpp-AFLABS-URNIK:srecanje:927
X-WR-TIMEZONE:Europe/Ljubljana
END:VEVENT
BEGIN:VEVENT
SUMMARY:Intermodalni terminali (PROM2) (InT)\, Predavanje (P)
DTSTART;TZID=Europe/Ljubljana:20260309T162000
DTEND;TZID=Europe/Ljubljana:20260309T184500
DTSTAMP:20260422T015627Z
UID:fpp-AFLABS-URNIK:premaknjeno-srecanje:30889
ATTENDEE:1. letnik (PROM2)
CATEGORIES:Entry,Standard
COLOR:darkgreen
DESCRIPTION:Predmet: Intermodalni terminali (PROM2) (InT)\, Predavanje (P)
 \nLetniki: 1. letnik (PROM2)\nIzvajalci: Bojan Beškovnik\nProstor: 205
LOCATION:205
ORGANIZER:Bojan Beškovnik
RELATED-TO:fpp-AFLABS-URNIK:srecanje:927
X-WR-TIMEZONE:Europe/Ljubljana
END:VEVENT
BEGIN:VEVENT
SUMMARY:Intermodalni terminali (PROM2) (InT)\, Seminar (S)
DTSTART;TZID=Europe/Ljubljana:20260302T185000
DTEND;TZID=Europe/Ljubljana:20260302T202500
DTSTAMP:20260422T015627Z
UID:fpp-AFLABS-URNIK:premaknjeno-srecanje:30902
ATTENDEE:1. letnik (PROM2)
CATEGORIES:Entry,Standard
COLOR:darkgreen
DESCRIPTION:Predmet: Intermodalni terminali (PROM2) (InT)\, Seminar (S)\nL
 etniki: 1. letnik (PROM2)\nIzvajalci: Bojan Beškovnik\nProstor: 205
LOCATION:205
ORGANIZER:Bojan Beškovnik
RELATED-TO:fpp-AFLABS-URNIK:srecanje:928
X-WR-TIMEZONE:Europe/Ljubljana
END:VEVENT
BEGIN:VEVENT
SUMMARY:Intermodalni terminali (PROM2) (InT)\, Seminar (S)
DTSTART;TZID=Europe/Ljubljana:20260309T185000
DTEND;TZID=Europe/Ljubljana:20260309T202500
DTSTAMP:20260422T015627Z
UID:fpp-AFLABS-URNIK:premaknjeno-srecanje:30903
ATTENDEE:1. letnik (PROM2)
CATEGORIES:Entry,Standard
COLOR:darkgreen
DESCRIPTION:Predmet: Intermodalni terminali (PROM2) (InT)\, Seminar (S)\nL
 etniki: 1. letnik (PROM2)\nIzvajalci: Bojan Beškovnik\nProstor: 205
LOCATION:205
ORGANIZER:Bojan Beškovnik
RELATED-TO:fpp-AFLABS-URNIK:srecanje:928
X-WR-TIMEZONE:Europe/Ljubljana
END:VEVENT
BEGIN:VEVENT
SUMMARY:Tehnologija prometa (TPL-U) (TP)\, Predavanje (P)
DTSTART;TZID=Europe/Ljubljana:20260304T085000
DTEND;TZID=Europe/Ljubljana:20260304T111500
DTSTAMP:20260422T015627Z
UID:fpp-AFLABS-URNIK:premaknjeno-srecanje:25486
ATTENDEE:2. letnik (TPL-U)
CATEGORIES:Entry,Standard
COLOR:darkgreen
DESCRIPTION:Predmet: Tehnologija prometa (TPL-U) (TP)\, Predavanje (P)\nLe
 tniki: 2. letnik (TPL-U)\nIzvajalci: Bojan Beškovnik\nProstor: 204
LOCATION:204
ORGANIZER:Bojan Beškovnik
RELATED-TO:fpp-AFLABS-URNIK:srecanje:1045
X-WR-TIMEZONE:Europe/Ljubljana
END:VEVENT
BEGIN:VEVENT
SUMMARY:Teorija logistike in oskrbovalnih verig (TPL-U) (TLOV)\, Predavanj
 e (P)
DTSTART;TZID=Europe/Ljubljana:20260305T085000
DTEND;TZID=Europe/Ljubljana:20260305T111500
DTSTAMP:20260422T015627Z
UID:fpp-AFLABS-URNIK:premaknjeno-srecanje:26296
ATTENDEE:2. letnik (TPL-U)
CATEGORIES:Entry,Standard
COLOR:darkgreen
DESCRIPTION:Predmet: Teorija logistike in oskrbovalnih verig (TPL-U) (TLOV
 )\, Predavanje (P)\nLetniki: 2. letnik (TPL-U)\nIzvajalci: Bojan Beškovni
 k\nProstor: 204
LOCATION:204
ORGANIZER:Bojan Beškovnik
RELATED-TO:fpp-AFLABS-URNIK:srecanje:1049
X-WR-TIMEZONE:Europe/Ljubljana
END:VEVENT
END:VCALENDAR
